Workbook

Sheet List of Tables
A1: High School Benchmarks Report
A2: September 2026
A3: Tab | B3: List of Tables
A4: 1 Public Non-Charter Overall | B4: ='1 Public Non-Charter Overall'!A3 -> Table 1. Rates of College Enrollment in the First Fall after High School Graduation for Class of 2025
B5: ='1 Public Non-Charter Overall'!A20 -> Table 2. Rates of College Enrollment in the First Fall after High School Graduation for Class of 2024
B6: ='1 Public Non-Charter Overall'!A37 -> Table 3. Rates of College Enrollment in the First Year after High School Graduation for Class of 2024
B7: ='1 Public Non-Charter Overall'!A54 -> Table 4. Rates of College Enrollment in the First Year after High School Graduation for Class of 2023
B8: ='1 Public Non-Charter Overall'!A71 -> Table 5. Rates of College Enrollment in the First Two Years after High School Graduation for Class of 2023
B9: ='1 Public Non-Charter Overall'!A88 -> Table 6. Rates of College Enrollment in the First Two Years after High School Graduation for Class of 2022
B10: ='1 Public Non-Charter Overall'!A105 -> Table 7. Persistence Rates from First to Second Year of College for Class of 2023
B11: ='1 Public Non-Charter Overall'!A122 -> Table 8. Persistence Rates from First to Second Year of College for Class of 2022
B12: ='1 Public Non-Charter Overall'!A139 -> Table 9. Six-Year Completion Rates for Class of 2019
B13: ='1 Public Non-Charter Overall'!A156 -> Table 10. Six-Year Completion Rates for Class of 2018
B14: ='1 Public Non-Charter Overall'!A173 -> Table 11. Six-Year Completion Rates for Class of 2019, STEM
B15: ='1 Public Non-Charter Overall'!A184 -> Table 12. Six-Year STEM Completers by Field of Study, Class of 2019
B16: ='1 Public Non-Charter Overall'!A203 -> Table 13. Rates of College Enrollment in the First Fall after High School Graduation for Class of 2025 by Income and Minority Levels
B17: ='1 Public Non-Charter Overall'!A220 -> Table 14. Persistence Rates from First to Second Year of College for Class of 2023 by Income and Minority Levels
B18: ='1 Public Non-Charter Overall'!A237 -> Table 15. Six-Year College Completion Rates for Class of 2019 by Income and Minority Levels
A19: 2 Public Non-Charter Majors | B19: =REPLACE('2 Public Non-Charter Majors'!A4,9,1,"") -> Table 16. Top Five Majors for Students with First Fall Enrollment, Class of 2025
B20: =REPLACE('2 Public Non-Charter Majors'!A52,9,1,"") -> Table 17. Top Five Majors for Students with First Year Persistence, Class of 2023
B21: =REPLACE('2 Public Non-Charter Majors'!A100,9,1,"") -> Table 18. Top Five Majors for Students with Completion within Six Years, Class of 2019
A22: 3 Public Non-Charter Poverty | B22: =REPLACE('3 Public Non-Charter Poverty'!$A$4,9,1,"") -> Table 19. College Enrollment Rates in the First Fall after High School Graduation for Classes 2024 and 2025, School Percentile Distribution
B23: =REPLACE('3 Public Non-Charter Poverty'!$A$9,9,1,"") -> Table 20. College Enrollment Rates in the First Fall after High School Graduation for Classes 2024 and 2025, Student-Weighted Totals
B24: =REPLACE('3 Public Non-Charter Poverty'!$A$15,9,1,"") -> Table 21. College Enrollment Rates in the First Year after High School Graduation for Classes 2023 and 2024, School Percentile Distribution
B25: =REPLACE('3 Public Non-Charter Poverty'!$A$20,9,1,"") -> Table 22. College Enrollment Rates in the First Year after High School Graduation for Classes 2023 and 2024, Student-Weighted Totals
B26: =REPLACE('3 Public Non-Charter Poverty'!$A$26,9,1,"") -> Table 23. College Enrollment Rates in the First Two Years after High School Graduation for Classes 2022 and 2023, School Percentile Distribution
B27: =REPLACE('3 Public Non-Charter Poverty'!$A$31,9,1,"") -> Table 24. College Enrollment Rates in the First Two Years after High School Graduation for Classes 2022 and 2023, Student-Weighted Totals
B28: =REPLACE('3 Public Non-Charter Poverty'!$A$37,9,1,"") -> Table 25. Persistence Rates from First to Second Year of College for Class of 2022 and 2023, School Percentile Distribution
B29: =REPLACE('3 Public Non-Charter Poverty'!$A$42,9,1,"") -> Table 26. Persistence Rates from First to Second Year of College for Class of 2022 and 2023, Student-Weighted Totals
B30: =REPLACE('3 Public Non-Charter Poverty'!$A$48,9,1,"") -> Table 27. Six-Year Completion Rates for Class of 2018 and 2019, School Percentile Distribution
B31: =REPLACE('3 Public Non-Charter Poverty'!$A$53,9,1,"") -> Table 28. Six-Year Completion Rates for Class of 2018 and 2019, Student-Weighted Totals
A32: 4 Public Non-Charter Income | B32: =REPLACE('4 Public Non-Charter Income'!$A$4,9,1,"") -> Table 29. College Enrollment Rates in the First Fall after High School Graduation for Classes 2024 and 2025, School Percentile Distribution
B33: =REPLACE('4 Public Non-Charter Income'!$A$9,9,1,"") -> Table 30. College Enrollment Rates in the First Fall after High School Graduation for Classes 2024 and 2025, Student-Weighted Totals
B34: =REPLACE('4 Public Non-Charter Income'!$A$15,9,1,"") -> Table 31. College Enrollment Rates in the First Year after High School Graduation for Classes 2023 and 2024, School Percentile Distribution
B35: =REPLACE('4 Public Non-Charter Income'!$A$20,9,1,"") -> Table 32. College Enrollment Rates in the First Year after High School Graduation for Classes 2023 and 2024, Student-Weighted Totals
B36: =REPLACE('4 Public Non-Charter Income'!$A$26,9,1,"") -> Table 33. College Enrollment Rates in the First Two Years after High School Graduation for Classes 2022 and 2023, School Percentile Distribution
B37: =REPLACE('4 Public Non-Charter Income'!$A$31,9,1,"") -> Table 34. College Enrollment Rates in the First Two Years after High School Graduation for Classes 2022 and 2023, Student-Weighted Totals
B38: =REPLACE('4 Public Non-Charter Income'!$A$37,9,1,"") -> Table 35. Persistence Rates from First to Second Year of College for Class of 2022 and 2023, School Percentile Distribution
B39: =REPLACE('4 Public Non-Charter Income'!$A$42,9,1,"") -> Table 36. Persistence Rates from First to Second Year of College for Class of 2022 and 2023, Student-Weighted Totals
B40: =REPLACE('4 Public Non-Charter Income'!$A$48,9,1,"") -> Table 37. Six-Year Completion Rates for Class of 2018 and 2019, School Percentile Distribution
...

Sheet 1 Public Non-Charter Overall
A1: Enrollment, Persistence, and Completion Across High School and College Characteristics, Public Non-Charter High Schools
A3: Table 1. Rates of College Enrollment in the First Fall after High School Graduation for Class of 2025
B4: High-Poverty HS | C4: Low-Poverty HS | E4: Low-Income HS | F4: Higher-Income HS | H4: High-Minority HS | I4: Low-Minority HS | K4: Urban HS | L4: Suburban HS | M4: Rural HS
A5: Overall | B5: 230048 | C5: 290842 | E5: 507633 | F5: 847998 | H5: 572829 | I5: 782802 | K5: 408691 | L5: 596101 | M5: 350839
B6: 0.51164301 | C6: 0.7393411 | E6: 0.52580863 | F6: 0.63224408 | H6: 0.54371574 | I6: 0.62467292 | K6: 0.58720309 | L6: 0.62698767 | M6: 0.53161452
A7: Four-Year | B7: 129987 | C7: 236437 | E7: 300613 | F7: 628437 | H7: 354126 | I7: 574924 | K7: 276426 | L7: 427368 | M7: 225256
B8: 0.28910027 | C8: 0.60103971 | E8: 0.31137635 | F8: 0.46854541 | H8: 0.33612802 | I8: 0.45878709 | K8: 0.39716608 | L8: 0.44951185 | M8: 0.34132283
A9: Two-Year | B9: 100061 | C9: 54405 | E9: 207020 | F9: 219561 | H9: 218703 | I9: 207878 | K9: 132265 | L9: 168733 | M9: 125583
B10: 0.22254274 | C10: 0.13830139 | E10: 0.21443228 | F10: 0.16369867 | H10: 0.20758772 | I10: 0.16588583 | K10: 0.19003701 | L10: 0.17747581 | M10: 0.19029169
A11: Public | B11: 203989 | C11: 227472 | E11: 440883 | F11: 680138 | H11: 494644 | I11: 626377 | K11: 345128 | L11: 481164 | M11: 294729
B12: 0.45368595 | C12: 0.57825004 | E12: 0.45666867 | F12: 0.50709226 | H12: 0.46950439 | I12: 0.49984639 | K12: 0.49587641 | L12: 0.50609526 | M12: 0.44659292
A13: Private | B13: 26059 | C13: 63370 | E13: 66750 | F13: 167860 | H13: 78185 | I13: 156425 | K13: 63563 | L13: 114937 | M13: 56110
B14: 0.057957058 | C14: 0.16109106 | E14: 0.069139961 | F14: 0.12515182 | H14: 0.074211353 | I14: 0.12482654 | K14: 0.091326674 | L14: 0.1208924 | M14: 0.085021593
A15: In-State | B15: 208980 | C15: 196115 | E15: 449057 | F15: 636723 | H15: 498850 | I15: 586930 | K15: 337316 | L15: 459212 | M15: 289252
B16: 0.46478629 | C16: 0.49853831 | E16: 0.46513533 | F16: 0.47472322 | H16: 0.47349662 | I16: 0.46836783 | K16: 0.48465221 | L16: 0.48300583 | M16: 0.43829381
A17: Out-of-State | B17: 21068 | C17: 94727 | E17: 58576 | F17: 211275 | H17: 73979 | I17: 195872 | K17: 71375 | L17: 136889 | M17: 61587
B18: 0.046856721 | C18: 0.24080279 | E18: 0.060673294 | F18: 0.15752085 | H18: 0.070219117 | I18: 0.15630509 | K18: 0.10255088 | L18: 0.14398183 | M18: 0.093320706
A20: Table 2. Rates of College Enrollment in the First Fall after High School Graduation for Class of 2024
B21: High-Poverty HS | C21: Low-Poverty HS | E21: Low-Income HS | F21: Higher-Income HS | H21: High-Minority HS | I21: Low-Minority HS | K21: Urban HS | L21: Suburban HS | M21: Rural HS
A22: Overall | B22: 211545 | C22: 305389 | E22: 520357 | F22: 878047 | H22: 570579 | I22: 827825 | K22: 414583 | L22: 618044 | M22: 365777
B23: 0.5081149 | C23: 0.73087895 | E23: 0.52508804 | F23: 0.64095513 | H23: 0.54932718 | I23: 0.62609334 | K23: 0.59400951 | L23: 0.63161488 | M23: 0.53441792
A24: Four-Year | B24: 118935 | C24: 246183 | E24: 310185 | F24: 651866 | H24: 351986 | I24: 610065 | K24: 280865 | L24: 445171 | M24: 236015
B25: 0.28567277 | C25: 0.58918289 | E25: 0.31300518 | F25: 0.47584794 | H25: 0.33887591 | I25: 0.46139901 | K25: 0.40241998 | L25: 0.45494597 | M25: 0.34482935
A26: Two-Year | B26: 92610 | C26: 59206 | E26: 210172 | F26: 226181 | H26: 218593 | I26: 217760 | K26: 133718 | L26: 172873 | M26: 129762
B27: 0.22244213 | C27: 0.14169606 | E27: 0.21208287 | F27: 0.16510719 | H27: 0.21045127 | I27: 0.16469433 | K27: 0.19158953 | L27: 0.17666891 | M27: 0.18958857
A28: Public | B28: 187623 | C28: 239718 | E28: 451081 | F28: 702932 | H28: 492338 | I28: 661675 | K28: 348931 | L28: 498076 | M28: 307006
B29: 0.45065609 | C29: 0.57371039 | E29: 0.45518219 | F29: 0.51312501 | H29: 0.47400035 | I29: 0.50043223 | K29: 0.49994412 | L29: 0.50901265 | M29: 0.44855064
A30: Private | B30: 23922 | C30: 65671 | E30: 69276 | F30: 175115 | H30: 78241 | I30: 166150 | K30: 65652 | L30: 119968 | M30: 58771
B31: 0.057458813 | C31: 0.15716857 | E31: 0.069905852 | F31: 0.12783013 | H31: 0.075326831 | I31: 0.12566111 | K31: 0.094065392 | L31: 0.12260223 | M31: 0.085867278
A32: In-State | B32: 192700 | C32: 207586 | E32: 460527 | F32: 657528 | H32: 496276 | I32: 621779 | K32: 341541 | L32: 475867 | M32: 300647
B33: 0.46285065 | C33: 0.49680977 | E33: 0.46471407 | F33: 0.47998108 | H33: 0.47779167 | I33: 0.47025844 | K33: 0.48935582 | L33: 0.48631599 | M33: 0.43925983
A34: Out-of-State | B34: 18845 | C34: 97803 | E34: 59830 | F34: 220519 | H34: 74303 | I34: 206046 | K34: 73042 | L34: 142177 | M34: 65130
B35: 0.045264248 | C35: 0.23406918 | E35: 0.060373969 | F35: 0.16097405 | H35: 0.071535506 | I35: 0.1558349 | K35: 0.1046537 | L35: 0.14529889 | M35: 0.095158085
A37: Table 3. Rates of College Enrollment in the First Year after High School Graduation for Class of 2024
B38: High-Poverty HS | C38: Low-Poverty HS | E38: Low-Income HS | F38: Higher-Income HS | H38: High-Minority HS | I38: Low-Minority HS | K38: Urban HS | L38: Suburban HS | M38: Rural HS
A39: Overall | B39: 227500 | C39: 315852 | E39: 558708 | F39: 917633 | H39: 611985 | I39: 864356 | K39: 438956 | L39: 651241 | M39: 386144
B40: 0.54643759 | C40: 0.75591976 | E40: 0.56378773 | F40: 0.66985205 | H40: 0.58919097 | I40: 0.65372215 | K40: 0.62893085 | L40: 0.66554081 | M40: 0.56417509
A41: Four-Year | B41: 124451 | C41: 253034 | E41: 325570 | F41: 672682 | H41: 369323 | I41: 628929 | K41: 291301 | L41: 461353 | M41: 245598
B42: 0.29892178 | C42: 0.6055792 | E42: 0.32853006 | F42: 0.49104317 | H42: 0.35556717 | I42: 0.47566606 | K42: 0.41737255 | L42: 0.47148329 | M42: 0.35883058
A43: Two-Year | B43: 103049 | C43: 62818 | E43: 233138 | F43: 244951 | H43: 242662 | I43: 235427 | K43: 147655 | L43: 189888 | M43: 140546
...

Sheet 2 Public Non-Charter Majors
A1: Top Five Majors Across College Level, Public Non-Charter High Schools
A3: At Two-Year Colleges | F3: At Four-Year Colleges
A4: Table 16a. Top Five Majors for Students with First Fall Enrollment, Class of 2025 | F4: Table 16b. Top Five Majors for Students with First Fall Enrollment, Class of 2025
B5: Major | C5: Count | D5: Share | G5: Major | H5: Count | I5: Share
A6: High-Poverty HS | B6: Liberal Arts and Sciences, General Studies and Humanities | C6: 22,129 | D6: 0.2211551 | F6: High-Poverty HS | G6: Liberal Arts and Sciences, General Studies and Humanities | H6: 18,390 | I6: 0.14147569
B7: Health Professions and Related Clinical Sciences | C7: 11,352 | D7: 0.1134508 | G7: Business, Management, Marketing, and Related Support | H7: 16,397 | I7: 0.12614338
B8: Business, Management, Marketing, and Related Support | C8: 8,428 | D8: 0.084228621 | G8: Health Professions and Related Clinical Sciences | H8: 13,737 | I8: 0.1056798
B9: Mechanic and Repair Technologies/Technicians | C9: 3,700 | D9: 0.036977444 | G9: Biological and Biomedical Sciences | H9: 10,887 | I9: 0.083754529
B10: Security and Protective Services | C10: 3,495 | D10: 0.034928693 | G10: Engineering | H10: 8,249 | I10: 0.063460192
A11: Low-Poverty HS | B11: Liberal Arts and Sciences, General Studies and Humanities | C11: 18,364 | D11: 0.33754251 | F11: Low-Poverty HS | G11: Business, Management, Marketing, and Related Support | H11: 39,395 | I11: 0.16661944
B12: Business, Management, Marketing, and Related Support | C12: 6,325 | D12: 0.1162577 | G12: Liberal Arts and Sciences, General Studies and Humanities | H12: 37,990 | I12: 0.16067705
B13: Health Professions and Related Clinical Sciences | C13: 4,253 | D13: 0.078172962 | G13: Engineering | H13: 22,335 | I13: 0.09446491
B14: Security and Protective Services | C14: 1,739 | D14: 0.031963974 | G14: Biological and Biomedical Sciences | H14: 19,287 | I14: 0.081573527
B15: Computer and Information Sciences and Support Services | C15: 1,711 | D15: 0.031449315 | G15: Health Professions and Related Clinical Sciences | H15: 18,197 | I15: 0.076963419
A16: Low-Income HS | B16: Liberal Arts and Sciences, General Studies and Humanities | C16: 52,477 | D16: 0.25348759 | F16: Low-Income HS | G16: Liberal Arts and Sciences, General Studies and Humanities | H16: 44,835 | I16: 0.14914525
B17: Health Professions and Related Clinical Sciences | C17: 23,260 | D17: 0.11235629 | G17: Business, Management, Marketing, and Related Support | H17: 36,419 | I17: 0.12114912
B18: Business, Management, Marketing, and Related Support | C18: 17,915 | D18: 0.086537533 | G18: Health Professions and Related Clinical Sciences | H18: 31,227 | I18: 0.10387774
B19: Mechanic and Repair Technologies/Technicians | C19: 7,063 | D19: 0.034117477 | G19: Biological and Biomedical Sciences | H19: 25,452 | I19: 0.084666997
B20: Security and Protective Services | C20: 6,874 | D20: 0.033204521 | G20: Engineering | H20: 20,790 | I20: 0.069158686
A21: Higher-Income HS | B21: Liberal Arts and Sciences, General Studies and Humanities | C21: 70,278 | D21: 0.32008417 | F21: Higher-Income HS | G21: Business, Management, Marketing, and Related Support | H21: 93,447 | I21: 0.14869748
B22: Business, Management, Marketing, and Related Support | C22: 22,097 | D22: 0.10064174 | G22: Liberal Arts and Sciences, General Studies and Humanities | H22: 91,865 | I22: 0.14618013
B23: Health Professions and Related Clinical Sciences | C23: 21,859 | D23: 0.099557754 | G23: Health Professions and Related Clinical Sciences | H23: 55,602 | I23: 0.088476649
B24: Security and Protective Services | C24: 6,737 | D24: 0.030683956 | G24: Engineering | H24: 55,316 | I24: 0.088021552
B25: Computer and Information Sciences and Support Services | C25: 6,574 | D25: 0.029941565 | G25: Biological and Biomedical Sciences | H25: 52,463 | I25: 0.083481717
A26: High-Minority HS | B26: Liberal Arts and Sciences, General Studies and Humanities | C26: 56,514 | D26: 0.25840523 | F26: High-Minority HS | G26: Liberal Arts and Sciences, General Studies and Humanities | H26: 53,437 | I26: 0.15089827
B27: Health Professions and Related Clinical Sciences | C27: 23,524 | D27: 0.1075614 | G27: Business, Management, Marketing, and Related Support | H27: 43,971 | I27: 0.12416767
B28: Business, Management, Marketing, and Related Support | C28: 19,986 | D28: 0.091384206 | G28: Health Professions and Related Clinical Sciences | H28: 34,491 | I28: 0.097397536
B29: Security and Protective Services | C29: 7,392 | D29: 0.033799262 | G29: Biological and Biomedical Sciences | H29: 30,946 | I29: 0.087386975
B30: Mechanic and Repair Technologies/Technicians | C30: 6,696 | D30: 0.030616864 | G30: Engineering | H30: 26,157 | I30: 0.07386354
A31: Low-Minority HS | B31: Liberal Arts and Sciences, General Studies and Humanities | C31: 66,241 | D31: 0.31865325 | F31: Low-Minority HS | G31: Business, Management, Marketing, and Related Support | H31: 85,895 | I31: 0.14940236
B32: Health Professions and Related Clinical Sciences | C32: 21,595 | D32: 0.10388305 | G32: Liberal Arts and Sciences, General Studies and Humanities | H32: 83,263 | I32: 0.14482436
B33: Business, Management, Marketing, and Related Support | C33: 20,026 | D33: 0.096335351 | G33: Health Professions and Related Clinical Sciences | H33: 52,338 | I33: 0.091034641
B34: Mechanic and Repair Technologies/Technicians | C34: 6,868 | D34: 0.033038609 | G34: Engineering | H34: 49,949 | I34: 0.086879309
B35: Security and Protective Services | C35: 6,219 | D35: 0.029916586 | G35: Biological and Biomedical Sciences | H35: 46,969 | I35: 0.081696015
A36: Urban HS | B36: Liberal Arts and Sciences, General Studies and Humanities | C36: 33,415 | D36: 0.25263675 | F36: Urban HS | G36: Liberal Arts and Sciences, General Studies and Humanities | H36: 43,598 | I36: 0.15772033
B37: Business, Management, Marketing, and Related Support | C37: 13,219 | D37: 0.099943296 | G37: Business, Management, Marketing, and Related Support | H37: 36,492 | I37: 0.13201363
B38: Health Professions and Related Clinical Sciences | C38: 13,111 | D38: 0.099126753 | G38: Health Professions and Related Clinical Sciences | H38: 23,831 | I38: 0.086211138
B39: Security and Protective Services | C39: 4,264 | D39: 0.032238309 | G39: Biological and Biomedical Sciences | H39: 23,535 | I39: 0.085140327
B40: Biological and Biomedical Sciences | C40: 4,008 | D40: 0.030302801 | G40: Engineering | H40: 23,335 | I40: 0.084416806
A41: Suburban HS | B41: Liberal Arts and Sciences, General Studies and Humanities | C41: 50,413 | D41: 0.2987738 | F41: Suburban HS | G41: Liberal Arts and Sciences, General Studies and Humanities | H41: 64,352 | I41: 0.15057749
...

Sheet 3 Public Non-Charter Poverty
A1: Postsecondary Enrollment, Persistence, and Completion Across High School Poverty Level
A2: High-Poverty High Schools | N2: Low-Poverty High Schools
A4: =CONCATENATE("Table 19a. College Enrollment Rates in the First Fall after High School Graduation for Classes ",A6," and ",A7,", School Percentile Distribution") -> Table 19a. College Enrollment Rates in the First Fall after High School Graduation for Classes 2024 and 2025, School Percentile Distribution | N4: =CONCATENATE("Table 19b. College Enrollment Rates in the First Fall after High School Graduation for Classes ",N6," and ",N7,", School Percentile Distribution") -> Table 19b. College Enrollment Rates in the First Fall after High School Graduation for Classes 2024 and 2025, School Percentile Distribution
B5: N of schools | C5: 25th percentile | D5: 50th percentile | E5: 75th percentile | O5: N of schools | P5: 25th percentile | Q5: 50th percentile | R5: 75th percentile
A6: 2024 | B6: 2542 | C6: 0.36263736 | D6: 0.47256511 | E6: 0.6 | N6: 2024 | O6: 1652 | P6: 0.60515259 | Q6: 0.72120647 | R6: 0.81370237
A7: 2025 | B7: 2483 | C7: 0.38656716 | D7: 0.48972603 | E7: 0.60187354 | N7: 2025 | O7: 1542 | P7: 0.61818182 | Q7: 0.7238753 | R7: 0.81168831
A9: =CONCATENATE("Table 20a. College Enrollment Rates in the First Fall after High School Graduation for Classes ",A11," and ",A12,", Student-Weighted Totals") -> Table 20a. College Enrollment Rates in the First Fall after High School Graduation for Classes 2024 and 2025, Student-Weighted Totals | N9: =CONCATENATE("Table 20b. College Enrollment Rates in the First Fall after High School Graduation for Classes ",N11," and ",N12,", Student-Weighted Totals") -> Table 20b. College Enrollment Rates in the First Fall after High School Graduation for Classes 2024 and 2025, Student-Weighted Totals
B10: N of total HS Graduates | C10: Total | D10: Public | E10: Private | F10: Two-year | G10: Four-year | H10: In-state | I10: Out-of-state | O10: N of total HS Graduates | P10: Total | Q10: Public | R10: Private | S10: Two-year | T10: Four-year | U10: In-state | V10: Out-of-state
A11: 2024 | B11: 416333 | C11: 0.5081149 | D11: 0.45065609 | E11: 0.057458813 | F11: 0.22244213 | G11: 0.28567277 | H11: 0.46285065 | I11: 0.045264248 | N11: 2024 | O11: 417838 | P11: 0.73087895 | Q11: 0.57371039 | R11: 0.15716857 | S11: 0.14169606 | T11: 0.58918289 | U11: 0.49680977 | V11: 0.23406918
A12: 2025 | B12: 449626 | C12: 0.51164301 | D12: 0.45368595 | E12: 0.057957058 | F12: 0.22254274 | G12: 0.28910027 | H12: 0.46478629 | I12: 0.046856721 | N12: 2025 | O12: 393380 | P12: 0.7393411 | Q12: 0.57825004 | R12: 0.16109106 | S12: 0.13830139 | T12: 0.60103971 | U12: 0.49853831 | V12: 0.24080279
A15: =CONCATENATE("Table 21a. College Enrollment Rates in the First Year after High School Graduation for Classes ",A17," and ",A18,", School Percentile Distribution") -> Table 21a. College Enrollment Rates in the First Year after High School Graduation for Classes 2023 and 2024, School Percentile Distribution | N15: =CONCATENATE("Table 21b. College Enrollment Rates in the First Year after High School Graduation for Classes ",N17," and ",N18,", School Percentile Distribution") -> Table 21b. College Enrollment Rates in the First Year after High School Graduation for Classes 2023 and 2024, School Percentile Distribution
B16: N of schools | C16: 25th percentile | D16: 50th percentile | E16: 75th percentile | O16: N of schools | P16: 25th percentile | Q16: 50th percentile | R16: 75th percentile
A17: 2023 | B17: 2478 | C17: 0.39705882 | D17: 0.52149315 | E17: 0.64772727 | N17: 2023 | O17: 1998 | P17: 0.60869565 | Q17: 0.72727273 | R17: 0.83105023
A18: 2024 | B18: 2542 | C18: 0.39634146 | D18: 0.51162791 | E18: 0.63636364 | N18: 2024 | O18: 1652 | P18: 0.62912287 | Q18: 0.74755441 | R18: 0.83333333
A20: =CONCATENATE("Table 22a. College Enrollment Rates in the First Year after High School Graduation for Classes ",A22," and ",A23,", Student-Weighted Totals") -> Table 22a. College Enrollment Rates in the First Year after High School Graduation for Classes 2023 and 2024, Student-Weighted Totals | N20: =CONCATENATE("Table 22b. College Enrollment Rates in the First Year after High School Graduation for Classes ",N22," and ",N23,", Student-Weighted Totals") -> Table 22b. College Enrollment Rates in the First Year after High School Graduation for Classes 2023 and 2024, Student-Weighted Totals
B21: N of total HS Graduates | C21: Total | D21: Public | E21: Private | F21: Two-year | G21: Four-year | H21: In-state | I21: Out-of-state | O21: N of total HS Graduates | P21: Total | Q21: Public | R21: Private | S21: Two-year | T21: Four-year | U21: In-state | V21: Out-of-state
A22: 2023 | B22: 393445 | C22: 0.54974393 | D22: 0.48412358 | E22: 0.065620354 | F22: 0.24267687 | G22: 0.30706706 | H22: 0.49701229 | I22: 0.05273164 | N22: 2023 | O22: 488265 | P22: 0.74711478 | Q22: 0.58546281 | R22: 0.16165197 | S22: 0.1513338 | T22: 0.59578098 | U22: 0.51532262 | V22: 0.23179216
A23: 2024 | B23: 416333 | C23: 0.54643759 | D23: 0.48424458 | E23: 0.062193004 | F23: 0.24751581 | G23: 0.29892178 | H23: 0.49643915 | I23: 0.049998439 | N23: 2024 | O23: 417838 | P23: 0.75591976 | Q23: 0.5948334 | R23: 0.16108635 | S23: 0.15034056 | T23: 0.6055792 | U23: 0.51672179 | V23: 0.23919797
A26: =CONCATENATE("Table 23a. College Enrollment Rates in the First Two Years after High School Graduation for Classes ",A28," and ",A29,", School Percentile Distribution") -> Table 23a. College Enrollment Rates in the First Two Years after High School Graduation for Classes 2022 and 2023, School Percentile Distribution | N26: =CONCATENATE("Table 23b. College Enrollment Rates in the First Two Years after High School Graduation for Classes ",N28," and ",N29,", School Percentile Distribution") -> Table 23b. College Enrollment Rates in the First Two Years after High School Graduation for Classes 2022 and 2023, School Percentile Distribution
B27: N of schools | C27: 25th percentile | D27: 50th percentile | E27: 75th percentile | O27: N of schools | P27: 25th percentile | Q27: 50th percentile | R27: 75th percentile
A28: 2022 | B28: 1958 | C28: 0.40540541 | D28: 0.52604449 | E28: 0.66145833 | N28: 2022 | O28: 2566 | P28: 0.61904762 | Q28: 0.734375 | R28: 0.832
A29: 2023 | B29: 2478 | C29: 0.43636364 | D29: 0.56229575 | E29: 0.68181818 | N29: 2023 | O29: 1998 | P29: 0.64697802 | Q29: 0.76005391 | R29: 0.85604607
A31: =CONCATENATE("Table 24a. College Enrollment Rates in the First Two Years after High School Graduation for Classes ",A33," and ",A34,", Student-Weighted Totals") -> Table 24a. College Enrollment Rates in the First Two Years after High School Graduation for Classes 2022 and 2023, Student-Weighted Totals | N31: =CONCATENATE("Table 24b. College Enrollment Rates in the First Two Years after High School Graduation for Classes ",N33," and ",N34,", Student-Weighted Totals") -> Table 24b. College Enrollment Rates in the First Two Years after High School Graduation for Classes 2022 and 2023, Student-Weighted Totals
B32: N of total HS Graduates | C32: Total | D32: Public | E32: Private | F32: Two-year | G32: Four-year | H32: In-state | I32: Out-of-state | O32: N of total HS Graduates | P32: Total | Q32: Public | R32: Private | S32: Two-year | T32: Four-year | U32: In-state | V32: Out-of-state
A33: 2022 | B33: 307075 | C33: 0.56616787 | D33: 0.50346007 | E33: 0.062707808 | F33: 0.27152976 | G33: 0.29463812 | H33: 0.51229179 | I33: 0.053876089 | N33: 2022 | O33: 609910 | P33: 0.75936778 | Q33: 0.59797019 | R33: 0.16139758 | S33: 0.19434343 | T33: 0.56502435 | U33: 0.52624322 | V33: 0.23312456
A34: 2023 | B34: 393445 | C34: 0.58700708 | D34: 0.5163873 | E34: 0.070619782 | F34: 0.26782905 | G34: 0.31917803 | H34: 0.5278476 | I34: 0.059159476 | N34: 2023 | O34: 488265 | P34: 0.77862226 | Q34: 0.61244201 | R34: 0.16618025 | S34: 0.16838602 | T34: 0.61023624 | U34: 0.53965572 | V34: 0.23896654
A37: =CONCATENATE("Table 25a. Persistence Rates from First to Second Year of College for Class of ",A39," and ",A40,", School Percentile Distribution") -> Table 25a. Persistence Rates from First to Second Year of College for Class of 2022 and 2023, School Percentile Distribution | N37: =CONCATENATE("Table 25b. Persistence Rates from First to Second Year of College for Class of ",N39," and ",N40,", School Percentile Distribution") -> Table 25b. Persistence Rates from First to Second Year of College for Class of 2022 and 2023, School Percentile Distribution
B38: N of schools | C38: 25th percentile | D38: 50th percentile | E38: 75th percentile | O38: N of schools | P38: 25th percentile | Q38: 50th percentile | R38: 75th percentile
A39: 2022 | B39: 1958 | C39: 0.63680927 | D39: 0.72727273 | E39: 0.8 | N39: 2022 | O39: 2566 | P39: 0.82007194 | Q39: 0.88888889 | R39: 0.93041264
A40: 2023 | B40: 2478 | C40: 0.65454545 | D40: 0.73954984 | E40: 0.80357143 | N40: 2023 | O40: 1998 | P40: 0.85326087 | Q40: 0.90384615 | R40: 0.93779904
A42: =CONCATENATE("Table 26a. Persistence Rates from First to Second Year of College for Class of ",A44," and ",A45,", Student-Weighted Totals") -> Table 26a. Persistence Rates from First to Second Year of College for Class of 2022 and 2023, Student-Weighted Totals | N42: =CONCATENATE("Table 26b. Persistence Rates from First to Second Year of College for Class of ",N44," and ",N45,", Student-Weighted Totals") -> Table 26b. Persistence Rates from First to Second Year of College for Class of 2022 and 2023, Student-Weighted Totals
B43: Students enrolled in first year | C43: Total | D43: Public | E43: Private | F43: Two-year | G43: Four-year | H43: In-state | I43: Out-of-state | O43: Students enrolled in first year | P43: Total | Q43: Public | R43: Private | S43: Two-year | T43: Four-year | U43: In-state | V43: Out-of-state
A44: 2022 | B44: 162222 | C44: 0.74312362 | D44: 0.73763582 | E44: 0.78784119 | F44: 0.65239645 | G44: 0.82232998 | H44: 0.73918934 | I44: 0.78293352 | N44: 2022 | O44: 442325 | P44: 0.89449839 | Q44: 0.88406198 | R44: 0.93249538 | S44: 0.75606391 | T44: 0.93841742 | U44: 0.87235898 | V44: 0.94369255
A45: 2023 | B45: 216294 | C45: 0.76006269 | D45: 0.75364875 | E45: 0.80738245 | F45: 0.66578341 | G45: 0.83457215 | H45: 0.75501542 | I45: 0.80763484 | N45: 2023 | O45: 364790 | P45: 0.90576496 | Q45: 0.89714232 | R45: 0.93699401 | S45: 0.76673749 | T45: 0.94107921 | U45: 0.88545152 | V45: 0.95092599
A48: =CONCATENATE("Table 27a. Six-Year Completion Rates for Class of ",,A50," and ",A51,", School Percentile Distribution") -> Table 27a. Six-Year Completion Rates for Class of 2018 and 2019, School Percentile Distribution | N48: =CONCATENATE("Table 27b. Six-Year Completion Rates for Class of ",N50," and ",N51,", School Percentile Distribution") -> Table 27b. Six-Year Completion Rates for Class of 2018 and 2019, School Percentile Distribution
B49: N of schools | C49: 25th percentile | D49: 50th percentile | E49: 75th percentile | O49: N of schools | P49: 25th percentile | Q49: 50th percentile | R49: 75th percentile
A50: 2018 | B50: 1897 | C50: 0.13793103 | D50: 0.22556391 | E50: 0.3025641 | N50: 2018 | O50: 2267 | P50: 0.46666667 | Q50: 0.56358382 | R50: 0.65986395
A51: 2019 | B51: 1886 | C51: 0.14285714 | D51: 0.22222222 | E51: 0.3015873 | N51: 2019 | O51: 2309 | P51: 0.45512821 | Q51: 0.55600815 | R51: 0.65517241
A53: =CONCATENATE("Table 28a. Six-Year Completion Rates for Class of ",A55," and ",A56, ", Student-Weighted Totals") -> Table 28a. Six-Year Completion Rates for Class of 2018 and 2019, Student-Weighted Totals | N53: =CONCATENATE("Table 28b. Six-Year Completion Rates for Class of ",,N55," and ",N56, ", Student-Weighted Totals") -> Table 28b. Six-Year Completion Rates for Class of 2018 and 2019, Student-Weighted Totals
B54: N of total HS Graduates | C54: Total | D54: Public | E54: Private | F54: Two-year | G54: Four-year | H54: In-state | I54: Out-of-state | O54: N of total HS Graduates | P54: Total | Q54: Public | R54: Private | S54: Two-year | T54: Four-year | U54: In-state | V54: Out-of-state
...

Sheet 4 Public Non-Charter Income
A1: Postsecondary Enrollment, Persistence, and Completion Across High School Income Level
A2: Low-Income High Schools | N2: Higher-Income High Schools
A4: =CONCATENATE("Table 29a. College Enrollment Rates in the First Fall after High School Graduation for Classes ",A6," and ",A7,", School Percentile Distribution") -> Table 29a. College Enrollment Rates in the First Fall after High School Graduation for Classes 2024 and 2025, School Percentile Distribution | N4: =CONCATENATE("Table 29b. College Enrollment Rates in the First Fall after High School Graduation for Classes ",N6," and ",N7,", School Percentile Distribution") -> Table 29b. College Enrollment Rates in the First Fall after High School Graduation for Classes 2024 and 2025, School Percentile Distribution
B5: N of schools | C5: 25th percentile | D5: 50th percentile | E5: 75th percentile | O5: N of schools | P5: 25th percentile | Q5: 50th percentile | R5: 75th percentile
A6: 2024 | B6: 5701 | C6: 0.38764045 | D6: 0.48763251 | E6: 0.59744409 | N6: 2024 | O6: 7115 | P6: 0.46774194 | Q6: 0.59259259 | R6: 0.71282051
A7: 2025 | B7: 5179 | C7: 0.39719626 | D7: 0.49863014 | E7: 0.60187354 | N7: 2025 | O7: 6844 | P7: 0.46666667 | Q7: 0.58434262 | R7: 0.70889047
A9: =CONCATENATE("Table 30a. College Enrollment Rates in the First Fall after High School Graduation for Classes ",A11," and ",A12,", Student-Weighted Totals") -> Table 30a. College Enrollment Rates in the First Fall after High School Graduation for Classes 2024 and 2025, Student-Weighted Totals | N9: =CONCATENATE("Table 30b. College Enrollment Rates in the First Fall after High School Graduation for Classes ",N11," and ",N12,", Student-Weighted Totals") -> Table 30b. College Enrollment Rates in the First Fall after High School Graduation for Classes 2024 and 2025, Student-Weighted Totals
B10: N of total HS Graduates | C10: Total | D10: Public | E10: Private | F10: Two-year | G10: Four-year | H10: In-state | I10: Out-of-state | O10: N of total HS Graduates | P10: Total | Q10: Public | R10: Private | S10: Two-year | T10: Four-year | U10: In-state | V10: Out-of-state
A11: 2024 | B11: 990990 | C11: 0.52508804 | D11: 0.45518219 | E11: 0.069905852 | F11: 0.21208287 | G11: 0.31300518 | H11: 0.46471407 | I11: 0.060373969 | N11: 2024 | O11: 1369904 | P11: 0.64095513 | Q11: 0.51312501 | R11: 0.12783013 | S11: 0.16510719 | T11: 0.47584794 | U11: 0.47998108 | V11: 0.16097405
A12: 2025 | B12: 965433 | C12: 0.52580863 | D12: 0.45666867 | E12: 0.069139961 | F12: 0.21443228 | G12: 0.31137635 | H12: 0.46513533 | I12: 0.060673294 | N12: 2025 | O12: 1341251 | P12: 0.63224408 | Q12: 0.50709226 | R12: 0.12515182 | S12: 0.16369867 | T12: 0.46854541 | U12: 0.47472322 | V12: 0.15752085
A15: =CONCATENATE("Table 31a. College Enrollment Rates in the First Year after High School Graduation for Classes ",A17," and ",A18,", School Percentile Distribution") -> Table 31a. College Enrollment Rates in the First Year after High School Graduation for Classes 2023 and 2024, School Percentile Distribution | N15: =CONCATENATE("Table 31b. College Enrollment Rates in the First Year after High School Graduation for Classes ",N17," and ",N18,", School Percentile Distribution") -> Table 31b. College Enrollment Rates in the First Year after High School Graduation for Classes 2023 and 2024, School Percentile Distribution
B16: N of schools | C16: 25th percentile | D16: 50th percentile | E16: 75th percentile | O16: N of schools | P16: 25th percentile | Q16: 50th percentile | R16: 75th percentile
A17: 2023 | B17: 5451 | C17: 0.42253521 | D17: 0.52941176 | E17: 0.64049587 | N17: 2023 | O17: 7380 | P17: 0.5 | Q17: 0.62068966 | R17: 0.74297553
A18: 2024 | B18: 5701 | C18: 0.42222222 | D18: 0.52380952 | E18: 0.63333333 | N18: 2024 | O18: 7115 | P18: 0.5 | Q18: 0.61607143 | R18: 0.73831776
A20: =CONCATENATE("Table 32a. College Enrollment Rates in the First Year after High School Graduation for Classes ",A22," and ",A23,", Student-Weighted Totals") -> Table 32a. College Enrollment Rates in the First Year after High School Graduation for Classes 2023 and 2024, Student-Weighted Totals | N20: =CONCATENATE("Table 32b. College Enrollment Rates in the First Year after High School Graduation for Classes ",N22," and ",N23,", Student-Weighted Totals") -> Table 32b. College Enrollment Rates in the First Year after High School Graduation for Classes 2023 and 2024, Student-Weighted Totals
B21: N of total HS Graduates | C21: Total | D21: Public | E21: Private | F21: Two-year | G21: Four-year | H21: In-state | I21: Out-of-state | O21: N of total HS Graduates | P21: Total | Q21: Public | R21: Private | S21: Two-year | T21: Four-year | U21: In-state | V21: Out-of-state
A22: 2023 | B22: 934312 | C22: 0.56609783 | D22: 0.49029981 | E22: 0.07579802 | F22: 0.23220937 | G22: 0.33388847 | H22: 0.50202823 | I22: 0.064069604 | N22: 2023 | O22: 1410061 | P22: 0.67350916 | Q22: 0.5378512 | R22: 0.13565796 | S22: 0.17580658 | T22: 0.49770258 | U22: 0.50455477 | V22: 0.16895439
A23: 2024 | B23: 990990 | C23: 0.56378773 | D23: 0.48913612 | E23: 0.074651611 | F23: 0.23525767 | G23: 0.32853006 | H23: 0.49823308 | I23: 0.065554647 | N23: 2024 | O23: 1369904 | P23: 0.66985205 | Q23: 0.53774498 | R23: 0.13210707 | S23: 0.17880888 | T23: 0.49104317 | U23: 0.50382436 | V23: 0.16602769
A26: =CONCATENATE("Table 33a. College Enrollment Rates in the First Two Years after High School Graduation for Classes ",A28," and ",A29,", School Percentile Distribution") -> Table 33a. College Enrollment Rates in the First Two Years after High School Graduation for Classes 2022 and 2023, School Percentile Distribution | N26: =CONCATENATE("Table 33b. College Enrollment Rates in the First Two Years after High School Graduation for Classes ",N28," and ",N29,", School Percentile Distribution") -> Table 33b. College Enrollment Rates in the First Two Years after High School Graduation for Classes 2022 and 2023, School Percentile Distribution
B27: N of schools | C27: 25th percentile | D27: 50th percentile | E27: 75th percentile | O27: N of schools | P27: 25th percentile | Q27: 50th percentile | R27: 75th percentile
A28: 2022 | B28: 4008 | C28: 0.43463268 | D28: 0.54166667 | E28: 0.6647435 | N28: 2022 | O28: 8744 | P28: 0.51557648 | Q28: 0.62921348 | R28: 0.75074796
A29: 2023 | B29: 5451 | C29: 0.46341463 | D29: 0.56737589 | E29: 0.67491166 | N29: 2023 | O29: 7380 | P29: 0.53555803 | Q29: 0.65732864 | R29: 0.77300613
A31: =CONCATENATE("Table 34a. College Enrollment Rates in the First Two Years after High School Graduation for Classes ",A33," and ",A34,", Student-Weighted Totals") -> Table 34a. College Enrollment Rates in the First Two Years after High School Graduation for Classes 2022 and 2023, Student-Weighted Totals | N31: =CONCATENATE("Table 34b. College Enrollment Rates in the First Two Years after High School Graduation for Classes ",N33," and ",N34,", Student-Weighted Totals") -> Table 34b. College Enrollment Rates in the First Two Years after High School Graduation for Classes 2022 and 2023, Student-Weighted Totals
B32: N of total HS Graduates | C32: Total | D32: Public | E32: Private | F32: Two-year | G32: Four-year | H32: In-state | I32: Out-of-state | O32: N of total HS Graduates | P32: Total | Q32: Public | R32: Private | S32: Two-year | T32: Four-year | U32: In-state | V32: Out-of-state
A33: 2022 | B33: 679854 | C33: 0.58636266 | D33: 0.51377355 | E33: 0.072589115 | F33: 0.26681023 | G33: 0.31955243 | H33: 0.51923354 | I33: 0.067129119 | N33: 2022 | O33: 1635859 | P33: 0.68919387 | Q33: 0.55457591 | R33: 0.13461796 | S33: 0.20046777 | T33: 0.48872611 | U33: 0.52077838 | V33: 0.16841549
A34: 2023 | B34: 934312 | C34: 0.6044726 | D34: 0.52377364 | E34: 0.080698953 | F34: 0.25755422 | G34: 0.34691837 | H34: 0.53367933 | I34: 0.070793268 | N34: 2023 | O34: 1410061 | P34: 0.7076318 | Q34: 0.56731234 | R34: 0.14031946 | S34: 0.19590358 | T34: 0.51172822 | U34: 0.53151885 | V34: 0.17611295
A37: =CONCATENATE("Table 35a. Persistence Rates from First to Second Year of College for Class of ",A39," and ",A40,", School Percentile Distribution") -> Table 35a. Persistence Rates from First to Second Year of College for Class of 2022 and 2023, School Percentile Distribution | N37: =CONCATENATE("Table 35b. Persistence Rates from First to Second Year of College for Class of ",N39," and ",N40,", School Percentile Distribution") -> Table 35b. Persistence Rates from First to Second Year of College for Class of 2022 and 2023, School Percentile Distribution
B38: N of schools | C38: 25th percentile | D38: 50th percentile | E38: 75th percentile | O38: N of schools | P38: 25th percentile | Q38: 50th percentile | R38: 75th percentile
A39: 2022 | B39: 4008 | C39: 0.66666667 | D39: 0.75438596 | E39: 0.82352941 | N39: 2022 | O39: 8744 | P39: 0.75862069 | Q39: 0.83745583 | R39: 0.9
A40: 2023 | B40: 5451 | C40: 0.6875 | D40: 0.76708437 | E40: 0.82926829 | N40: 2023 | O40: 7380 | P40: 0.77966102 | Q40: 0.85714286 | R40: 0.91139241
A42: =CONCATENATE("Table 36a. Persistence Rates from First to Second Year of College for Class of ",A44," and ",A45,", Student-Weighted Totals") -> Table 36a. Persistence Rates from First to Second Year of College for Class of 2022 and 2023, Student-Weighted Totals | N42: =CONCATENATE("Table 36b. Persistence Rates from First to Second Year of College for Class of ",N44," and ",N45,", Student-Weighted Totals") -> Table 36b. Persistence Rates from First to Second Year of College for Class of 2022 and 2023, Student-Weighted Totals
B43: Students enrolled in first year | C43: Total | D43: Public | E43: Private | F43: Two-year | G43: Four-year | H43: In-state | I43: Out-of-state | O43: Students enrolled in first year | P43: Total | Q43: Public | R43: Private | S43: Two-year | T43: Four-year | U43: In-state | V43: Out-of-state
A44: 2022 | B44: 371535 | C44: 0.77403744 | D44: 0.76680602 | E44: 0.82523596 | F44: 0.67719084 | G44: 0.85012255 | H44: 0.76809091 | I44: 0.82198263 | N44: 2022 | O44: 1067519 | P44: 0.86237247 | Q44: 0.84902232 | R44: 0.91631959 | S44: 0.7224892 | T44: 0.91518473 | U44: 0.84283956 | V44: 0.92231115
A45: 2023 | B45: 528912 | C45: 0.78784562 | D45: 0.77864757 | E45: 0.84734323 | F45: 0.68395435 | G45: 0.86009886 | H45: 0.78096625 | I45: 0.84175005 | N45: 2023 | O45: 949689 | P45: 0.87631635 | Q45: 0.86383361 | R45: 0.92580743 | S45: 0.73771471 | T45: 0.92527547 | U45: 0.85732719 | V45: 0.9330244
A48: =CONCATENATE("Table 37a. Six-Year Completion Rates for Class of ",,A50," and ",A51,", School Percentile Distribution") -> Table 37a. Six-Year Completion Rates for Class of 2018 and 2019, School Percentile Distribution | N48: =CONCATENATE("Table 37b. Six-Year Completion Rates for Class of ",N50," and ",N51,", School Percentile Distribution") -> Table 37b. Six-Year Completion Rates for Class of 2018 and 2019, School Percentile Distribution
B49: N of schools | C49: 25th percentile | D49: 50th percentile | E49: 75th percentile | O49: N of schools | P49: 25th percentile | Q49: 50th percentile | R49: 75th percentile
A50: 2018 | B50: 4733 | C50: 0.18579235 | D50: 0.2653277 | E50: 0.34343434 | N50: 2018 | O50: 7469 | P50: 0.33093525 | Q50: 0.43455497 | R50: 0.5511811
A51: 2019 | B51: 4716 | C51: 0.18181818 | D51: 0.26174405 | E51: 0.34093509 | N51: 2019 | O51: 7497 | P51: 0.31884058 | Q51: 0.42307692 | R51: 0.54545455
A53: =CONCATENATE("Table 38a. Six-Year Completion Rates for Class of ",A55," and ",A56, ", Student-Weighted Totals") -> Table 38a. Six-Year Completion Rates for Class of 2018 and 2019, Student-Weighted Totals | N53: =CONCATENATE("Table 38b. Six-Year Completion Rates for Class of ",,N55," and ",N56, ", Student-Weighted Totals") -> Table 38b. Six-Year Completion Rates for Class of 2018 and 2019, Student-Weighted Totals
B54: N of total HS Graduates | C54: Total | D54: Public | E54: Private | F54: Two-year | G54: Four-year | H54: In-state | I54: Out-of-state | O54: N of total HS Graduates | P54: Total | Q54: Public | R54: Private | S54: Two-year | T54: Four-year | U54: In-state | V54: Out-of-state
...

Sheet 5 Public Non-Charter Minority
A1: Postsecondary Enrollment, Persistence, and Completion Across High School Minority Level
A2: High-Minority High Schools | N2: Low-Minority High Schools
A4: =CONCATENATE("Table 39a. College Enrollment Rates in the First Fall after High School Graduation for Classes ",A6," and ",A7,", School Percentile Distribution") -> Table 39a. College Enrollment Rates in the First Fall after High School Graduation for Classes 2024 and 2025, School Percentile Distribution | N4: =CONCATENATE("Table 39b. College Enrollment Rates in the First Fall after High School Graduation for Classes ",N6," and ",N7,", School Percentile Distribution") -> Table 39b. College Enrollment Rates in the First Fall after High School Graduation for Classes 2024 and 2025, School Percentile Distribution
B5: N of schools | C5: 25th percentile | D5: 50th percentile | E5: 75th percentile | O5: N of schools | P5: 25th percentile | Q5: 50th percentile | R5: 75th percentile
A6: 2024 | B6: 4306 | C6: 0.40168539 | D6: 0.52105496 | E6: 0.64772727 | N6: 2024 | O6: 8510 | P6: 0.43589744 | Q6: 0.55053342 | R6: 0.6779661
A7: 2025 | B7: 4184 | C7: 0.40390048 | D7: 0.52114244 | E7: 0.64260939 | N7: 2025 | O7: 7839 | P7: 0.44630072 | Q7: 0.55555556 | R7: 0.68085106
A9: =CONCATENATE("Table 40a. College Enrollment Rates in the First Fall after High School Graduation for Classes ",A11," and ",A12,", Student-Weighted Totals") -> Table 40a. College Enrollment Rates in the First Fall after High School Graduation for Classes 2024 and 2025, Student-Weighted Totals | N9: =CONCATENATE("Table 40b. College Enrollment Rates in the First Fall after High School Graduation for Classes ",N11," and ",N12,", Student-Weighted Totals") -> Table 40b. College Enrollment Rates in the First Fall after High School Graduation for Classes 2024 and 2025, Student-Weighted Totals
B10: N of total HS Graduates | C10: Total | D10: Public | E10: Private | F10: Two-year | G10: Four-year | H10: In-state | I10: Out-of-state | O10: N of total HS Graduates | P10: Total | Q10: Public | R10: Private | S10: Two-year | T10: Four-year | U10: In-state | V10: Out-of-state
A11: 2024 | B11: 1038687 | C11: 0.54932718 | D11: 0.47400035 | E11: 0.075326831 | F11: 0.21045127 | G11: 0.33887591 | H11: 0.47779167 | I11: 0.071535506 | N11: 2024 | O11: 1322207 | P11: 0.62609334 | Q11: 0.50043223 | R11: 0.12566111 | S11: 0.16469433 | T11: 0.46139901 | U11: 0.47025844 | V11: 0.1558349
A12: 2025 | B12: 1053545 | C12: 0.54371574 | D12: 0.46950439 | E12: 0.074211353 | F12: 0.20758772 | G12: 0.33612802 | H12: 0.47349662 | I12: 0.070219117 | N12: 2025 | O12: 1253139 | P12: 0.62467292 | Q12: 0.49984639 | R12: 0.12482654 | S12: 0.16588583 | T12: 0.45878709 | U12: 0.46836783 | V12: 0.15630509
A15: =CONCATENATE("Table 41a. College Enrollment Rates in the First Year after High School Graduation for Classes ",A17," and ",A18,", School Percentile Distribution") -> Table 41a. College Enrollment Rates in the First Year after High School Graduation for Classes 2023 and 2024, School Percentile Distribution | N15: =CONCATENATE("Table 41b. College Enrollment Rates in the First Year after High School Graduation for Classes ",N17," and ",N18,", School Percentile Distribution") -> Table 41b. College Enrollment Rates in the First Year after High School Graduation for Classes 2023 and 2024, School Percentile Distribution
B16: N of schools | C16: 25th percentile | D16: 50th percentile | E16: 75th percentile | O16: N of schools | P16: 25th percentile | Q16: 50th percentile | R16: 75th percentile
A17: 2023 | B17: 4120 | C17: 0.44332436 | D17: 0.56019324 | E17: 0.68345771 | N17: 2023 | O17: 8711 | P17: 0.46808511 | Q17: 0.58659218 | R17: 0.71428571
A18: 2024 | B18: 4306 | C18: 0.44318182 | D18: 0.56028369 | E18: 0.68421053 | N18: 2024 | O18: 8510 | P18: 0.46540881 | Q18: 0.57760177 | R18: 0.70165746
A20: =CONCATENATE("Table 42a. College Enrollment Rates in the First Year after High School Graduation for Classes ",A22," and ",A23,", Student-Weighted Totals") -> Table 42a. College Enrollment Rates in the First Year after High School Graduation for Classes 2023 and 2024, Student-Weighted Totals | N20: =CONCATENATE("Table 42b. College Enrollment Rates in the First Year after High School Graduation for Classes ",N22," and ",N23,", Student-Weighted Totals") -> Table 42b. College Enrollment Rates in the First Year after High School Graduation for Classes 2023 and 2024, Student-Weighted Totals
B21: N of total HS Graduates | C21: Total | D21: Public | E21: Private | F21: Two-year | G21: Four-year | H21: In-state | I21: Out-of-state | O21: N of total HS Graduates | P21: Total | Q21: Public | R21: Private | S21: Two-year | T21: Four-year | U21: In-state | V21: Out-of-state
A22: 2023 | B22: 978880 | C22: 0.58967391 | D22: 0.50674342 | E22: 0.082930492 | F22: 0.22387525 | G22: 0.36579867 | H22: 0.51204642 | I22: 0.077627493 | N22: 2023 | O22: 1365493 | P22: 0.66011397 | Q22: 0.5276153 | R22: 0.13249867 | S22: 0.17994014 | T22: 0.48017383 | U22: 0.4974555 | V22: 0.16265847
A23: 2024 | B23: 1038687 | C23: 0.58919097 | D23: 0.50876443 | E23: 0.080426539 | F23: 0.2336238 | G23: 0.35556717 | H23: 0.51241134 | I23: 0.076779627 | N23: 2024 | O23: 1322207 | P23: 0.65372215 | Q23: 0.52407906 | R23: 0.12964309 | S23: 0.17805608 | T23: 0.47566606 | U23: 0.49288803 | V23: 0.16083412
A26: =CONCATENATE("Table 43a. College Enrollment Rates in the First Two Years after High School Graduation for Classes ",A28," and ",A29,", School Percentile Distribution") -> Table 43a. College Enrollment Rates in the First Two Years after High School Graduation for Classes 2022 and 2023, School Percentile Distribution | N26: =CONCATENATE("Table 43b. College Enrollment Rates in the First Two Years after High School Graduation for Classes ",N28," and ",N29,", School Percentile Distribution") -> Table 43b. College Enrollment Rates in the First Two Years after High School Graduation for Classes 2022 and 2023, School Percentile Distribution
B27: N of schools | C27: 25th percentile | D27: 50th percentile | E27: 75th percentile | O27: N of schools | P27: 25th percentile | Q27: 50th percentile | R27: 75th percentile
A28: 2022 | B28: 3813 | C28: 0.46285714 | D28: 0.57653061 | E28: 0.70305677 | N28: 2022 | O28: 8939 | P28: 0.5 | Q28: 0.6122449 | R28: 0.73584906
A29: 2023 | B29: 4120 | C29: 0.48687252 | D29: 0.6029818 | E29: 0.72101158 | N29: 2023 | O29: 8711 | P29: 0.5 | Q29: 0.62162162 | R29: 0.74626866
A31: =CONCATENATE("Table 44a. College Enrollment Rates in the First Two Years after High School Graduation for Classes ",A33," and ",A34,", Student-Weighted Totals") -> Table 44a. College Enrollment Rates in the First Two Years after High School Graduation for Classes 2022 and 2023, Student-Weighted Totals | N31: =CONCATENATE("Table 44b. College Enrollment Rates in the First Two Years after High School Graduation for Classes ",N33," and ",N34,", Student-Weighted Totals") -> Table 44b. College Enrollment Rates in the First Two Years after High School Graduation for Classes 2022 and 2023, Student-Weighted Totals
B32: N of total HS Graduates | C32: Total | D32: Public | E32: Private | F32: Two-year | G32: Four-year | H32: In-state | I32: Out-of-state | O32: N of total HS Graduates | P32: Total | Q32: Public | R32: Private | S32: Two-year | T32: Four-year | U32: In-state | V32: Out-of-state
A33: 2022 | B33: 926895 | C33: 0.61605468 | D33: 0.53177113 | E33: 0.084283549 | F33: 0.24985246 | G33: 0.36620221 | H33: 0.52983024 | I33: 0.086224438 | N33: 2022 | O33: 1388818 | P33: 0.68766894 | Q33: 0.54982222 | R33: 0.13784672 | S33: 0.19998445 | T33: 0.48768449 | U33: 0.51398095 | V33: 0.17368799
A34: 2023 | B34: 978880 | C34: 0.62844067 | D34: 0.54049628 | E34: 0.087944385 | F34: 0.24911736 | G34: 0.37932331 | H34: 0.54387259 | I34: 0.084568078 | N34: 2023 | O34: 1365493 | P34: 0.69381681 | Q34: 0.55674544 | R34: 0.13707137 | S34: 0.19993951 | T34: 0.4938773 | U34: 0.5241411 | V34: 0.16967571
A37: =CONCATENATE("Table 45a. Persistence Rates from First to Second Year of College for Class of ",A39," and ",A40,", School Percentile Distribution") -> Table 45a. Persistence Rates from First to Second Year of College for Class of 2022 and 2023, School Percentile Distribution | N37: =CONCATENATE("Table 45b. Persistence Rates from First to Second Year of College for Class of ",N39," and ",N40,", School Percentile Distribution") -> Table 45b. Persistence Rates from First to Second Year of College for Class of 2022 and 2023, School Percentile Distribution
B38: N of schools | C38: 25th percentile | D38: 50th percentile | E38: 75th percentile | O38: N of schools | P38: 25th percentile | Q38: 50th percentile | R38: 75th percentile
A39: 2022 | B39: 3813 | C39: 0.69117647 | D39: 0.77204086 | E39: 0.84313725 | N39: 2022 | O39: 8939 | P39: 0.75 | Q39: 0.82954545 | R39: 0.89836282
A40: 2023 | B40: 4120 | C40: 0.69354839 | D40: 0.77777778 | E40: 0.84615385 | N40: 2023 | O40: 8711 | P40: 0.75 | Q40: 0.83673469 | R40: 0.90243902
A42: =CONCATENATE("Table 46a. Persistence Rates from First to Second Year of College for Class of ",A44," and ",A45,", Student-Weighted Totals") -> Table 46a. Persistence Rates from First to Second Year of College for Class of 2022 and 2023, Student-Weighted Totals | N42: =CONCATENATE("Table 46b. Persistence Rates from First to Second Year of College for Class of ",N44," and ",N45,", Student-Weighted Totals") -> Table 46b. Persistence Rates from First to Second Year of College for Class of 2022 and 2023, Student-Weighted Totals
B43: Students enrolled in first year | C43: Total | D43: Public | E43: Private | F43: Two-year | G43: Four-year | H43: In-state | I43: Out-of-state | O43: Students enrolled in first year | P43: Total | Q43: Public | R43: Private | S43: Two-year | T43: Four-year | U43: In-state | V43: Out-of-state
A44: 2022 | B44: 533336 | C44: 0.79859601 | D44: 0.79045828 | E44: 0.84970854 | F44: 0.68841585 | G44: 0.8683984 | H44: 0.78938221 | I44: 0.85666753 | N44: 2022 | O44: 905718 | P44: 0.86369157 | Q44: 0.84927005 | R44: 0.92006547 | S44: 0.72105715 | T44: 0.9178319 | U44: 0.84269036 | V44: 0.92526797
A45: 2023 | B45: 577220 | C45: 0.80555421 | D45: 0.79646642 | E45: 0.86108476 | F45: 0.69396798 | G45: 0.87384695 | H45: 0.79620615 | I45: 0.86721588 | N45: 2023 | O45: 901381 | P45: 0.86971769 | Q45: 0.85605208 | R45: 0.92413473 | S45: 0.7292629 | T45: 0.92235166 | U45: 0.84969938 | V45: 0.93093931
A48: =CONCATENATE("Table 47a. Six-Year Completion Rates for Class of ",,A50," and ",A51,", School Percentile Distribution") -> Table 47a. Six-Year Completion Rates for Class of 2018 and 2019, School Percentile Distribution | N48: =CONCATENATE("Table 47b. Six-Year Completion Rates for Class of ",N50," and ",N51,", School Percentile Distribution") -> Table 47b. Six-Year Completion Rates for Class of 2018 and 2019, School Percentile Distribution
B49: N of schools | C49: 25th percentile | D49: 50th percentile | E49: 75th percentile | O49: N of schools | P49: 25th percentile | Q49: 50th percentile | R49: 75th percentile
A50: 2018 | B50: 3405 | C50: 0.18934911 | D50: 0.27445652 | E50: 0.37402597 | N50: 2018 | O50: 8797 | P50: 0.2875 | Q50: 0.39622642 | R50: 0.52405063
A51: 2019 | B51: 3434 | C51: 0.18181818 | D51: 0.26976051 | E51: 0.3699284 | N51: 2019 | O51: 8779 | P51: 0.2815534 | Q51: 0.38596491 | R51: 0.51724138
A53: =CONCATENATE("Table 48a. Six-Year Completion Rates for Class of ",A55," and ",A56, ", Student-Weighted Totals") -> Table 48a. Six-Year Completion Rates for Class of 2018 and 2019, Student-Weighted Totals | N53: =CONCATENATE("Table 48b. Six-Year Completion Rates for Class of ",,N55," and ",N56, ", Student-Weighted Totals") -> Table 48b. Six-Year Completion Rates for Class of 2018 and 2019, Student-Weighted Totals
B54: N of total HS Graduates | C54: Total | D54: Public | E54: Private | F54: Two-year | G54: Four-year | H54: In-state | I54: Out-of-state | O54: N of total HS Graduates | P54: Total | Q54: Public | R54: Private | S54: Two-year | T54: Four-year | U54: In-state | V54: Out-of-state
...

Sheet 6 Public Non-Charter Urbanicity
A1: Postsecondary Enrollment, Persistence, and Completion Across High School Urbanicity
A2: Urban High Schools | N2: Suburban High Schools | AA2: Rural High Schools
A4: =CONCATENATE("Table 49a. College Enrollment Rates in the First Fall after High School Graduation for Classes ",A6," and ",A7,", School Percentile Distribution") -> Table 49a. College Enrollment Rates in the First Fall after High School Graduation for Classes 2024 and 2025, School Percentile Distribution | N4: =CONCATENATE("Table 49b. College Enrollment Rates in the First Fall after High School Graduation for Classes ",N6," and ",N7,", School Percentile Distribution") -> Table 49b. College Enrollment Rates in the First Fall after High School Graduation for Classes 2024 and 2025, School Percentile Distribution | AA4: =CONCATENATE("Table 49c. College Enrollment Rates in the First Fall after High School Graduation for Classes ",AA6," and ",AA7,", School Percentile Distribution") -> Table 49c. College Enrollment Rates in the First Fall after High School Graduation for Classes 2024 and 2025, School Percentile Distribution
B5: N of schools | C5: 25th percentile | D5: 50th percentile | E5: 75th percentile | O5: N of schools | P5: 25th percentile | Q5: 50th percentile | R5: 75th percentile | AB5: N of schools | AC5: 25th percentile | AD5: 50th percentile | AE5: 75th percentile
A6: 2024 | B6: 2768 | C6: 0.42287867 | D6: 0.56327859 | E6: 0.71128678 | N6: 2024 | O6: 3112 | P6: 0.48164762 | Q6: 0.6259467 | R6: 0.75711827 | AA6: 2024 | AB6: 6936 | AC6: 0.4070282 | AD6: 0.50465126 | AE6: 0.61290323
A7: 2025 | B7: 2668 | C7: 0.42005917 | D7: 0.55854349 | E7: 0.71207326 | N7: 2025 | O7: 2992 | P7: 0.48986308 | Q7: 0.62094313 | R7: 0.74851059 | AA7: 2025 | AB7: 6363 | AC7: 0.41666667 | AD7: 0.51282051 | AE7: 0.61363636
A9: =CONCATENATE("Table 50a. College Enrollment Rates in the First Fall after High School Graduation for Classes ",A11," and ",A12,", Student-Weighted Totals") -> Table 50a. College Enrollment Rates in the First Fall after High School Graduation for Classes 2024 and 2025, Student-Weighted Totals | N9: =CONCATENATE("Table 50b. College Enrollment Rates in the First Fall after High School Graduation for Classes ",N11," and ",N12,", Student-Weighted Totals") -> Table 50b. College Enrollment Rates in the First Fall after High School Graduation for Classes 2024 and 2025, Student-Weighted Totals | AA9: =CONCATENATE("Table 50c. College Enrollment Rates in the First Fall after High School Graduation for Classes ",AA11," and ",AA12,", Student-Weighted Totals") -> Table 50c. College Enrollment Rates in the First Fall after High School Graduation for Classes 2024 and 2025, Student-Weighted Totals
B10: N of total HS Graduates | C10: Total | D10: Public | E10: Private | F10: Two-year | G10: Four-year | H10: In-state | I10: Out-of-state | O10: N of total HS Graduates | P10: Total | Q10: Public | R10: Private | S10: Two-year | T10: Four-year | U10: In-state | V10: Out-of-state | AB10: N of total HS Graduates | AC10: Total | AD10: Public | AE10: Private | AF10: Two-year | AG10: Four-year | AH10: In-state | AI10: Out-of-state
A11: 2024 | B11: 697940 | C11: 0.59400951 | D11: 0.49994412 | E11: 0.094065392 | F11: 0.19158953 | G11: 0.40241998 | H11: 0.48935582 | I11: 0.1046537 | N11: 2024 | O11: 978514 | P11: 0.63161488 | Q11: 0.50901265 | R11: 0.12260223 | S11: 0.17666891 | T11: 0.45494597 | U11: 0.48631599 | V11: 0.14529889 | AA11: 2024 | AB11: 684440 | AC11: 0.53441792 | AD11: 0.44855064 | AE11: 0.085867278 | AF11: 0.18958857 | AG11: 0.34482935 | AH11: 0.43925983 | AI11: 0.095158085
A12: 2025 | B12: 695996 | C12: 0.58720309 | D12: 0.49587641 | E12: 0.091326674 | F12: 0.19003701 | G12: 0.39716608 | H12: 0.48465221 | I12: 0.10255088 | N12: 2025 | O12: 950738 | P12: 0.62698767 | Q12: 0.50609526 | R12: 0.1208924 | S12: 0.17747581 | T12: 0.44951185 | U12: 0.48300583 | V12: 0.14398183 | AA12: 2025 | AB12: 659950 | AC12: 0.53161452 | AD12: 0.44659292 | AE12: 0.085021593 | AF12: 0.19029169 | AG12: 0.34132283 | AH12: 0.43829381 | AI12: 0.093320706
