Workbook

Sheet List of Tables
A1: High School Benchmarks Report
A2: September 2026
A3: Tab | B3: List of Tables
A4: 1 Public Non-Charter Overall | B4: ='1 Public Non-Charter Overall'!A3 -> Table 1. Rates of College Enrollment in the First Fall after High School Graduation for Class of 2025
B5: ='1 Public Non-Charter Overall'!A20 -> Table 2. Rates of College Enrollment in the First Fall after High School Graduation for Class of 2024
B6: ='1 Public Non-Charter Overall'!A37 -> Table 3. Rates of College Enrollment in the First Year after High School Graduation for Class of 2024
B7: ='1 Public Non-Charter Overall'!A54 -> Table 4. Rates of College Enrollment in the First Year after High School Graduation for Class of 2023
B8: ='1 Public Non-Charter Overall'!A71 -> Table 5. Rates of College Enrollment in the First Two Years after High School Graduation for Class of 2023
B9: ='1 Public Non-Charter Overall'!A88 -> Table 6. Rates of College Enrollment in the First Two Years after High School Graduation for Class of 2022
B10: ='1 Public Non-Charter Overall'!A105 -> Table 7. Persistence Rates from First to Second Year of College for Class of 2023
B11: ='1 Public Non-Charter Overall'!A122 -> Table 8. Persistence Rates from First to Second Year of College for Class of 2022
B12: ='1 Public Non-Charter Overall'!A139 -> Table 9. Six-Year Completion Rates for Class of 2019
B13: ='1 Public Non-Charter Overall'!A156 -> Table 10. Six-Year Completion Rates for Class of 2018
B14: ='1 Public Non-Charter Overall'!A173 -> Table 11. Six-Year Completion Rates for Class of 2019, STEM
B15: ='1 Public Non-Charter Overall'!A184 -> Table 12. Six-Year STEM Completers by Field of Study, Class of 2019
B16: ='1 Public Non-Charter Overall'!A203 -> Table 13. Rates of College Enrollment in the First Fall after High School Graduation for Class of 2025 by Income and Minority Levels
B17: ='1 Public Non-Charter Overall'!A220 -> Table 14. Persistence Rates from First to Second Year of College for Class of 2023 by Income and Minority Levels
B18: ='1 Public Non-Charter Overall'!A237 -> Table 15. Six-Year College Completion Rates for Class of 2019 by Income and Minority Levels
A19: 2 Public Non-Charter Majors | B19: =REPLACE('2 Public Non-Charter Majors'!A4,9,1,"") -> Table 16. Top Five Majors for Students with First Fall Enrollment, Class of 2025
B20: =REPLACE('2 Public Non-Charter Majors'!A52,9,1,"") -> Table 17. Top Five Majors for Students with First Year Persistence, Class of 2023
B21: =REPLACE('2 Public Non-Charter Majors'!A100,9,1,"") -> Table 18. Top Five Majors for Students with Completion within Six Years, Class of 2019
A22: 3 Public Non-Charter Poverty | B22: =REPLACE('3 Public Non-Charter Poverty'!$A$4,9,1,"") -> Table 19. College Enrollment Rates in the First Fall after High School Graduation for Classes 2024 and 2025, School Percentile Distribution
B23: =REPLACE('3 Public Non-Charter Poverty'!$A$9,9,1,"") -> Table 20. College Enrollment Rates in the First Fall after High School Graduation for Classes 2024 and 2025, Student-Weighted Totals
B24: =REPLACE('3 Public Non-Charter Poverty'!$A$15,9,1,"") -> Table 21. College Enrollment Rates in the First Year after High School Graduation for Classes 2023 and 2024, School Percentile Distribution
B25: =REPLACE('3 Public Non-Charter Poverty'!$A$20,9,1,"") -> Table 22. College Enrollment Rates in the First Year after High School Graduation for Classes 2023 and 2024, Student-Weighted Totals
B26: =REPLACE('3 Public Non-Charter Poverty'!$A$26,9,1,"") -> Table 23. College Enrollment Rates in the First Two Years after High School Graduation for Classes 2022 and 2023, School Percentile Distribution
B27: =REPLACE('3 Public Non-Charter Poverty'!$A$31,9,1,"") -> Table 24. College Enrollment Rates in the First Two Years after High School Graduation for Classes 2022 and 2023, Student-Weighted Totals
B28: =REPLACE('3 Public Non-Charter Poverty'!$A$37,9,1,"") -> Table 25. Persistence Rates from First to Second Year of College for Class of 2022 and 2023, School Percentile Distribution
B29: =REPLACE('3 Public Non-Charter Poverty'!$A$42,9,1,"") -> Table 26. Persistence Rates from First to Second Year of College for Class of 2022 and 2023, Student-Weighted Totals
B30: =REPLACE('3 Public Non-Charter Poverty'!$A$48,9,1,"") -> Table 27. Six-Year Completion Rates for Class of 2018 and 2019, School Percentile Distribution
B31: =REPLACE('3 Public Non-Charter Poverty'!$A$53,9,1,"") -> Table 28. Six-Year Completion Rates for Class of 2018 and 2019, Student-Weighted Totals
A32: 4 Public Non-Charter Income | B32: =REPLACE('4 Public Non-Charter Income'!$A$4,9,1,"") -> Table 29. College Enrollment Rates in the First Fall after High School Graduation for Classes 2024 and 2025, School Percentile Distribution
B33: =REPLACE('4 Public Non-Charter Income'!$A$9,9,1,"") -> Table 30. College Enrollment Rates in the First Fall after High School Graduation for Classes 2024 and 2025, Student-Weighted Totals
B34: =REPLACE('4 Public Non-Charter Income'!$A$15,9,1,"") -> Table 31. College Enrollment Rates in the First Year after High School Graduation for Classes 2023 and 2024, School Percentile Distribution
B35: =REPLACE('4 Public Non-Charter Income'!$A$20,9,1,"") -> Table 32. College Enrollment Rates in the First Year after High School Graduation for Classes 2023 and 2024, Student-Weighted Totals
B36: =REPLACE('4 Public Non-Charter Income'!$A$26,9,1,"") -> Table 33. College Enrollment Rates in the First Two Years after High School Graduation for Classes 2022 and 2023, School Percentile Distribution
B37: =REPLACE('4 Public Non-Charter Income'!$A$31,9,1,"") -> Table 34. College Enrollment Rates in the First Two Years after High School Graduation for Classes 2022 and 2023, Student-Weighted Totals
B38: =REPLACE('4 Public Non-Charter Income'!$A$37,9,1,"") -> Table 35. Persistence Rates from First to Second Year of College for Class of 2022 and 2023, School Percentile Distribution
B39: =REPLACE('4 Public Non-Charter Income'!$A$42,9,1,"") -> Table 36. Persistence Rates from First to Second Year of College for Class of 2022 and 2023, Student-Weighted Totals
B40: =REPLACE('4 Public Non-Charter Income'!$A$48,9,1,"") -> Table 37. Six-Year Completion Rates for Class of 2018 and 2019, School Percentile Distribution
B41: =REPLACE('4 Public Non-Charter Income'!$A$53,9,1,"") -> Table 38. Six-Year Completion Rates for Class of 2018 and 2019, Student-Weighted Totals
A42: 5 Public Non-Charter Minorirty | B42: =REPLACE('5 Public Non-Charter Minority'!$A$4,9,1,"") -> Table 39. College Enrollment Rates in the First Fall after High School Graduation for Classes 2024 and 2025, School Percentile Distribution
B43: =REPLACE('5 Public Non-Charter Minority'!$A$9,9,1,"") -> Table 40. College Enrollment Rates in the First Fall after High School Graduation for Classes 2024 and 2025, Student-Weighted Totals
B44: =REPLACE('5 Public Non-Charter Minority'!$A$15,9,1,"") -> Table 41. College Enrollment Rates in the First Year after High School Graduation for Classes 2023 and 2024, School Percentile Distribution
B45: =REPLACE('5 Public Non-Charter Minority'!$A$20,9,1,"") -> Table 42. College Enrollment Rates in the First Year after High School Graduation for Classes 2023 and 2024, Student-Weighted Totals
B46: =REPLACE('5 Public Non-Charter Minority'!$A$26,9,1,"") -> Table 43. College Enrollment Rates in the First Two Years after High School Graduation for Classes 2022 and 2023, School Percentile Distribution
B47: =REPLACE('5 Public Non-Charter Minority'!$A$31,9,1,"") -> Table 44. College Enrollment Rates in the First Two Years after High School Graduation for Classes 2022 and 2023, Student-Weighted Totals
B48: =REPLACE('5 Public Non-Charter Minority'!$A$37,9,1,"") -> Table 45. Persistence Rates from First to Second Year of College for Class of 2022 and 2023, School Percentile Distribution
B49: =REPLACE('5 Public Non-Charter Minority'!$A$42,9,1,"") -> Table 46. Persistence Rates from First to Second Year of College for Class of 2022 and 2023, Student-Weighted Totals
B50: =REPLACE('5 Public Non-Charter Minority'!$A$48,9,1,"") -> Table 47. Six-Year Completion Rates for Class of 2018 and 2019, School Percentile Distribution
B51: =REPLACE('5 Public Non-Charter Minority'!$A$53,9,1,"") -> Table 48. Six-Year Completion Rates for Class of 2018 and 2019, Student-Weighted Totals
A52: 6 Public Non-Charter Urbanicity | B52: =REPLACE('6 Public Non-Charter Urbanicity'!$A$4,9,1,"") -> Table 49. College Enrollment Rates in the First Fall after High School Graduation for Classes 2024 and 2025, School Percentile Distribution
B53: =REPLACE('6 Public Non-Charter Urbanicity'!$A$9,9,1,"") -> Table 50. College Enrollment Rates in the First Fall after High School Graduation for Classes 2024 and 2025, Student-Weighted Totals
B54: =REPLACE('6 Public Non-Charter Urbanicity'!$A$15,9,1,"") -> Table 51. College Enrollment Rates in the First Year after High School Graduation for Classes 2023 and 2024, School Percentile Distribution
B55: =REPLACE('6 Public Non-Charter Urbanicity'!$A$20,9,1,"") -> Table 52. College Enrollment Rates in the First Year after High School Graduation for Classes 2023 and 2024, Student-Weighted Totals
B56: =REPLACE('6 Public Non-Charter Urbanicity'!$A$26,9,1,"") -> Table 53. College Enrollment Rates in the First Two Years after High School Graduation for Classes 2022 and 2023, School Percentile Distribution
B57: =REPLACE('6 Public Non-Charter Urbanicity'!$A$31,9,1,"") -> Table 54. College Enrollment Rates in the First Two Years after High School Graduation for Classes 2022 and 2023, Student-Weighted Totals
B58: =REPLACE('6 Public Non-Charter Urbanicity'!$A$37,9,1,"") -> Table 55. Persistence Rates from First to Second Year of College for Class of 2022 and 2023, School Percentile Distribution
B59: =REPLACE('6 Public Non-Charter Urbanicity'!$A$42,9,1,"") -> Table 56. Persistence Rates from First to Second Year of College for Class of 2022 and 2023, Student-Weighted Totals
B60: =REPLACE('6 Public Non-Charter Urbanicity'!$A$48,9,1,"") -> Table 57. Six-Year Completion Rates for Class of 2018 and 2019, School Percentile Distribution
B61: =REPLACE('6 Public Non-Charter Urbanicity'!$A$53,9,1,"") -> Table 58. Six-Year Completion Rates for Class of 2018 and 2019, Student-Weighted Totals
A62: 7 Public Charter Schools | B62: ='7 Public Charter Schools'!$A$4 -> Table 59. College Enrollment Rates in the First Fall after High School Graduation for Classes 2024 and 2025, School Percentile Distribution
B63: ='7 Public Charter Schools'!$A$9 -> Table 60. College Enrollment Rates in the First Fall after High School Graduation for Classes 2024 and 2025, Student-Weighted Totals
B64: ='7 Public Charter Schools'!$A$15 -> Table 61. College Enrollment Rates in the First Year after High School Graduation for Classes 2023 and 2024, School Percentile Distribution
B65: ='7 Public Charter Schools'!$A$20 -> Table 62. College Enrollment Rates in the First Year after High School Graduation for Classes 2023 and 2024, Student-Weighted Totals
B66: ='7 Public Charter Schools'!$A$26 -> Table 63. College Enrollment Rates in the First Two Years after High School Graduation for Classes 2022 and 2023, School Percentile Distribution
B67: ='7 Public Charter Schools'!$A$31 -> Table 64. College Enrollment Rates in the First Two Years after High School Graduation for Classes 2022 and 2023, Student-Weighted Totals
B68: ='7 Public Charter Schools'!$A$37 -> Table 65. Persistence Rates from First to Second Year of College for Class of 2022 and 2023, School Percentile Distribution
B69: ='7 Public Charter Schools'!$A$42 -> Table 66. Persistence Rates from First to Second Year of College for Class of 2022 and 2023, Student-Weighted Totals
B70: ='7 Public Charter Schools'!$A$48 -> Table 67. Six-Year Completion Rates for Class of 2018 and 2019, School Percentile Distribution
B71: ='7 Public Charter Schools'!$A$53 -> Table 68. Six-Year Completion Rates for Class of 2018 and 2019, Student-Weighted Totals
A72: 8 Private Schools | B72: ='8 Private Schools'!$A$4 -> Table 69. College Enrollment Rates in the First Fall after High School Graduation for Classes 2024 and 2025, School Percentile Distribution
B73: ='8 Private Schools'!$A$9 -> Table 70. College Enrollment Rates in the First Fall after High School Graduation for Classes 2024 and 2025, Student-Weighted Totals
B74: ='8 Private Schools'!$A$15 -> Table 71. College Enrollment Rates in the First Year after High School Graduation for Classes 2023 and 2024, School Percentile Distribution
B75: ='8 Private Schools'!$A$20 -> Table 72. College Enrollment Rates in the First Year after High School Graduation for Classes 2023 and 2024, Student-Weighted Totals
B76: ='8 Private Schools'!$A$26 -> Table 73. College Enrollment Rates in the First Two Years after High School Graduation for Classes 2022 and 2023, School Percentile Distribution
B77: ='8 Private Schools'!$A$31 -> Table 74. College Enrollment Rates in the First Two Years after High School Graduation for Classes 2022 and 2023, Student-Weighted Totals
B78: ='8 Private Schools'!$A$37 -> Table 75. Persistence Rates from First to Second Year of College for Class of 2022 and 2023, School Percentile Distribution
B79: ='8 Private Schools'!$A$42 -> Table 76. Persistence Rates from First to Second Year of College for Class of 2022 and 2023, Student-Weighted Totals
B80: ='8 Private Schools'!$A$48 -> Table 77. Six-Year Completion Rates for Class of 2018 and 2019, School Percentile Distribution
B81: ='8 Private Schools'!$A$53 -> Table 78. Six-Year Completion Rates for Class of 2018 and 2019, Student-Weighted Totals
A82: 9 Income Trend Adjustment | B82: =REPLACE('9 Income Trend Adjustment'!$A$5,9,1,"") -> Table 79. Low-Income High School and Student Counts Class of 2019 to Class of 2025
B83: =REPLACE('9 Income Trend Adjustment'!$A$29,9,1,"") -> Table 80. College Enrollment Rates in the First Fall after High School Graduation for Class of 2025 and Class of 2025 Adjusted to 2024 High School Income Designations
B84: =REPLACE('9 Income Trend Adjustment'!$A$35,9,1,"") -> Table 81. College Enrollment Rates in the First Year after High School Graduation for Class of 2024 and Class of 2024 Adjusted to 2023 High School Income Designations
B85: =REPLACE('9 Income Trend Adjustment'!$A$41,9,1,"") -> Table 82. College Enrollment Rates in the First Fall after High School Graduation for Class of 2025 and Class of 2025 Adjusted to 2024 High School Income Designations by Minority Levels
B86: =REPLACE('9 Income Trend Adjustment'!$A$60,9,1,"") -> Table 83. College Enrollment Rates in the First Year after High School Graduation for Class of 2024 and Class of 2024 Adjusted to 2023 High School Income Designations by Minority Levels
B87: =REPLACE('9 Income Trend Adjustment'!$A$79,9,1,"") -> Table 84. College Enrollment Rates in the First Two Years after High School Graduation for Class of 2023 and Class of 2023 Adjusted to 2022 High School Income Designations
B88: =REPLACE('9 Income Trend Adjustment'!$A$85,9,1,"") -> Table 85. Persistence Rates from First to Second Year of College for Class of 2023 and Class of 2023 Adjusted to 2022 High School Income Designations
A89: 10 Poverty Trend Adjustment | B89: =REPLACE('10 Poverty Trend Adjustment'!$A$5,9,1,"") -> Table 86. High-Poverty High School and Student Counts Class of 2019 to Class of 2025
B90: =REPLACE('10 Poverty Trend Adjustment'!$A$29,9,1,"") -> Table 87. College Enrollment Rates in the First Fall after High School Graduation for Class of 2025 and Class of 2025 Adjusted to 2024 High School Income Designations
B91: =REPLACE('10 Poverty Trend Adjustment'!$A$35,9,1,"") -> Table 88. College Enrollment Rates in the First Year after High School Graduation for Class of 2024 and Class of 2024 Adjusted to 2023 High School Income Designations
B92: =REPLACE('10 Poverty Trend Adjustment'!$A$41,9,1,"") -> Table 89. College Enrollment Rates in the First Two Years after High School Graduation for Class of 2023 and Class of 2023 Adjusted to 2022 High School Income Designations
B93: =REPLACE('10 Poverty Trend Adjustment'!$A$47,9,1,"") -> Table 90. Persistence Rates from First to Second Year of College for Class of 2023 and Class of 2023 Adjusted to 2022 High School Income Designations

Sheet 1 Public Non-Charter Overall
A1: Enrollment, Persistence, and Completion Across High School and College Characteristics, Public Non-Charter High Schools
A3: Table 1. Rates of College Enrollment in the First Fall after High School Graduation for Class of 2025
B4: High-Poverty HS | C4: Low-Poverty HS | E4: Low-Income HS | F4: Higher-Income HS | H4: High-Minority HS | I4: Low-Minority HS | K4: Urban HS | L4: Suburban HS | M4: Rural HS
A5: Overall | B5: 230048 | C5: 290842 | E5: 507633 | F5: 847998 | H5: 572829 | I5: 782802 | K5: 408691 | L5: 596101 | M5: 350839
B6: 0.51164301 | C6: 0.7393411 | E6: 0.52580863 | F6: 0.63224408 | H6: 0.54371574 | I6: 0.62467292 | K6: 0.58720309 | L6: 0.62698767 | M6: 0.53161452
A7: Four-Year | B7: 129987 | C7: 236437 | E7: 300613 | F7: 628437 | H7: 354126 | I7: 574924 | K7: 276426 | L7: 427368 | M7: 225256
B8: 0.28910027 | C8: 0.60103971 | E8: 0.31137635 | F8: 0.46854541 | H8: 0.33612802 | I8: 0.45878709 | K8: 0.39716608 | L8: 0.44951185 | M8: 0.34132283
A9: Two-Year | B9: 100061 | C9: 54405 | E9: 207020 | F9: 219561 | H9: 218703 | I9: 207878 | K9: 132265 | L9: 168733 | M9: 125583
B10: 0.22254274 | C10: 0.13830139 | E10: 0.21443228 | F10: 0.16369867 | H10: 0.20758772 | I10: 0.16588583 | K10: 0.19003701 | L10: 0.17747581 | M10: 0.19029169
A11: Public | B11: 203989 | C11: 227472 | E11: 440883 | F11: 680138 | H11: 494644 | I11: 626377 | K11: 345128 | L11: 481164 | M11: 294729
B12: 0.45368595 | C12: 0.57825004 | E12: 0.45666867 | F12: 0.50709226 | H12: 0.46950439 | I12: 0.49984639 | K12: 0.49587641 | L12: 0.50609526 | M12: 0.44659292
A13: Private | B13: 26059 | C13: 63370 | E13: 66750 | F13: 167860 | H13: 78185 | I13: 156425 | K13: 63563 | L13: 114937 | M13: 56110
B14: 0.057957058 | C14: 0.16109106 | E14: 0.069139961 | F14: 0.12515182 | H14: 0.074211353 | I14: 0.12482654 | K14: 0.091326674 | L14: 0.1208924 | M14: 0.085021593
A15: In-State | B15: 208980 | C15: 196115 | E15: 449057 | F15: 636723 | H15: 498850 | I15: 586930 | K15: 337316 | L15: 459212 | M15: 289252
B16: 0.46478629 | C16: 0.49853831 | E16: 0.46513533 | F16: 0.47472322 | H16: 0.47349662 | I16: 0.46836783 | K16: 0.48465221 | L16: 0.48300583 | M16: 0.43829381
A17: Out-of-State | B17: 21068 | C17: 94727 | E17: 58576 | F17: 211275 | H17: 73979 | I17: 195872 | K17: 71375 | L17: 136889 | M17: 61587
B18: 0.046856721 | C18: 0.24080279 | E18: 0.060673294 | F18: 0.15752085 | H18: 0.070219117 | I18: 0.15630509 | K18: 0.10255088 | L18: 0.14398183 | M18: 0.093320706
A20: Table 2. Rates of College Enrollment in the First Fall after High School Graduation for Class of 2024
B21: High-Poverty HS | C21: Low-Poverty HS | E21: Low-Income HS | F21: Higher-Income HS | H21: High-Minority HS | I21: Low-Minority HS | K21: Urban HS | L21: Suburban HS | M21: Rural HS
A22: Overall | B22: 211545 | C22: 305389 | E22: 520357 | F22: 878047 | H22: 570579 | I22: 827825 | K22: 414583 | L22: 618044 | M22: 365777
B23: 0.5081149 | C23: 0.73087895 | E23: 0.52508804 | F23: 0.64095513 | H23: 0.54932718 | I23: 0.62609334 | K23: 0.59400951 | L23: 0.63161488 | M23: 0.53441792
A24: Four-Year | B24: 118935 | C24: 246183 | E24: 310185 | F24: 651866 | H24: 351986 | I24: 610065 | K24: 280865 | L24: 445171 | M24: 236015
B25: 0.28567277 | C25: 0.58918289 | E25: 0.31300518 | F25: 0.47584794 | H25: 0.33887591 | I25: 0.46139901 | K25: 0.40241998 | L25: 0.45494597 | M25: 0.34482935
A26: Two-Year | B26: 92610 | C26: 59206 | E26: 210172 | F26: 226181 | H26: 218593 | I26: 217760 | K26: 133718 | L26: 172873 | M26: 129762
B27: 0.22244213 | C27: 0.14169606 | E27: 0.21208287 | F27: 0.16510719 | H27: 0.21045127 | I27: 0.16469433 | K27: 0.19158953 | L27: 0.17666891 | M27: 0.18958857
A28: Public | B28: 187623 | C28: 239718 | E28: 451081 | F28: 702932 | H28: 492338 | I28: 661675 | K28: 348931 | L28: 498076 | M28: 307006
B29: 0.45065609 | C29: 0.57371039 | E29: 0.45518219 | F29: 0.51312501 | H29: 0.47400035 | I29: 0.50043223 | K29: 0.49994412 | L29: 0.50901265 | M29: 0.44855064
A30: Private | B30: 23922 | C30: 65671 | E30: 69276 | F30: 175115 | H30: 78241 | I30: 166150 | K30: 65652 | L30: 119968 | M30: 58771
B31: 0.057458813 | C31: 0.15716857 | E31: 0.069905852 | F31: 0.12783013 | H31: 0.075326831 | I31: 0.12566111 | K31: 0.094065392 | L31: 0.12260223 | M31: 0.085867278
A32: In-State | B32: 192700 | C32: 207586 | E32: 460527 | F32: 657528 | H32: 496276 | I32: 621779 | K32: 341541 | L32: 475867 | M32: 300647
B33: 0.46285065 | C33: 0.49680977 | E33: 0.46471407 | F33: 0.47998108 | H33: 0.47779167 | I33: 0.47025844 | K33: 0.48935582 | L33: 0.48631599 | M33: 0.43925983
A34: Out-of-State | B34: 18845 | C34: 97803 | E34: 59830 | F34: 220519 | H34: 74303 | I34: 206046 | K34: 73042 | L34: 142177 | M34: 65130
B35: 0.045264248 | C35: 0.23406918 | E35: 0.060373969 | F35: 0.16097405 | H35: 0.071535506 | I35: 0.1558349 | K35: 0.1046537 | L35: 0.14529889 | M35: 0.095158085
A37: Table 3. Rates of College Enrollment in the First Year after High School Graduation for Class of 2024
B38: High-Poverty HS | C38: Low-Poverty HS | E38: Low-Income HS | F38: Higher-Income HS | H38: High-Minority HS | I38: Low-Minority HS | K38: Urban HS | L38: Suburban HS | M38: Rural HS
A39: Overall | B39: 227500 | C39: 315852 | E39: 558708 | F39: 917633 | H39: 611985 | I39: 864356 | K39: 438956 | L39: 651241 | M39: 386144
B40: 0.54643759 | C40: 0.75591976 | E40: 0.56378773 | F40: 0.66985205 | H40: 0.58919097 | I40: 0.65372215 | K40: 0.62893085 | L40: 0.66554081 | M40: 0.56417509
A41: Four-Year | B41: 124451 | C41: 253034 | E41: 325570 | F41: 672682 | H41: 369323 | I41: 628929 | K41: 291301 | L41: 461353 | M41: 245598
B42: 0.29892178 | C42: 0.6055792 | E42: 0.32853006 | F42: 0.49104317 | H42: 0.35556717 | I42: 0.47566606 | K42: 0.41737255 | L42: 0.47148329 | M42: 0.35883058
A43: Two-Year | B43: 103049 | C43: 62818 | E43: 233138 | F43: 244951 | H43: 242662 | I43: 235427 | K43: 147655 | L43: 189888 | M43: 140546
B44: 0.24751581 | C44: 0.15034056 | E44: 0.23525767 | F44: 0.17880888 | H44: 0.2336238 | I44: 0.17805608 | K44: 0.2115583 | L44: 0.19405752 | M44: 0.20534452
A45: Public | B45: 201607 | C45: 248544 | E45: 484729 | F45: 736659 | H45: 528447 | I45: 692941 | K45: 370027 | L45: 526781 | M45: 324580
B46: 0.48424458 | C46: 0.5948334 | E46: 0.48913612 | F46: 0.53774498 | H46: 0.50876443 | I46: 0.52407906 | K46: 0.53017022 | L46: 0.53834794 | M46: 0.47422711
A47: Private | B47: 25893 | C47: 67308 | E47: 73979 | F47: 180974 | H47: 83538 | I47: 171415 | K47: 68929 | L47: 124460 | M47: 61564
B48: 0.062193004 | C48: 0.16108635 | E48: 0.074651611 | F48: 0.13210707 | H48: 0.080426539 | I48: 0.12964309 | K48: 0.098760638 | L48: 0.12719287 | M48: 0.089947987
A49: In-State | B49: 206684 | C49: 215906 | E49: 493744 | F49: 690191 | H49: 532235 | I49: 651700 | K49: 362382 | L49: 503954 | M49: 317599
B50: 0.49643915 | C50: 0.51672179 | E50: 0.49823308 | F50: 0.50382436 | H50: 0.51241134 | I50: 0.49288803 | K50: 0.51921655 | L50: 0.51501971 | M50: 0.46402753
A51: Out-of-State | B51: 20816 | C51: 99946 | E51: 64964 | F51: 227442 | H51: 79750 | I51: 212656 | K51: 76574 | L51: 147287 | M51: 68545
B52: 0.049998439 | C52: 0.23919797 | E52: 0.065554647 | F52: 0.16602769 | H52: 0.076779627 | I52: 0.16083412 | K52: 0.1097143 | L52: 0.1505211 | M52: 0.10014757
A54: Table 4. Rates of College Enrollment in the First Year after High School Graduation for Class of 2023
B55: High-Poverty HS | C55: Low-Poverty HS | E55: Low-Income HS | F55: Higher-Income HS | H55: High-Minority HS | I55: Low-Minority HS | K55: Urban HS | L55: Suburban HS | M55: Rural HS
A56: Overall | B56: 216294 | C56: 364790 | E56: 528912 | F56: 949689 | H56: 577220 | I56: 901381 | K56: 422726 | L56: 657517 | M56: 398358
B57: 0.54974393 | C57: 0.74711478 | E57: 0.56609783 | F57: 0.67350916 | H57: 0.58967391 | I57: 0.66011397 | K57: 0.6348057 | L57: 0.66808952 | M57: 0.57376808
A58: Four-Year | B58: 120814 | C58: 290899 | E58: 311956 | F58: 701791 | H58: 358073 | I58: 655674 | K58: 284741 | L58: 472288 | M58: 256718
B59: 0.30706706 | C59: 0.59578098 | E59: 0.33388847 | F59: 0.49770258 | H59: 0.36579867 | I59: 0.48017383 | K59: 0.42759425 | L59: 0.47988213 | M59: 0.36975935
A60: Two-Year | B60: 95480 | C60: 73891 | E60: 216956 | F60: 247898 | H60: 219147 | I60: 245707 | K60: 137985 | L60: 185229 | M60: 141640
B61: 0.24267687 | C61: 0.1513338 | E61: 0.23220937 | F61: 0.17580658 | H61: 0.22387525 | I61: 0.17994014 | K61: 0.20721144 | L61: 0.18820738 | M61: 0.20400873
A62: Public | B62: 190476 | C62: 285861 | E62: 458093 | F62: 758403 | H62: 496041 | I62: 720455 | K62: 354114 | L62: 527799 | M62: 334583
B63: 0.48412358 | C63: 0.58546281 | E63: 0.49029981 | F63: 0.5378512 | H63: 0.50674342 | I63: 0.5276153 | K63: 0.53177137 | L63: 0.53628572 | M63: 0.48191086
A64: Private | B64: 25818 | C64: 78929 | E64: 70819 | F64: 191286 | H64: 81179 | I64: 180926 | K64: 68612 | L64: 129718 | M64: 63775
B65: 0.065620354 | C65: 0.16165197 | E65: 0.07579802 | F65: 0.13565796 | H65: 0.082930492 | I65: 0.13249867 | K65: 0.10303433 | L65: 0.1318038 | M65: 0.091857223
A66: In-State | B66: 195547 | C66: 251614 | E66: 469051 | F66: 711453 | H66: 501232 | I66: 679272 | K66: 349318 | L66: 504618 | M66: 326568
B67: 0.49701229 | C67: 0.51532262 | E67: 0.50202823 | F67: 0.50455477 | H67: 0.51204642 | I67: 0.4974555 | K67: 0.52456924 | L67: 0.51273198 | M67: 0.47036659
A68: Out-of-State | B68: 20747 | C68: 113176 | E68: 59861 | F68: 238236 | H68: 75988 | I68: 222109 | K68: 73408 | L68: 152899 | M68: 71790
B69: 0.05273164 | C69: 0.23179216 | E69: 0.064069604 | F69: 0.16895439 | H69: 0.077627493 | I69: 0.16265847 | K69: 0.11023646 | L69: 0.15535753 | M69: 0.10340149
A71: Table 5. Rates of College Enrollment in the First Two Years after High School Graduation for Class of 2023
B72: High-Poverty HS | C72: Low-Poverty HS | E72: Low-Income HS | F72: Higher-Income HS | H72: High-Minority HS | I72: Low-Minority HS | K72: Urban HS | L72: Suburban HS | M72: Rural HS
A73: Overall | B73: 230955 | C73: 380174 | E73: 564766 | F73: 997804 | H73: 615168 | I73: 947402 | K73: 447147 | L73: 692486 | M73: 422937
B74: 0.58700708 | C74: 0.77862226 | E74: 0.6044726 | F74: 0.7076318 | H74: 0.62844067 | I74: 0.69381681 | K74: 0.6714786 | L74: 0.7036208 | M74: 0.60917002
A75: Four-Year | B75: 125579 | C75: 297957 | E75: 324130 | F75: 721568 | H75: 371312 | I75: 674386 | K75: 293799 | L75: 485757 | M75: 266142
B76: 0.31917803 | C76: 0.61023624 | E76: 0.34691837 | F76: 0.51172822 | H76: 0.37932331 | I76: 0.4938773 | K76: 0.44119661 | L76: 0.49356771 | M76: 0.38333305
A77: Two-Year | B77: 105376 | C77: 82217 | E77: 240636 | F77: 276236 | H77: 243856 | I77: 273016 | K77: 153348 | L77: 206729 | M77: 156795
B78: 0.26782905 | C78: 0.16838602 | E78: 0.25755422 | F78: 0.19590358 | H78: 0.24911736 | I78: 0.19993951 | K78: 0.23028199 | L78: 0.21005309 | M78: 0.22583698
A79: Public | B79: 203170 | C79: 299034 | E79: 489368 | F79: 799945 | H79: 529081 | I79: 760232 | K79: 375377 | L79: 558003 | M79: 355933
B80: 0.5163873 | C80: 0.61244201 | E80: 0.52377364 | F80: 0.56731234 | H80: 0.54049628 | I80: 0.55674544 | K80: 0.56370192 | L80: 0.56697539 | M80: 0.51266197
A81: Private | B81: 27785 | C81: 81140 | E81: 75398 | F81: 197859 | H81: 86087 | I81: 187170 | K81: 71770 | L81: 134483 | M81: 67004
B82: 0.070619782 | C82: 0.16618025 | E82: 0.080698953 | F82: 0.14031946 | H82: 0.087944385 | I82: 0.13707137 | K82: 0.10777668 | L82: 0.13664541 | M82: 0.096508057
A83: In-State | B83: 207679 | C83: 263495 | E83: 498623 | F83: 749474 | H83: 532386 | I83: 715711 | K83: 369110 | L83: 532800 | M83: 346187
B84: 0.5278476 | C84: 0.53965572 | E84: 0.53367933 | F84: 0.53151885 | H84: 0.54387259 | I84: 0.5241411 | K84: 0.55429079 | L84: 0.54136713 | M84: 0.49862448
A85: Out-of-State | B85: 23276 | C85: 116679 | E85: 66143 | F85: 248330 | H85: 82782 | I85: 231691 | K85: 78037 | L85: 159686 | M85: 76750
B86: 0.059159476 | C86: 0.23896654 | E86: 0.070793268 | F86: 0.17611295 | H86: 0.084568078 | I86: 0.16967571 | K86: 0.11718781 | L86: 0.16225366 | M86: 0.11054554
A88: Table 6. Rates of College Enrollment in the First Two Years after High School Graduation for Class of 2022
B89: High-Poverty HS | C89: Low-Poverty HS | E89: Low-Income HS | F89: Higher-Income HS | H89: High-Minority HS | I89: Low-Minority HS | K89: Urban HS | L89: Suburban HS | M89: Rural HS
A90: Overall | B90: 173856 | C90: 463146 | E90: 398641 | F90: 1127424 | H90: 571018 | I90: 955047 | K90: 409999 | L90: 696625 | M90: 419441
B91: 0.56616787 | C91: 0.75936778 | E91: 0.58636266 | F91: 0.68919387 | H91: 0.61605468 | I91: 0.68766894 | K91: 0.6518236 | L91: 0.7015845 | M91: 0.60457437
A92: Four-Year | B92: 90476 | C92: 344614 | E92: 217249 | F92: 799487 | H92: 339431 | I92: 677305 | K92: 263804 | L92: 489448 | M92: 263484
B93: 0.29463812 | C93: 0.56502435 | E93: 0.31955243 | F93: 0.48872611 | H93: 0.36620221 | I93: 0.48768449 | K93: 0.41940023 | L93: 0.49293254 | M93: 0.37978088
A94: Two-Year | B94: 83380 | C94: 118532 | E94: 181392 | F94: 327937 | H94: 231587 | I94: 277742 | K94: 146195 | L94: 207177 | M94: 155957
B95: 0.27152976 | C95: 0.19434343 | E95: 0.26681023 | F95: 0.20046777 | H95: 0.24985246 | I95: 0.19998445 | K95: 0.23242337 | L95: 0.20865196 | M95: 0.22479349
A96: Public | B96: 154600 | C96: 364708 | E96: 349291 | F96: 907208 | H96: 492896 | I96: 763603 | K96: 346480 | L96: 558631 | M96: 351388
B97: 0.50346007 | C97: 0.59797019 | E97: 0.51377355 | F97: 0.55457591 | H97: 0.53177113 | I97: 0.54982222 | K97: 0.55083998 | L97: 0.56260808 | M97: 0.50648405
A98: Private | B98: 19256 | C98: 98438 | E98: 49350 | F98: 220216 | H98: 78122 | I98: 191444 | K98: 63519 | L98: 137994 | M98: 68053
B99: 0.062707808 | C99: 0.16139758 | E99: 0.072589115 | F99: 0.13461796 | H99: 0.084283549 | I99: 0.13784672 | K99: 0.10098362 | L99: 0.13897642 | M99: 0.098090314
A100: In-State | B100: 157312 | C100: 320961 | E100: 353003 | F100: 851920 | H100: 491097 | I100: 713826 | K100: 334097 | L100: 530382 | M100: 340444
B101: 0.51229179 | C101: 0.52624322 | E101: 0.51923354 | F101: 0.52077838 | H101: 0.52983024 | I101: 0.51398095 | K101: 0.53115327 | L101: 0.53415796 | M101: 0.49070958
A102: Out-of-State | B102: 16544 | C102: 142185 | E102: 45638 | F102: 275504 | H102: 79921 | I102: 241221 | K102: 75902 | L102: 166243 | M102: 78997
B103: 0.053876089 | C103: 0.23312456 | E103: 0.067129119 | F103: 0.16841549 | H103: 0.086224438 | I103: 0.17368799 | K103: 0.12067033 | L103: 0.16742654 | M103: 0.11386479
A105: Table 7. Persistence Rates from First to Second Year of College for Class of 2023
B106: High-Poverty HS | C106: Low-Poverty HS | E106: Low-Income HS | F106: Higher-Income HS | H106: High-Minority HS | I106: Low-Minority HS | K106: Urban HS | L106: Suburban HS | M106: Rural HS
A107: Overall | B107: 164397 | C107: 330414 | E107: 416701 | F107: 832228 | H107: 464982 | I107: 783947 | K107: 352645 | L107: 570809 | M107: 325475
...

Sheet 2 Public Non-Charter Majors
A1: Top Five Majors Across College Level, Public Non-Charter High Schools
A3: At Two-Year Colleges | F3: At Four-Year Colleges
A4: Table 16a. Top Five Majors for Students with First Fall Enrollment, Class of 2025 | F4: Table 16b. Top Five Majors for Students with First Fall Enrollment, Class of 2025
B5: Major | C5: Count | D5: Share | G5: Major | H5: Count | I5: Share
A6: High-Poverty HS | B6: Liberal Arts and Sciences, General Studies and Humanities | C6: 22,129 | D6: 0.2211551 | F6: High-Poverty HS | G6: Liberal Arts and Sciences, General Studies and Humanities | H6: 18,390 | I6: 0.14147569
B7: Health Professions and Related Clinical Sciences | C7: 11,352 | D7: 0.1134508 | G7: Business, Management, Marketing, and Related Support | H7: 16,397 | I7: 0.12614338
B8: Business, Management, Marketing, and Related Support | C8: 8,428 | D8: 0.084228621 | G8: Health Professions and Related Clinical Sciences | H8: 13,737 | I8: 0.1056798
B9: Mechanic and Repair Technologies/Technicians | C9: 3,700 | D9: 0.036977444 | G9: Biological and Biomedical Sciences | H9: 10,887 | I9: 0.083754529
B10: Security and Protective Services | C10: 3,495 | D10: 0.034928693 | G10: Engineering | H10: 8,249 | I10: 0.063460192
A11: Low-Poverty HS | B11: Liberal Arts and Sciences, General Studies and Humanities | C11: 18,364 | D11: 0.33754251 | F11: Low-Poverty HS | G11: Business, Management, Marketing, and Related Support | H11: 39,395 | I11: 0.16661944
B12: Business, Management, Marketing, and Related Support | C12: 6,325 | D12: 0.1162577 | G12: Liberal Arts and Sciences, General Studies and Humanities | H12: 37,990 | I12: 0.16067705
B13: Health Professions and Related Clinical Sciences | C13: 4,253 | D13: 0.078172962 | G13: Engineering | H13: 22,335 | I13: 0.09446491
B14: Security and Protective Services | C14: 1,739 | D14: 0.031963974 | G14: Biological and Biomedical Sciences | H14: 19,287 | I14: 0.081573527
B15: Computer and Information Sciences and Support Services | C15: 1,711 | D15: 0.031449315 | G15: Health Professions and Related Clinical Sciences | H15: 18,197 | I15: 0.076963419
A16: Low-Income HS | B16: Liberal Arts and Sciences, General Studies and Humanities | C16: 52,477 | D16: 0.25348759 | F16: Low-Income HS | G16: Liberal Arts and Sciences, General Studies and Humanities | H16: 44,835 | I16: 0.14914525
B17: Health Professions and Related Clinical Sciences | C17: 23,260 | D17: 0.11235629 | G17: Business, Management, Marketing, and Related Support | H17: 36,419 | I17: 0.12114912
B18: Business, Management, Marketing, and Related Support | C18: 17,915 | D18: 0.086537533 | G18: Health Professions and Related Clinical Sciences | H18: 31,227 | I18: 0.10387774
B19: Mechanic and Repair Technologies/Technicians | C19: 7,063 | D19: 0.034117477 | G19: Biological and Biomedical Sciences | H19: 25,452 | I19: 0.084666997
B20: Security and Protective Services | C20: 6,874 | D20: 0.033204521 | G20: Engineering | H20: 20,790 | I20: 0.069158686
A21: Higher-Income HS | B21: Liberal Arts and Sciences, General Studies and Humanities | C21: 70,278 | D21: 0.32008417 | F21: Higher-Income HS | G21: Business, Management, Marketing, and Related Support | H21: 93,447 | I21: 0.14869748
B22: Business, Management, Marketing, and Related Support | C22: 22,097 | D22: 0.10064174 | G22: Liberal Arts and Sciences, General Studies and Humanities | H22: 91,865 | I22: 0.14618013
B23: Health Professions and Related Clinical Sciences | C23: 21,859 | D23: 0.099557754 | G23: Health Professions and Related Clinical Sciences | H23: 55,602 | I23: 0.088476649
B24: Security and Protective Services | C24: 6,737 | D24: 0.030683956 | G24: Engineering | H24: 55,316 | I24: 0.088021552
B25: Computer and Information Sciences and Support Services | C25: 6,574 | D25: 0.029941565 | G25: Biological and Biomedical Sciences | H25: 52,463 | I25: 0.083481717
A26: High-Minority HS | B26: Liberal Arts and Sciences, General Studies and Humanities | C26: 56,514 | D26: 0.25840523 | F26: High-Minority HS | G26: Liberal Arts and Sciences, General Studies and Humanities | H26: 53,437 | I26: 0.15089827
B27: Health Professions and Related Clinical Sciences | C27: 23,524 | D27: 0.1075614 | G27: Business, Management, Marketing, and Related Support | H27: 43,971 | I27: 0.12416767
B28: Business, Management, Marketing, and Related Support | C28: 19,986 | D28: 0.091384206 | G28: Health Professions and Related Clinical Sciences | H28: 34,491 | I28: 0.097397536
B29: Security and Protective Services | C29: 7,392 | D29: 0.033799262 | G29: Biological and Biomedical Sciences | H29: 30,946 | I29: 0.087386975
B30: Mechanic and Repair Technologies/Technicians | C30: 6,696 | D30: 0.030616864 | G30: Engineering | H30: 26,157 | I30: 0.07386354
A31: Low-Minority HS | B31: Liberal Arts and Sciences, General Studies and Humanities | C31: 66,241 | D31: 0.31865325 | F31: Low-Minority HS | G31: Business, Management, Marketing, and Related Support | H31: 85,895 | I31: 0.14940236
B32: Health Professions and Related Clinical Sciences | C32: 21,595 | D32: 0.10388305 | G32: Liberal Arts and Sciences, General Studies and Humanities | H32: 83,263 | I32: 0.14482436
B33: Business, Management, Marketing, and Related Support | C33: 20,026 | D33: 0.096335351 | G33: Health Professions and Related Clinical Sciences | H33: 52,338 | I33: 0.091034641
B34: Mechanic and Repair Technologies/Technicians | C34: 6,868 | D34: 0.033038609 | G34: Engineering | H34: 49,949 | I34: 0.086879309
B35: Security and Protective Services | C35: 6,219 | D35: 0.029916586 | G35: Biological and Biomedical Sciences | H35: 46,969 | I35: 0.081696015
A36: Urban HS | B36: Liberal Arts and Sciences, General Studies and Humanities | C36: 33,415 | D36: 0.25263675 | F36: Urban HS | G36: Liberal Arts and Sciences, General Studies and Humanities | H36: 43,598 | I36: 0.15772033
B37: Business, Management, Marketing, and Related Support | C37: 13,219 | D37: 0.099943296 | G37: Business, Management, Marketing, and Related Support | H37: 36,492 | I37: 0.13201363
B38: Health Professions and Related Clinical Sciences | C38: 13,111 | D38: 0.099126753 | G38: Health Professions and Related Clinical Sciences | H38: 23,831 | I38: 0.086211138
B39: Security and Protective Services | C39: 4,264 | D39: 0.032238309 | G39: Biological and Biomedical Sciences | H39: 23,535 | I39: 0.085140327
B40: Biological and Biomedical Sciences | C40: 4,008 | D40: 0.030302801 | G40: Engineering | H40: 23,335 | I40: 0.084416806
A41: Suburban HS | B41: Liberal Arts and Sciences, General Studies and Humanities | C41: 50,413 | D41: 0.2987738 | F41: Suburban HS | G41: Liberal Arts and Sciences, General Studies and Humanities | H41: 64,352 | I41: 0.15057749
B42: Business, Management, Marketing, and Related Support | C42: 17,201 | D42: 0.10194212 | G42: Business, Management, Marketing, and Related Support | H42: 63,782 | I42: 0.14924374
B43: Health Professions and Related Clinical Sciences | C43: 16,037 | D43: 0.095043649 | G43: Health Professions and Related Clinical Sciences | H43: 37,194 | I43: 0.087030381
B44: Security and Protective Services | C44: 5,774 | D44: 0.034219744 | G44: Engineering | H44: 36,285 | I44: 0.084903409
B45: Computer and Information Sciences and Support Services | C45: 5,541 | D45: 0.032838864 | G45: Biological and Biomedical Sciences | H45: 36,279 | I45: 0.084889369
A46: Rural HS | B46: Liberal Arts and Sciences, General Studies and Humanities | C46: 38,927 | D46: 0.3099703 | F46: Rural HS | G46: Business, Management, Marketing, and Related Support | H46: 29,592 | I46: 0.13137053
B47: Health Professions and Related Clinical Sciences | C47: 15,971 | D47: 0.12717486 | G47: Liberal Arts and Sciences, General Studies and Humanities | H47: 28,750 | I47: 0.12763256
B48: Business, Management, Marketing, and Related Support | C48: 9,592 | D48: 0.076379765 | G48: Health Professions and Related Clinical Sciences | H48: 25,804 | I48: 0.11455411
B49: Mechanic and Repair Technologies/Technicians | C49: 5,459 | D49: 0.043469259 | G49: Biological and Biomedical Sciences | H49: 18,101 | I49: 0.08035746
B50: Security and Protective Services | C50: 3,573 | D50: 0.028451303 | G50: Engineering | H50: 16,486 | I50: 0.07318784
A52: Table 17a. Top Five Majors for Students with First Year Persistence, Class of 2023 | F52: Table 17b. Top Five Majors for Students with First Year Persistence, Class of 2023
B53: Major | C53: Count | D53: Share | G53: Major | H53: Count | I53: Share
A54: High-Poverty HS | B54: Liberal Arts and Sciences, General Studies and Humanities | C54: 15,545 | D54: 0.24453743 | F54: High-Poverty HS | G54: Liberal Arts and Sciences, General Studies and Humanities | H54: 14,832 | I54: 0.147102
B55: Health Professions and Related Clinical Sciences | C55: 6,691 | D55: 0.10525571 | G55: Business, Management, Marketing, and Related Support | H55: 11,635 | I55: 0.11539453
B56: Business, Management, Marketing, and Related Support | C56: 5,471 | D56: 0.086063962 | G56: Health Professions and Related Clinical Sciences | H56: 10,021 | I56: 0.099387075
B57: Computer and Information Sciences and Support Services | C57: 2,610 | D57: 0.041057748 | G57: Biological and Biomedical Sciences | H57: 8,297 | I57: 0.08228865
B58: Mechanic and Repair Technologies/Technicians | C58: 2,119 | D58: 0.033333858 | G58: Engineering | H58: 5,940 | I58: 0.058912207
A59: Low-Poverty HS | B59: Liberal Arts and Sciences, General Studies and Humanities | C59: 18,506 | D59: 0.32664372 | F59: Low-Poverty HS | G59: Liberal Arts and Sciences, General Studies and Humanities | H59: 45,191 | I59: 0.16507585
B60: Business, Management, Marketing, and Related Support | C60: 6,382 | D60: 0.11264672 | G60: Business, Management, Marketing, and Related Support | H60: 41,225 | I60: 0.15058866
B61: Health Professions and Related Clinical Sciences | C61: 3,972 | D61: 0.070108552 | G61: Engineering | H61: 23,276 | I61: 0.085023689
B62: Computer and Information Sciences and Support Services | C62: 2,729 | D62: 0.048168741 | G62: Biological and Biomedical Sciences | H62: 20,371 | I62: 0.074412165
B63: Visual and Performing Arts | C63: 1,917 | D63: 0.033836378 | G63: Health Professions and Related Clinical Sciences | H63: 18,093 | I63: 0.066090978
A64: Low-Income HS | B64: Liberal Arts and Sciences, General Studies and Humanities | C64: 40,891 | D64: 0.27556811 | F64: Low-Income HS | G64: Liberal Arts and Sciences, General Studies and Humanities | H64: 43,026 | I64: 0.16035749
B65: Health Professions and Related Clinical Sciences | C65: 13,910 | D65: 0.093740734 | G65: Business, Management, Marketing, and Related Support | H65: 29,923 | I65: 0.11152274
B66: Business, Management, Marketing, and Related Support | C66: 12,320 | D66: 0.083025582 | G66: Health Professions and Related Clinical Sciences | H66: 25,142 | I66: 0.093703995
B67: Computer and Information Sciences and Support Services | C67: 6,261 | D67: 0.042193439 | G67: Biological and Biomedical Sciences | H67: 21,934 | I67: 0.081747809
B68: Security and Protective Services | C68: 4,451 | D68: 0.029995687 | G68: Engineering | H68: 16,317 | I68: 0.060813304
A69: Higher-Income HS | B69: Liberal Arts and Sciences, General Studies and Humanities | C69: 60,995 | D69: 0.33352836 | F69: Higher-Income HS | G69: Liberal Arts and Sciences, General Studies and Humanities | H69: 105,067 | I69: 0.16180334
B70: Business, Management, Marketing, and Related Support | C70: 18,013 | D70: 0.098497359 | G70: Business, Management, Marketing, and Related Support | H70: 88,259 | I70: 0.135919
B71: Health Professions and Related Clinical Sciences | C71: 14,680 | D71: 0.080272094 | G71: Engineering | H71: 51,017 | I71: 0.078566259
B72: Computer and Information Sciences and Support Services | C72: 8,249 | D72: 0.045106574 | G72: Biological and Biomedical Sciences | H72: 48,876 | I72: 0.075269115
B73: Visual and Performing Arts | C73: 5,530 | D73: 0.030238738 | G73: Health Professions and Related Clinical Sciences | H73: 47,811 | I73: 0.073629014
A74: High-Minority HS | B74: Liberal Arts and Sciences, General Studies and Humanities | C74: 42,503 | D74: 0.27947607 | F74: High-Minority HS | G74: Liberal Arts and Sciences, General Studies and Humanities | H74: 51,320 | I74: 0.16401354
B75: Business, Management, Marketing, and Related Support | C75: 13,858 | D75: 0.091122494 | G75: Business, Management, Marketing, and Related Support | H75: 36,004 | I75: 0.11506515
B76: Health Professions and Related Clinical Sciences | C76: 13,707 | D76: 0.090129602 | G76: Health Professions and Related Clinical Sciences | H76: 26,824 | I76: 0.085726795
B77: Computer and Information Sciences and Support Services | C77: 7,104 | D77: 0.04671195 | G77: Biological and Biomedical Sciences | H77: 25,778 | I77: 0.082383885
B78: Visual and Performing Arts | C78: 4,925 | D78: 0.032384058 | G78: Engineering | H78: 20,001 | I78: 0.063921176
A79: Low-Minority HS | B79: Liberal Arts and Sciences, General Studies and Humanities | C79: 59,383 | D79: 0.33140609 | F79: Low-Minority HS | G79: Liberal Arts and Sciences, General Studies and Humanities | H79: 96,773 | I79: 0.16001832
B80: Business, Management, Marketing, and Related Support | C80: 16,475 | D80: 0.09194408 | G80: Business, Management, Marketing, and Related Support | H80: 82,178 | I80: 0.13588486
B81: Health Professions and Related Clinical Sciences | C81: 14,883 | D81: 0.083059408 | G81: Engineering | H81: 47,333 | I81: 0.078267153
B82: Computer and Information Sciences and Support Services | C82: 7,406 | D82: 0.041331585 | G82: Health Professions and Related Clinical Sciences | H82: 46,129 | I82: 0.076276287
B83: Mechanic and Repair Technologies/Technicians | C83: 4,979 | D83: 0.027786924 | G83: Biological and Biomedical Sciences | H83: 45,032 | I83: 0.07446235
A84: Urban HS | B84: Liberal Arts and Sciences, General Studies and Humanities | C84: 25,934 | D84: 0.2669123 | F84: Urban HS | G84: Liberal Arts and Sciences, General Studies and Humanities | H84: 43,343 | I84: 0.16965187
B85: Business, Management, Marketing, and Related Support | C85: 9,500 | D85: 0.097773844 | G85: Business, Management, Marketing, and Related Support | H85: 30,989 | I85: 0.12129622
B86: Health Professions and Related Clinical Sciences | C86: 7,975 | D86: 0.082078569 | G86: Biological and Biomedical Sciences | H86: 20,134 | I86: 0.0788079
B87: Computer and Information Sciences and Support Services | C87: 4,483 | D87: 0.046138962 | G87: Engineering | H87: 19,228 | I87: 0.075261662
B88: Visual and Performing Arts | C88: 3,520 | D88: 0.036227782 | G88: Health Professions and Related Clinical Sciences | H88: 18,157 | I88: 0.071069586
A89: Suburban HS | B89: Liberal Arts and Sciences, General Studies and Humanities | C89: 42,974 | D89: 0.31611778 | F89: Suburban HS | G89: Liberal Arts and Sciences, General Studies and Humanities | H89: 72,242 | I89: 0.16612474
B90: Business, Management, Marketing, and Related Support | C90: 13,096 | D90: 0.096334493 | G90: Business, Management, Marketing, and Related Support | H90: 59,330 | I90: 0.13643283
B91: Health Professions and Related Clinical Sciences | C91: 10,426 | D91: 0.076693908 | G91: Biological and Biomedical Sciences | H91: 32,991 | I91: 0.075864749
B92: Computer and Information Sciences and Support Services | C92: 6,767 | D92: 0.049778216 | G92: Engineering | H92: 32,369 | I92: 0.074434423
B93: Visual and Performing Arts | C93: 4,355 | D93: 0.032035485 | G93: Health Professions and Related Clinical Sciences | H93: 32,098 | I93: 0.073811243
A94: Rural HS | B94: Liberal Arts and Sciences, General Studies and Humanities | C94: 32,978 | D94: 0.3359617 | F94: Rural HS | G94: Liberal Arts and Sciences, General Studies and Humanities | H94: 32,508 | I94: 0.1430086
B95: Health Professions and Related Clinical Sciences | C95: 10,189 | D95: 0.10379992 | G95: Business, Management, Marketing, and Related Support | H95: 27,863 | I95: 0.1225744
B96: Business, Management, Marketing, and Related Support | C96: 7,737 | D96: 0.078820293 | G96: Health Professions and Related Clinical Sciences | H96: 22,698 | I96: 0.099852627
B97: Mechanic and Repair Technologies/Technicians | C97: 3,688 | D97: 0.037571312 | G97: Biological and Biomedical Sciences | H97: 17,685 | I97: 0.077799529
B98: Computer and Information Sciences and Support Services | C98: 3,260 | D98: 0.033211084 | G98: Engineering | H98: 15,737 | I98: 0.069229923
A100: Table 18a. Top Five Majors for Students with Completion within Six Years, Class of 2019 | F100: Table 18b. Top Five Majors for Students with Completion within Six Years, Class of 2019
B101: Major | C101: Count | D101: Share | G101: Major | H101: Count | I101: Share
A102: High-Poverty HS | B102: Liberal Arts and Sciences, General Studies and Humanities | C102: 9,099 | D102: 0.32573208 | F102: High-Poverty HS | G102: Business, Management, Marketing, and Related Support | H102: 6,596 | I102: 0.13028621
B103: Health Professions and Related Clinical Sciences | C103: 3,882 | D103: 0.13897043 | G103: Liberal Arts and Sciences, General Studies and Humanities | H103: 5,292 | I103: 0.1045292
...

Sheet 3 Public Non-Charter Poverty
A1: Postsecondary Enrollment, Persistence, and Completion Across High School Poverty Level
A2: High-Poverty High Schools | N2: Low-Poverty High Schools
A4: =CONCATENATE("Table 19a. College Enrollment Rates in the First Fall after High School Graduation for Classes ",A6," and ",A7,", School Percentile Distribution") -> Table 19a. College Enrollment Rates in the First Fall after High School Graduation for Classes 2024 and 2025, School Percentile Distribution | N4: =CONCATENATE("Table 19b. College Enrollment Rates in the First Fall after High School Graduation for Classes ",N6," and ",N7,", School Percentile Distribution") -> Table 19b. College Enrollment Rates in the First Fall after High School Graduation for Classes 2024 and 2025, School Percentile Distribution
B5: N of schools | C5: 25th percentile | D5: 50th percentile | E5: 75th percentile | O5: N of schools | P5: 25th percentile | Q5: 50th percentile | R5: 75th percentile
A6: 2024 | B6: 2542 | C6: 0.36263736 | D6: 0.47256511 | E6: 0.6 | N6: 2024 | O6: 1652 | P6: 0.60515259 | Q6: 0.72120647 | R6: 0.81370237
A7: 2025 | B7: 2483 | C7: 0.38656716 | D7: 0.48972603 | E7: 0.60187354 | N7: 2025 | O7: 1542 | P7: 0.61818182 | Q7: 0.7238753 | R7: 0.81168831
A9: =CONCATENATE("Table 20a. College Enrollment Rates in the First Fall after High School Graduation for Classes ",A11," and ",A12,", Student-Weighted Totals") -> Table 20a. College Enrollment Rates in the First Fall after High School Graduation for Classes 2024 and 2025, Student-Weighted Totals | N9: =CONCATENATE("Table 20b. College Enrollment Rates in the First Fall after High School Graduation for Classes ",N11," and ",N12,", Student-Weighted Totals") -> Table 20b. College Enrollment Rates in the First Fall after High School Graduation for Classes 2024 and 2025, Student-Weighted Totals
B10: N of total HS Graduates | C10: Total | D10: Public | E10: Private | F10: Two-year | G10: Four-year | H10: In-state | I10: Out-of-state | O10: N of total HS Graduates | P10: Total | Q10: Public | R10: Private | S10: Two-year | T10: Four-year | U10: In-state | V10: Out-of-state
A11: 2024 | B11: 416333 | C11: 0.5081149 | D11: 0.45065609 | E11: 0.057458813 | F11: 0.22244213 | G11: 0.28567277 | H11: 0.46285065 | I11: 0.045264248 | N11: 2024 | O11: 417838 | P11: 0.73087895 | Q11: 0.57371039 | R11: 0.15716857 | S11: 0.14169606 | T11: 0.58918289 | U11: 0.49680977 | V11: 0.23406918
A12: 2025 | B12: 449626 | C12: 0.51164301 | D12: 0.45368595 | E12: 0.057957058 | F12: 0.22254274 | G12: 0.28910027 | H12: 0.46478629 | I12: 0.046856721 | N12: 2025 | O12: 393380 | P12: 0.7393411 | Q12: 0.57825004 | R12: 0.16109106 | S12: 0.13830139 | T12: 0.60103971 | U12: 0.49853831 | V12: 0.24080279
A15: =CONCATENATE("Table 21a. College Enrollment Rates in the First Year after High School Graduation for Classes ",A17," and ",A18,", School Percentile Distribution") -> Table 21a. College Enrollment Rates in the First Year after High School Graduation for Classes 2023 and 2024, School Percentile Distribution | N15: =CONCATENATE("Table 21b. College Enrollment Rates in the First Year after High School Graduation for Classes ",N17," and ",N18,", School Percentile Distribution") -> Table 21b. College Enrollment Rates in the First Year after High School Graduation for Classes 2023 and 2024, School Percentile Distribution
B16: N of schools | C16: 25th percentile | D16: 50th percentile | E16: 75th percentile | O16: N of schools | P16: 25th percentile | Q16: 50th percentile | R16: 75th percentile
A17: 2023 | B17: 2478 | C17: 0.39705882 | D17: 0.52149315 | E17: 0.64772727 | N17: 2023 | O17: 1998 | P17: 0.60869565 | Q17: 0.72727273 | R17: 0.83105023
A18: 2024 | B18: 2542 | C18: 0.39634146 | D18: 0.51162791 | E18: 0.63636364 | N18: 2024 | O18: 1652 | P18: 0.62912287 | Q18: 0.74755441 | R18: 0.83333333
A20: =CONCATENATE("Table 22a. College Enrollment Rates in the First Year after High School Graduation for Classes ",A22," and ",A23,", Student-Weighted Totals") -> Table 22a. College Enrollment Rates in the First Year after High School Graduation for Classes 2023 and 2024, Student-Weighted Totals | N20: =CONCATENATE("Table 22b. College Enrollment Rates in the First Year after High School Graduation for Classes ",N22," and ",N23,", Student-Weighted Totals") -> Table 22b. College Enrollment Rates in the First Year after High School Graduation for Classes 2023 and 2024, Student-Weighted Totals
B21: N of total HS Graduates | C21: Total | D21: Public | E21: Private | F21: Two-year | G21: Four-year | H21: In-state | I21: Out-of-state | O21: N of total HS Graduates | P21: Total | Q21: Public | R21: Private | S21: Two-year | T21: Four-year | U21: In-state | V21: Out-of-state
A22: 2023 | B22: 393445 | C22: 0.54974393 | D22: 0.48412358 | E22: 0.065620354 | F22: 0.24267687 | G22: 0.30706706 | H22: 0.49701229 | I22: 0.05273164 | N22: 2023 | O22: 488265 | P22: 0.74711478 | Q22: 0.58546281 | R22: 0.16165197 | S22: 0.1513338 | T22: 0.59578098 | U22: 0.51532262 | V22: 0.23179216
A23: 2024 | B23: 416333 | C23: 0.54643759 | D23: 0.48424458 | E23: 0.062193004 | F23: 0.24751581 | G23: 0.29892178 | H23: 0.49643915 | I23: 0.049998439 | N23: 2024 | O23: 417838 | P23: 0.75591976 | Q23: 0.5948334 | R23: 0.16108635 | S23: 0.15034056 | T23: 0.6055792 | U23: 0.51672179 | V23: 0.23919797
A26: =CONCATENATE("Table 23a. College Enrollment Rates in the First Two Years after High School Graduation for Classes ",A28," and ",A29,", School Percentile Distribution") -> Table 23a. College Enrollment Rates in the First Two Years after High School Graduation for Classes 2022 and 2023, School Percentile Distribution | N26: =CONCATENATE("Table 23b. College Enrollment Rates in the First Two Years after High School Graduation for Classes ",N28," and ",N29,", School Percentile Distribution") -> Table 23b. College Enrollment Rates in the First Two Years after High School Graduation for Classes 2022 and 2023, School Percentile Distribution
B27: N of schools | C27: 25th percentile | D27: 50th percentile | E27: 75th percentile | O27: N of schools | P27: 25th percentile | Q27: 50th percentile | R27: 75th percentile
A28: 2022 | B28: 1958 | C28: 0.40540541 | D28: 0.52604449 | E28: 0.66145833 | N28: 2022 | O28: 2566 | P28: 0.61904762 | Q28: 0.734375 | R28: 0.832
A29: 2023 | B29: 2478 | C29: 0.43636364 | D29: 0.56229575 | E29: 0.68181818 | N29: 2023 | O29: 1998 | P29: 0.64697802 | Q29: 0.76005391 | R29: 0.85604607
A31: =CONCATENATE("Table 24a. College Enrollment Rates in the First Two Years after High School Graduation for Classes ",A33," and ",A34,", Student-Weighted Totals") -> Table 24a. College Enrollment Rates in the First Two Years after High School Graduation for Classes 2022 and 2023, Student-Weighted Totals | N31: =CONCATENATE("Table 24b. College Enrollment Rates in the First Two Years after High School Graduation for Classes ",N33," and ",N34,", Student-Weighted Totals") -> Table 24b. College Enrollment Rates in the First Two Years after High School Graduation for Classes 2022 and 2023, Student-Weighted Totals
B32: N of total HS Graduates | C32: Total | D32: Public | E32: Private | F32: Two-year | G32: Four-year | H32: In-state | I32: Out-of-state | O32: N of total HS Graduates | P32: Total | Q32: Public | R32: Private | S32: Two-year | T32: Four-year | U32: In-state | V32: Out-of-state
A33: 2022 | B33: 307075 | C33: 0.56616787 | D33: 0.50346007 | E33: 0.062707808 | F33: 0.27152976 | G33: 0.29463812 | H33: 0.51229179 | I33: 0.053876089 | N33: 2022 | O33: 609910 | P33: 0.75936778 | Q33: 0.59797019 | R33: 0.16139758 | S33: 0.19434343 | T33: 0.56502435 | U33: 0.52624322 | V33: 0.23312456
A34: 2023 | B34: 393445 | C34: 0.58700708 | D34: 0.5163873 | E34: 0.070619782 | F34: 0.26782905 | G34: 0.31917803 | H34: 0.5278476 | I34: 0.059159476 | N34: 2023 | O34: 488265 | P34: 0.77862226 | Q34: 0.61244201 | R34: 0.16618025 | S34: 0.16838602 | T34: 0.61023624 | U34: 0.53965572 | V34: 0.23896654
A37: =CONCATENATE("Table 25a. Persistence Rates from First to Second Year of College for Class of ",A39," and ",A40,", School Percentile Distribution") -> Table 25a. Persistence Rates from First to Second Year of College for Class of 2022 and 2023, School Percentile Distribution | N37: =CONCATENATE("Table 25b. Persistence Rates from First to Second Year of College for Class of ",N39," and ",N40,", School Percentile Distribution") -> Table 25b. Persistence Rates from First to Second Year of College for Class of 2022 and 2023, School Percentile Distribution
B38: N of schools | C38: 25th percentile | D38: 50th percentile | E38: 75th percentile | O38: N of schools | P38: 25th percentile | Q38: 50th percentile | R38: 75th percentile
A39: 2022 | B39: 1958 | C39: 0.63680927 | D39: 0.72727273 | E39: 0.8 | N39: 2022 | O39: 2566 | P39: 0.82007194 | Q39: 0.88888889 | R39: 0.93041264
A40: 2023 | B40: 2478 | C40: 0.65454545 | D40: 0.73954984 | E40: 0.80357143 | N40: 2023 | O40: 1998 | P40: 0.85326087 | Q40: 0.90384615 | R40: 0.93779904
A42: =CONCATENATE("Table 26a. Persistence Rates from First to Second Year of College for Class of ",A44," and ",A45,", Student-Weighted Totals") -> Table 26a. Persistence Rates from First to Second Year of College for Class of 2022 and 2023, Student-Weighted Totals | N42: =CONCATENATE("Table 26b. Persistence Rates from First to Second Year of College for Class of ",N44," and ",N45,", Student-Weighted Totals") -> Table 26b. Persistence Rates from First to Second Year of College for Class of 2022 and 2023, Student-Weighted Totals
B43: Students enrolled in first year | C43: Total | D43: Public | E43: Private | F43: Two-year | G43: Four-year | H43: In-state | I43: Out-of-state | O43: Students enrolled in first year | P43: Total | Q43: Public | R43: Private | S43: Two-year | T43: Four-year | U43: In-state | V43: Out-of-state
A44: 2022 | B44: 162222 | C44: 0.74312362 | D44: 0.73763582 | E44: 0.78784119 | F44: 0.65239645 | G44: 0.82232998 | H44: 0.73918934 | I44: 0.78293352 | N44: 2022 | O44: 442325 | P44: 0.89449839 | Q44: 0.88406198 | R44: 0.93249538 | S44: 0.75606391 | T44: 0.93841742 | U44: 0.87235898 | V44: 0.94369255
A45: 2023 | B45: 216294 | C45: 0.76006269 | D45: 0.75364875 | E45: 0.80738245 | F45: 0.66578341 | G45: 0.83457215 | H45: 0.75501542 | I45: 0.80763484 | N45: 2023 | O45: 364790 | P45: 0.90576496 | Q45: 0.89714232 | R45: 0.93699401 | S45: 0.76673749 | T45: 0.94107921 | U45: 0.88545152 | V45: 0.95092599
A48: =CONCATENATE("Table 27a. Six-Year Completion Rates for Class of ",,A50," and ",A51,", School Percentile Distribution") -> Table 27a. Six-Year Completion Rates for Class of 2018 and 2019, School Percentile Distribution | N48: =CONCATENATE("Table 27b. Six-Year Completion Rates for Class of ",N50," and ",N51,", School Percentile Distribution") -> Table 27b. Six-Year Completion Rates for Class of 2018 and 2019, School Percentile Distribution
B49: N of schools | C49: 25th percentile | D49: 50th percentile | E49: 75th percentile | O49: N of schools | P49: 25th percentile | Q49: 50th percentile | R49: 75th percentile
A50: 2018 | B50: 1897 | C50: 0.13793103 | D50: 0.22556391 | E50: 0.3025641 | N50: 2018 | O50: 2267 | P50: 0.46666667 | Q50: 0.56358382 | R50: 0.65986395
A51: 2019 | B51: 1886 | C51: 0.14285714 | D51: 0.22222222 | E51: 0.3015873 | N51: 2019 | O51: 2309 | P51: 0.45512821 | Q51: 0.55600815 | R51: 0.65517241
A53: =CONCATENATE("Table 28a. Six-Year Completion Rates for Class of ",A55," and ",A56, ", Student-Weighted Totals") -> Table 28a. Six-Year Completion Rates for Class of 2018 and 2019, Student-Weighted Totals | N53: =CONCATENATE("Table 28b. Six-Year Completion Rates for Class of ",,N55," and ",N56, ", Student-Weighted Totals") -> Table 28b. Six-Year Completion Rates for Class of 2018 and 2019, Student-Weighted Totals
B54: N of total HS Graduates | C54: Total | D54: Public | E54: Private | F54: Two-year | G54: Four-year | H54: In-state | I54: Out-of-state | O54: N of total HS Graduates | P54: Total | Q54: Public | R54: Private | S54: Two-year | T54: Four-year | U54: In-state | V54: Out-of-state
A55: 2018 | B55: 312702 | C55: 0.24787497 | D55: 0.20889537 | E55: 0.038979604 | F55: 0.08695819 | G55: 0.16060019 | H55: 0.22172548 | I55: 0.026149497 | N55: 2018 | O55: 583495 | P55: 0.59384571 | Q55: 0.43920342 | R55: 0.15464228 | S55: 0.08493646 | T55: 0.50888868 | U55: 0.40114825 | V55: 0.19269745
A56: 2019 | B56: 319767 | C56: 0.2460479 | D56: 0.20756989 | E56: 0.038478017 | F56: 0.087357357 | G56: 0.15832466 | H56: 0.22030103 | I56: 0.025746872 | N56: 2019 | O56: 593266 | P56: 0.58831957 | Q56: 0.43944538 | R56: 0.1488742 | S56: 0.084919749 | T56: 0.50339645 | U56: 0.39527969 | V56: 0.19303988

Sheet 4 Public Non-Charter Income
A1: Postsecondary Enrollment, Persistence, and Completion Across High School Income Level
A2: Low-Income High Schools | N2: Higher-Income High Schools
A4: =CONCATENATE("Table 29a. College Enrollment Rates in the First Fall after High School Graduation for Classes ",A6," and ",A7,", School Percentile Distribution") -> Table 29a. College Enrollment Rates in the First Fall after High School Graduation for Classes 2024 and 2025, School Percentile Distribution | N4: =CONCATENATE("Table 29b. College Enrollment Rates in the First Fall after High School Graduation for Classes ",N6," and ",N7,", School Percentile Distribution") -> Table 29b. College Enrollment Rates in the First Fall after High School Graduation for Classes 2024 and 2025, School Percentile Distribution
B5: N of schools | C5: 25th percentile | D5: 50th percentile | E5: 75th percentile | O5: N of schools | P5: 25th percentile | Q5: 50th percentile | R5: 75th percentile
A6: 2024 | B6: 5701 | C6: 0.38764045 | D6: 0.48763251 | E6: 0.59744409 | N6: 2024 | O6: 7115 | P6: 0.46774194 | Q6: 0.59259259 | R6: 0.71282051
A7: 2025 | B7: 5179 | C7: 0.39719626 | D7: 0.49863014 | E7: 0.60187354 | N7: 2025 | O7: 6844 | P7: 0.46666667 | Q7: 0.58434262 | R7: 0.70889047
A9: =CONCATENATE("Table 30a. College Enrollment Rates in the First Fall after High School Graduation for Classes ",A11," and ",A12,", Student-Weighted Totals") -> Table 30a. College Enrollment Rates in the First Fall after High School Graduation for Classes 2024 and 2025, Student-Weighted Totals | N9: =CONCATENATE("Table 30b. College Enrollment Rates in the First Fall after High School Graduation for Classes ",N11," and ",N12,", Student-Weighted Totals") -> Table 30b. College Enrollment Rates in the First Fall after High School Graduation for Classes 2024 and 2025, Student-Weighted Totals
B10: N of total HS Graduates | C10: Total | D10: Public | E10: Private | F10: Two-year | G10: Four-year | H10: In-state | I10: Out-of-state | O10: N of total HS Graduates | P10: Total | Q10: Public | R10: Private | S10: Two-year | T10: Four-year | U10: In-state | V10: Out-of-state
A11: 2024 | B11: 990990 | C11: 0.52508804 | D11: 0.45518219 | E11: 0.069905852 | F11: 0.21208287 | G11: 0.31300518 | H11: 0.46471407 | I11: 0.060373969 | N11: 2024 | O11: 1369904 | P11: 0.64095513 | Q11: 0.51312501 | R11: 0.12783013 | S11: 0.16510719 | T11: 0.47584794 | U11: 0.47998108 | V11: 0.16097405
A12: 2025 | B12: 965433 | C12: 0.52580863 | D12: 0.45666867 | E12: 0.069139961 | F12: 0.21443228 | G12: 0.31137635 | H12: 0.46513533 | I12: 0.060673294 | N12: 2025 | O12: 1341251 | P12: 0.63224408 | Q12: 0.50709226 | R12: 0.12515182 | S12: 0.16369867 | T12: 0.46854541 | U12: 0.47472322 | V12: 0.15752085
A15: =CONCATENATE("Table 31a. College Enrollment Rates in the First Year after High School Graduation for Classes ",A17," and ",A18,", School Percentile Distribution") -> Table 31a. College Enrollment Rates in the First Year after High School Graduation for Classes 2023 and 2024, School Percentile Distribution | N15: =CONCATENATE("Table 31b. College Enrollment Rates in the First Year after High School Graduation for Classes ",N17," and ",N18,", School Percentile Distribution") -> Table 31b. College Enrollment Rates in the First Year after High School Graduation for Classes 2023 and 2024, School Percentile Distribution
B16: N of schools | C16: 25th percentile | D16: 50th percentile | E16: 75th percentile | O16: N of schools | P16: 25th percentile | Q16: 50th percentile | R16: 75th percentile
A17: 2023 | B17: 5451 | C17: 0.42253521 | D17: 0.52941176 | E17: 0.64049587 | N17: 2023 | O17: 7380 | P17: 0.5 | Q17: 0.62068966 | R17: 0.74297553
A18: 2024 | B18: 5701 | C18: 0.42222222 | D18: 0.52380952 | E18: 0.63333333 | N18: 2024 | O18: 7115 | P18: 0.5 | Q18: 0.61607143 | R18: 0.73831776
A20: =CONCATENATE("Table 32a. College Enrollment Rates in the First Year after High School Graduation for Classes ",A22," and ",A23,", Student-Weighted Totals") -> Table 32a. College Enrollment Rates in the First Year after High School Graduation for Classes 2023 and 2024, Student-Weighted Totals | N20: =CONCATENATE("Table 32b. College Enrollment Rates in the First Year after High School Graduation for Classes ",N22," and ",N23,", Student-Weighted Totals") -> Table 32b. College Enrollment Rates in the First Year after High School Graduation for Classes 2023 and 2024, Student-Weighted Totals
B21: N of total HS Graduates | C21: Total | D21: Public | E21: Private | F21: Two-year | G21: Four-year | H21: In-state | I21: Out-of-state | O21: N of total HS Graduates | P21: Total | Q21: Public | R21: Private | S21: Two-year | T21: Four-year | U21: In-state | V21: Out-of-state
A22: 2023 | B22: 934312 | C22: 0.56609783 | D22: 0.49029981 | E22: 0.07579802 | F22: 0.23220937 | G22: 0.33388847 | H22: 0.50202823 | I22: 0.064069604 | N22: 2023 | O22: 1410061 | P22: 0.67350916 | Q22: 0.5378512 | R22: 0.13565796 | S22: 0.17580658 | T22: 0.49770258 | U22: 0.50455477 | V22: 0.16895439
A23: 2024 | B23: 990990 | C23: 0.56378773 | D23: 0.48913612 | E23: 0.074651611 | F23: 0.23525767 | G23: 0.32853006 | H23: 0.49823308 | I23: 0.065554647 | N23: 2024 | O23: 1369904 | P23: 0.66985205 | Q23: 0.53774498 | R23: 0.13210707 | S23: 0.17880888 | T23: 0.49104317 | U23: 0.50382436 | V23: 0.16602769
A26: =CONCATENATE("Table 33a. College Enrollment Rates in the First Two Years after High School Graduation for Classes ",A28," and ",A29,", School Percentile Distribution") -> Table 33a. College Enrollment Rates in the First Two Years after High School Graduation for Classes 2022 and 2023, School Percentile Distribution | N26: =CONCATENATE("Table 33b. College Enrollment Rates in the First Two Years after High School Graduation for Classes ",N28," and ",N29,", School Percentile Distribution") -> Table 33b. College Enrollment Rates in the First Two Years after High School Graduation for Classes 2022 and 2023, School Percentile Distribution
B27: N of schools | C27: 25th percentile | D27: 50th percentile | E27: 75th percentile | O27: N of schools | P27: 25th percentile | Q27: 50th percentile | R27: 75th percentile
A28: 2022 | B28: 4008 | C28: 0.43463268 | D28: 0.54166667 | E28: 0.6647435 | N28: 2022 | O28: 8744 | P28: 0.51557648 | Q28: 0.62921348 | R28: 0.75074796
A29: 2023 | B29: 5451 | C29: 0.46341463 | D29: 0.56737589 | E29: 0.67491166 | N29: 2023 | O29: 7380 | P29: 0.53555803 | Q29: 0.65732864 | R29: 0.77300613
A31: =CONCATENATE("Table 34a. College Enrollment Rates in the First Two Years after High School Graduation for Classes ",A33," and ",A34,", Student-Weighted Totals") -> Table 34a. College Enrollment Rates in the First Two Years after High School Graduation for Classes 2022 and 2023, Student-Weighted Totals | N31: =CONCATENATE("Table 34b. College Enrollment Rates in the First Two Years after High School Graduation for Classes ",N33," and ",N34,", Student-Weighted Totals") -> Table 34b. College Enrollment Rates in the First Two Years after High School Graduation for Classes 2022 and 2023, Student-Weighted Totals
B32: N of total HS Graduates | C32: Total | D32: Public | E32: Private | F32: Two-year | G32: Four-year | H32: In-state | I32: Out-of-state | O32: N of total HS Graduates | P32: Total | Q32: Public | R32: Private | S32: Two-year | T32: Four-year | U32: In-state | V32: Out-of-state
A33: 2022 | B33: 679854 | C33: 0.58636266 | D33: 0.51377355 | E33: 0.072589115 | F33: 0.26681023 | G33: 0.31955243 | H33: 0.51923354 | I33: 0.067129119 | N33: 2022 | O33: 1635859 | P33: 0.68919387 | Q33: 0.55457591 | R33: 0.13461796 | S33: 0.20046777 | T33: 0.48872611 | U33: 0.52077838 | V33: 0.16841549
A34: 2023 | B34: 934312 | C34: 0.6044726 | D34: 0.52377364 | E34: 0.080698953 | F34: 0.25755422 | G34: 0.34691837 | H34: 0.53367933 | I34: 0.070793268 | N34: 2023 | O34: 1410061 | P34: 0.7076318 | Q34: 0.56731234 | R34: 0.14031946 | S34: 0.19590358 | T34: 0.51172822 | U34: 0.53151885 | V34: 0.17611295
A37: =CONCATENATE("Table 35a. Persistence Rates from First to Second Year of College for Class of ",A39," and ",A40,", School Percentile Distribution") -> Table 35a. Persistence Rates from First to Second Year of College for Class of 2022 and 2023, School Percentile Distribution | N37: =CONCATENATE("Table 35b. Persistence Rates from First to Second Year of College for Class of ",N39," and ",N40,", School Percentile Distribution") -> Table 35b. Persistence Rates from First to Second Year of College for Class of 2022 and 2023, School Percentile Distribution
B38: N of schools | C38: 25th percentile | D38: 50th percentile | E38: 75th percentile | O38: N of schools | P38: 25th percentile | Q38: 50th percentile | R38: 75th percentile
A39: 2022 | B39: 4008 | C39: 0.66666667 | D39: 0.75438596 | E39: 0.82352941 | N39: 2022 | O39: 8744 | P39: 0.75862069 | Q39: 0.83745583 | R39: 0.9
A40: 2023 | B40: 5451 | C40: 0.6875 | D40: 0.76708437 | E40: 0.82926829 | N40: 2023 | O40: 7380 | P40: 0.77966102 | Q40: 0.85714286 | R40: 0.91139241
A42: =CONCATENATE("Table 36a. Persistence Rates from First to Second Year of College for Class of ",A44," and ",A45,", Student-Weighted Totals") -> Table 36a. Persistence Rates from First to Second Year of College for Class of 2022 and 2023, Student-Weighted Totals | N42: =CONCATENATE("Table 36b. Persistence Rates from First to Second Year of College for Class of ",N44," and ",N45,", Student-Weighted Totals") -> Table 36b. Persistence Rates from First to Second Year of College for Class of 2022 and 2023, Student-Weighted Totals
B43: Students enrolled in first year | C43: Total | D43: Public | E43: Private | F43: Two-year | G43: Four-year | H43: In-state | I43: Out-of-state | O43: Students enrolled in first year | P43: Total | Q43: Public | R43: Private | S43: Two-year | T43: Four-year | U43: In-state | V43: Out-of-state
A44: 2022 | B44: 371535 | C44: 0.77403744 | D44: 0.76680602 | E44: 0.82523596 | F44: 0.67719084 | G44: 0.85012255 | H44: 0.76809091 | I44: 0.82198263 | N44: 2022 | O44: 1067519 | P44: 0.86237247 | Q44: 0.84902232 | R44: 0.91631959 | S44: 0.7224892 | T44: 0.91518473 | U44: 0.84283956 | V44: 0.92231115
A45: 2023 | B45: 528912 | C45: 0.78784562 | D45: 0.77864757 | E45: 0.84734323 | F45: 0.68395435 | G45: 0.86009886 | H45: 0.78096625 | I45: 0.84175005 | N45: 2023 | O45: 949689 | P45: 0.87631635 | Q45: 0.86383361 | R45: 0.92580743 | S45: 0.73771471 | T45: 0.92527547 | U45: 0.85732719 | V45: 0.9330244
A48: =CONCATENATE("Table 37a. Six-Year Completion Rates for Class of ",,A50," and ",A51,", School Percentile Distribution") -> Table 37a. Six-Year Completion Rates for Class of 2018 and 2019, School Percentile Distribution | N48: =CONCATENATE("Table 37b. Six-Year Completion Rates for Class of ",N50," and ",N51,", School Percentile Distribution") -> Table 37b. Six-Year Completion Rates for Class of 2018 and 2019, School Percentile Distribution
B49: N of schools | C49: 25th percentile | D49: 50th percentile | E49: 75th percentile | O49: N of schools | P49: 25th percentile | Q49: 50th percentile | R49: 75th percentile
A50: 2018 | B50: 4733 | C50: 0.18579235 | D50: 0.2653277 | E50: 0.34343434 | N50: 2018 | O50: 7469 | P50: 0.33093525 | Q50: 0.43455497 | R50: 0.5511811
A51: 2019 | B51: 4716 | C51: 0.18181818 | D51: 0.26174405 | E51: 0.34093509 | N51: 2019 | O51: 7497 | P51: 0.31884058 | Q51: 0.42307692 | R51: 0.54545455
A53: =CONCATENATE("Table 38a. Six-Year Completion Rates for Class of ",A55," and ",A56, ", Student-Weighted Totals") -> Table 38a. Six-Year Completion Rates for Class of 2018 and 2019, Student-Weighted Totals | N53: =CONCATENATE("Table 38b. Six-Year Completion Rates for Class of ",,N55," and ",N56, ", Student-Weighted Totals") -> Table 38b. Six-Year Completion Rates for Class of 2018 and 2019, Student-Weighted Totals
B54: N of total HS Graduates | C54: Total | D54: Public | E54: Private | F54: Two-year | G54: Four-year | H54: In-state | I54: Out-of-state | O54: N of total HS Graduates | P54: Total | Q54: Public | R54: Private | S54: Two-year | T54: Four-year | U54: In-state | V54: Out-of-state
A55: 2018 | B55: 834815 | C55: 0.28471697 | D55: 0.23732324 | E55: 0.047393734 | F55: 0.090319412 | G55: 0.1942095 | H55: 0.24749316 | I55: 0.037223816 | N55: 2018 | O55: 1474291 | P55: 0.4858627 | Q55: 0.36905672 | R55: 0.11680598 | S55: 0.091152968 | T55: 0.39469006 | U55: 0.35618273 | V55: 0.12967996
A56: 2019 | B56: 844415 | C56: 0.28055281 | D56: 0.23410408 | E56: 0.046448725 | F56: 0.091532007 | G56: 0.18883014 | H56: 0.24347033 | I56: 0.037082477 | N56: 2019 | O56: 1484563 | P56: 0.47848491 | Q56: 0.36644992 | R56: 0.11203499 | S56: 0.090970205 | T56: 0.38750595 | U56: 0.3495015 | V56: 0.12898341

Sheet 5 Public Non-Charter Minority
A1: Postsecondary Enrollment, Persistence, and Completion Across High School Minority Level
A2: High-Minority High Schools | N2: Low-Minority High Schools
A4: =CONCATENATE("Table 39a. College Enrollment Rates in the First Fall after High School Graduation for Classes ",A6," and ",A7,", School Percentile Distribution") -> Table 39a. College Enrollment Rates in the First Fall after High School Graduation for Classes 2024 and 2025, School Percentile Distribution | N4: =CONCATENATE("Table 39b. College Enrollment Rates in the First Fall after High School Graduation for Classes ",N6," and ",N7,", School Percentile Distribution") -> Table 39b. College Enrollment Rates in the First Fall after High School Graduation for Classes 2024 and 2025, School Percentile Distribution
B5: N of schools | C5: 25th percentile | D5: 50th percentile | E5: 75th percentile | O5: N of schools | P5: 25th percentile | Q5: 50th percentile | R5: 75th percentile
A6: 2024 | B6: 4306 | C6: 0.40168539 | D6: 0.52105496 | E6: 0.64772727 | N6: 2024 | O6: 8510 | P6: 0.43589744 | Q6: 0.55053342 | R6: 0.6779661
A7: 2025 | B7: 4184 | C7: 0.40390048 | D7: 0.52114244 | E7: 0.64260939 | N7: 2025 | O7: 7839 | P7: 0.44630072 | Q7: 0.55555556 | R7: 0.68085106
A9: =CONCATENATE("Table 40a. College Enrollment Rates in the First Fall after High School Graduation for Classes ",A11," and ",A12,", Student-Weighted Totals") -> Table 40a. College Enrollment Rates in the First Fall after High School Graduation for Classes 2024 and 2025, Student-Weighted Totals | N9: =CONCATENATE("Table 40b. College Enrollment Rates in the First Fall after High School Graduation for Classes ",N11," and ",N12,", Student-Weighted Totals") -> Table 40b. College Enrollment Rates in the First Fall after High School Graduation for Classes 2024 and 2025, Student-Weighted Totals
B10: N of total HS Graduates | C10: Total | D10: Public | E10: Private | F10: Two-year | G10: Four-year | H10: In-state | I10: Out-of-state | O10: N of total HS Graduates | P10: Total | Q10: Public | R10: Private | S10: Two-year | T10: Four-year | U10: In-state | V10: Out-of-state
A11: 2024 | B11: 1038687 | C11: 0.54932718 | D11: 0.47400035 | E11: 0.075326831 | F11: 0.21045127 | G11: 0.33887591 | H11: 0.47779167 | I11: 0.071535506 | N11: 2024 | O11: 1322207 | P11: 0.62609334 | Q11: 0.50043223 | R11: 0.12566111 | S11: 0.16469433 | T11: 0.46139901 | U11: 0.47025844 | V11: 0.1558349
A12: 2025 | B12: 1053545 | C12: 0.54371574 | D12: 0.46950439 | E12: 0.074211353 | F12: 0.20758772 | G12: 0.33612802 | H12: 0.47349662 | I12: 0.070219117 | N12: 2025 | O12: 1253139 | P12: 0.62467292 | Q12: 0.49984639 | R12: 0.12482654 | S12: 0.16588583 | T12: 0.45878709 | U12: 0.46836783 | V12: 0.15630509
A15: =CONCATENATE("Table 41a. College Enrollment Rates in the First Year after High School Graduation for Classes ",A17," and ",A18,", School Percentile Distribution") -> Table 41a. College Enrollment Rates in the First Year after High School Graduation for Classes 2023 and 2024, School Percentile Distribution | N15: =CONCATENATE("Table 41b. College Enrollment Rates in the First Year after High School Graduation for Classes ",N17," and ",N18,", School Percentile Distribution") -> Table 41b. College Enrollment Rates in the First Year after High School Graduation for Classes 2023 and 2024, School Percentile Distribution
B16: N of schools | C16: 25th percentile | D16: 50th percentile | E16: 75th percentile | O16: N of schools | P16: 25th percentile | Q16: 50th percentile | R16: 75th percentile
A17: 2023 | B17: 4120 | C17: 0.44332436 | D17: 0.56019324 | E17: 0.68345771 | N17: 2023 | O17: 8711 | P17: 0.46808511 | Q17: 0.58659218 | R17: 0.71428571
A18: 2024 | B18: 4306 | C18: 0.44318182 | D18: 0.56028369 | E18: 0.68421053 | N18: 2024 | O18: 8510 | P18: 0.46540881 | Q18: 0.57760177 | R18: 0.70165746
A20: =CONCATENATE("Table 42a. College Enrollment Rates in the First Year after High School Graduation for Classes ",A22," and ",A23,", Student-Weighted Totals") -> Table 42a. College Enrollment Rates in the First Year after High School Graduation for Classes 2023 and 2024, Student-Weighted Totals | N20: =CONCATENATE("Table 42b. College Enrollment Rates in the First Year after High School Graduation for Classes ",N22," and ",N23,", Student-Weighted Totals") -> Table 42b. College Enrollment Rates in the First Year after High School Graduation for Classes 2023 and 2024, Student-Weighted Totals
B21: N of total HS Graduates | C21: Total | D21: Public | E21: Private | F21: Two-year | G21: Four-year | H21: In-state | I21: Out-of-state | O21: N of total HS Graduates | P21: Total | Q21: Public | R21: Private | S21: Two-year | T21: Four-year | U21: In-state | V21: Out-of-state
A22: 2023 | B22: 978880 | C22: 0.58967391 | D22: 0.50674342 | E22: 0.082930492 | F22: 0.22387525 | G22: 0.36579867 | H22: 0.51204642 | I22: 0.077627493 | N22: 2023 | O22: 1365493 | P22: 0.66011397 | Q22: 0.5276153 | R22: 0.13249867 | S22: 0.17994014 | T22: 0.48017383 | U22: 0.4974555 | V22: 0.16265847
A23: 2024 | B23: 1038687 | C23: 0.58919097 | D23: 0.50876443 | E23: 0.080426539 | F23: 0.2336238 | G23: 0.35556717 | H23: 0.51241134 | I23: 0.076779627 | N23: 2024 | O23: 1322207 | P23: 0.65372215 | Q23: 0.52407906 | R23: 0.12964309 | S23: 0.17805608 | T23: 0.47566606 | U23: 0.49288803 | V23: 0.16083412
A26: =CONCATENATE("Table 43a. College Enrollment Rates in the First Two Years after High School Graduation for Classes ",A28," and ",A29,", School Percentile Distribution") -> Table 43a. College Enrollment Rates in the First Two Years after High School Graduation for Classes 2022 and 2023, School Percentile Distribution | N26: =CONCATENATE("Table 43b. College Enrollment Rates in the First Two Years after High School Graduation for Classes ",N28," and ",N29,", School Percentile Distribution") -> Table 43b. College Enrollment Rates in the First Two Years after High School Graduation for Classes 2022 and 2023, School Percentile Distribution
B27: N of schools | C27: 25th percentile | D27: 50th percentile | E27: 75th percentile | O27: N of schools | P27: 25th percentile | Q27: 50th percentile | R27: 75th percentile
A28: 2022 | B28: 3813 | C28: 0.46285714 | D28: 0.57653061 | E28: 0.70305677 | N28: 2022 | O28: 8939 | P28: 0.5 | Q28: 0.6122449 | R28: 0.73584906
A29: 2023 | B29: 4120 | C29: 0.48687252 | D29: 0.6029818 | E29: 0.72101158 | N29: 2023 | O29: 8711 | P29: 0.5 | Q29: 0.62162162 | R29: 0.74626866
A31: =CONCATENATE("Table 44a. College Enrollment Rates in the First Two Years after High School Graduation for Classes ",A33," and ",A34,", Student-Weighted Totals") -> Table 44a. College Enrollment Rates in the First Two Years after High School Graduation for Classes 2022 and 2023, Student-Weighted Totals | N31: =CONCATENATE("Table 44b. College Enrollment Rates in the First Two Years after High School Graduation for Classes ",N33," and ",N34,", Student-Weighted Totals") -> Table 44b. College Enrollment Rates in the First Two Years after High School Graduation for Classes 2022 and 2023, Student-Weighted Totals
B32: N of total HS Graduates | C32: Total | D32: Public | E32: Private | F32: Two-year | G32: Four-year | H32: In-state | I32: Out-of-state | O32: N of total HS Graduates | P32: Total | Q32: Public | R32: Private | S32: Two-year | T32: Four-year | U32: In-state | V32: Out-of-state
A33: 2022 | B33: 926895 | C33: 0.61605468 | D33: 0.53177113 | E33: 0.084283549 | F33: 0.24985246 | G33: 0.36620221 | H33: 0.52983024 | I33: 0.086224438 | N33: 2022 | O33: 1388818 | P33: 0.68766894 | Q33: 0.54982222 | R33: 0.13784672 | S33: 0.19998445 | T33: 0.48768449 | U33: 0.51398095 | V33: 0.17368799
A34: 2023 | B34: 978880 | C34: 0.62844067 | D34: 0.54049628 | E34: 0.087944385 | F34: 0.24911736 | G34: 0.37932331 | H34: 0.54387259 | I34: 0.084568078 | N34: 2023 | O34: 1365493 | P34: 0.69381681 | Q34: 0.55674544 | R34: 0.13707137 | S34: 0.19993951 | T34: 0.4938773 | U34: 0.5241411 | V34: 0.16967571
A37: =CONCATENATE("Table 45a. Persistence Rates from First to Second Year of College for Class of ",A39," and ",A40,", School Percentile Distribution") -> Table 45a. Persistence Rates from First to Second Year of College for Class of 2022 and 2023, School Percentile Distribution | N37: =CONCATENATE("Table 45b. Persistence Rates from First to Second Year of College for Class of ",N39," and ",N40,", School Percentile Distribution") -> Table 45b. Persistence Rates from First to Second Year of College for Class of 2022 and 2023, School Percentile Distribution
B38: N of schools | C38: 25th percentile | D38: 50th percentile | E38: 75th percentile | O38: N of schools | P38: 25th percentile | Q38: 50th percentile | R38: 75th percentile
A39: 2022 | B39: 3813 | C39: 0.69117647 | D39: 0.77204086 | E39: 0.84313725 | N39: 2022 | O39: 8939 | P39: 0.75 | Q39: 0.82954545 | R39: 0.89836282
A40: 2023 | B40: 4120 | C40: 0.69354839 | D40: 0.77777778 | E40: 0.84615385 | N40: 2023 | O40: 8711 | P40: 0.75 | Q40: 0.83673469 | R40: 0.90243902
A42: =CONCATENATE("Table 46a. Persistence Rates from First to Second Year of College for Class of ",A44," and ",A45,", Student-Weighted Totals") -> Table 46a. Persistence Rates from First to Second Year of College for Class of 2022 and 2023, Student-Weighted Totals | N42: =CONCATENATE("Table 46b. Persistence Rates from First to Second Year of College for Class of ",N44," and ",N45,", Student-Weighted Totals") -> Table 46b. Persistence Rates from First to Second Year of College for Class of 2022 and 2023, Student-Weighted Totals
B43: Students enrolled in first year | C43: Total | D43: Public | E43: Private | F43: Two-year | G43: Four-year | H43: In-state | I43: Out-of-state | O43: Students enrolled in first year | P43: Total | Q43: Public | R43: Private | S43: Two-year | T43: Four-year | U43: In-state | V43: Out-of-state
A44: 2022 | B44: 533336 | C44: 0.79859601 | D44: 0.79045828 | E44: 0.84970854 | F44: 0.68841585 | G44: 0.8683984 | H44: 0.78938221 | I44: 0.85666753 | N44: 2022 | O44: 905718 | P44: 0.86369157 | Q44: 0.84927005 | R44: 0.92006547 | S44: 0.72105715 | T44: 0.9178319 | U44: 0.84269036 | V44: 0.92526797
A45: 2023 | B45: 577220 | C45: 0.80555421 | D45: 0.79646642 | E45: 0.86108476 | F45: 0.69396798 | G45: 0.87384695 | H45: 0.79620615 | I45: 0.86721588 | N45: 2023 | O45: 901381 | P45: 0.86971769 | Q45: 0.85605208 | R45: 0.92413473 | S45: 0.7292629 | T45: 0.92235166 | U45: 0.84969938 | V45: 0.93093931
A48: =CONCATENATE("Table 47a. Six-Year Completion Rates for Class of ",,A50," and ",A51,", School Percentile Distribution") -> Table 47a. Six-Year Completion Rates for Class of 2018 and 2019, School Percentile Distribution | N48: =CONCATENATE("Table 47b. Six-Year Completion Rates for Class of ",N50," and ",N51,", School Percentile Distribution") -> Table 47b. Six-Year Completion Rates for Class of 2018 and 2019, School Percentile Distribution
B49: N of schools | C49: 25th percentile | D49: 50th percentile | E49: 75th percentile | O49: N of schools | P49: 25th percentile | Q49: 50th percentile | R49: 75th percentile
A50: 2018 | B50: 3405 | C50: 0.18934911 | D50: 0.27445652 | E50: 0.37402597 | N50: 2018 | O50: 8797 | P50: 0.2875 | Q50: 0.39622642 | R50: 0.52405063
A51: 2019 | B51: 3434 | C51: 0.18181818 | D51: 0.26976051 | E51: 0.3699284 | N51: 2019 | O51: 8779 | P51: 0.2815534 | Q51: 0.38596491 | R51: 0.51724138
A53: =CONCATENATE("Table 48a. Six-Year Completion Rates for Class of ",A55," and ",A56, ", Student-Weighted Totals") -> Table 48a. Six-Year Completion Rates for Class of 2018 and 2019, Student-Weighted Totals | N53: =CONCATENATE("Table 48b. Six-Year Completion Rates for Class of ",,N55," and ",N56, ", Student-Weighted Totals") -> Table 48b. Six-Year Completion Rates for Class of 2018 and 2019, Student-Weighted Totals
B54: N of total HS Graduates | C54: Total | D54: Public | E54: Private | F54: Two-year | G54: Four-year | H54: In-state | I54: Out-of-state | O54: N of total HS Graduates | P54: Total | Q54: Public | R54: Private | S54: Two-year | T54: Four-year | U54: In-state | V54: Out-of-state
A55: 2018 | B55: 890618 | C55: 0.31480949 | D55: 0.25920428 | E55: 0.055605209 | F55: 0.086008816 | G55: 0.22862215 | H55: 0.26558637 | I55: 0.049223124 | N55: 2018 | O55: 1418488 | P55: 0.47488171 | Q55: 0.36050076 | R55: 0.11438095 | S55: 0.093892229 | T55: 0.38097044 | U55: 0.34909848 | V55: 0.12578323
A56: 2019 | B56: 922108 | C56: 0.31052436 | D56: 0.25673023 | E56: 0.053794133 | F56: 0.086973543 | G56: 0.22336971 | H56: 0.26167 | I56: 0.048854364 | N56: 2019 | O56: 1406870 | P56: 0.46977119 | Q56: 0.35892869 | R56: 0.11084251 | S56: 0.093926944 | T56: 0.37583927 | U56: 0.34342832 | V56: 0.12634287

Sheet 6 Public Non-Charter Urbanicity
A1: Postsecondary Enrollment, Persistence, and Completion Across High School Urbanicity
A2: Urban High Schools | N2: Suburban High Schools | AA2: Rural High Schools
A4: =CONCATENATE("Table 49a. College Enrollment Rates in the First Fall after High School Graduation for Classes ",A6," and ",A7,", School Percentile Distribution") -> Table 49a. College Enrollment Rates in the First Fall after High School Graduation for Classes 2024 and 2025, School Percentile Distribution | N4: =CONCATENATE("Table 49b. College Enrollment Rates in the First Fall after High School Graduation for Classes ",N6," and ",N7,", School Percentile Distribution") -> Table 49b. College Enrollment Rates in the First Fall after High School Graduation for Classes 2024 and 2025, School Percentile Distribution | AA4: =CONCATENATE("Table 49c. College Enrollment Rates in the First Fall after High School Graduation for Classes ",AA6," and ",AA7,", School Percentile Distribution") -> Table 49c. College Enrollment Rates in the First Fall after High School Graduation for Classes 2024 and 2025, School Percentile Distribution
B5: N of schools | C5: 25th percentile | D5: 50th percentile | E5: 75th percentile | O5: N of schools | P5: 25th percentile | Q5: 50th percentile | R5: 75th percentile | AB5: N of schools | AC5: 25th percentile | AD5: 50th percentile | AE5: 75th percentile
A6: 2024 | B6: 2768 | C6: 0.42287867 | D6: 0.56327859 | E6: 0.71128678 | N6: 2024 | O6: 3112 | P6: 0.48164762 | Q6: 0.6259467 | R6: 0.75711827 | AA6: 2024 | AB6: 6936 | AC6: 0.4070282 | AD6: 0.50465126 | AE6: 0.61290323
A7: 2025 | B7: 2668 | C7: 0.42005917 | D7: 0.55854349 | E7: 0.71207326 | N7: 2025 | O7: 2992 | P7: 0.48986308 | Q7: 0.62094313 | R7: 0.74851059 | AA7: 2025 | AB7: 6363 | AC7: 0.41666667 | AD7: 0.51282051 | AE7: 0.61363636
A9: =CONCATENATE("Table 50a. College Enrollment Rates in the First Fall after High School Graduation for Classes ",A11," and ",A12,", Student-Weighted Totals") -> Table 50a. College Enrollment Rates in the First Fall after High School Graduation for Classes 2024 and 2025, Student-Weighted Totals | N9: =CONCATENATE("Table 50b. College Enrollment Rates in the First Fall after High School Graduation for Classes ",N11," and ",N12,", Student-Weighted Totals") -> Table 50b. College Enrollment Rates in the First Fall after High School Graduation for Classes 2024 and 2025, Student-Weighted Totals | AA9: =CONCATENATE("Table 50c. College Enrollment Rates in the First Fall after High School Graduation for Classes ",AA11," and ",AA12,", Student-Weighted Totals") -> Table 50c. College Enrollment Rates in the First Fall after High School Graduation for Classes 2024 and 2025, Student-Weighted Totals
B10: N of total HS Graduates | C10: Total | D10: Public | E10: Private | F10: Two-year | G10: Four-year | H10: In-state | I10: Out-of-state | O10: N of total HS Graduates | P10: Total | Q10: Public | R10: Private | S10: Two-year | T10: Four-year | U10: In-state | V10: Out-of-state | AB10: N of total HS Graduates | AC10: Total | AD10: Public | AE10: Private | AF10: Two-year | AG10: Four-year | AH10: In-state | AI10: Out-of-state
A11: 2024 | B11: 697940 | C11: 0.59400951 | D11: 0.49994412 | E11: 0.094065392 | F11: 0.19158953 | G11: 0.40241998 | H11: 0.48935582 | I11: 0.1046537 | N11: 2024 | O11: 978514 | P11: 0.63161488 | Q11: 0.50901265 | R11: 0.12260223 | S11: 0.17666891 | T11: 0.45494597 | U11: 0.48631599 | V11: 0.14529889 | AA11: 2024 | AB11: 684440 | AC11: 0.53441792 | AD11: 0.44855064 | AE11: 0.085867278 | AF11: 0.18958857 | AG11: 0.34482935 | AH11: 0.43925983 | AI11: 0.095158085
A12: 2025 | B12: 695996 | C12: 0.58720309 | D12: 0.49587641 | E12: 0.091326674 | F12: 0.19003701 | G12: 0.39716608 | H12: 0.48465221 | I12: 0.10255088 | N12: 2025 | O12: 950738 | P12: 0.62698767 | Q12: 0.50609526 | R12: 0.1208924 | S12: 0.17747581 | T12: 0.44951185 | U12: 0.48300583 | V12: 0.14398183 | AA12: 2025 | AB12: 659950 | AC12: 0.53161452 | AD12: 0.44659292 | AE12: 0.085021593 | AF12: 0.19029169 | AG12: 0.34132283 | AH12: 0.43829381 | AI12: 0.093320706
A15: =CONCATENATE("Table 51a. College Enrollment Rates in the First Year after High School Graduation for Classes ",A17," and ",A18,", School Percentile Distribution") -> Table 51a. College Enrollment Rates in the First Year after High School Graduation for Classes 2023 and 2024, School Percentile Distribution | N15: =CONCATENATE("Table 51b. College Enrollment Rates in the First Year after High School Graduation for Classes ",N17," and ",N18,", School Percentile Distribution") -> Table 51b. College Enrollment Rates in the First Year after High School Graduation for Classes 2023 and 2024, School Percentile Distribution | AA15: =CONCATENATE("Table 51c. College Enrollment Rates in the First Year after High School Graduation for Classes ",AA17," and ",AA18,", School Percentile Distribution") -> Table 51c. College Enrollment Rates in the First Year after High School Graduation for Classes 2023 and 2024, School Percentile Distribution
B16: N of schools | C16: 25th percentile | D16: 50th percentile | E16: 75th percentile | O16: N of schools | P16: 25th percentile | Q16: 50th percentile | R16: 75th percentile | AB16: N of schools | AC16: 25th percentile | AD16: 50th percentile | AE16: 75th percentile
A17: 2023 | B17: 2709 | C17: 0.46452703 | D17: 0.60857538 | E17: 0.75609756 | N17: 2023 | O17: 3188 | P17: 0.52772653 | Q17: 0.65923082 | R17: 0.78150607 | AA17: 2023 | AB17: 6934 | AC17: 0.44 | AD17: 0.53964325 | AE17: 0.64556962
A18: 2024 | B18: 2768 | C18: 0.46177512 | D18: 0.60322665 | E18: 0.74568837 | N18: 2024 | O18: 3112 | P18: 0.52578818 | Q18: 0.66011815 | R18: 0.78325625 | AA18: 2024 | AB18: 6936 | AC18: 0.43613022 | AD18: 0.5345767 | AE18: 0.63636364
A20: =CONCATENATE("Table 52a. College Enrollment Rates in the First Year after High School Graduation for Classes ",A22," and ",A23,", Student-Weighted Totals") -> Table 52a. College Enrollment Rates in the First Year after High School Graduation for Classes 2023 and 2024, Student-Weighted Totals | N20: =CONCATENATE("Table 52b. College Enrollment Rates in the First Year after High School Graduation for Classes ",N22," and ",N23,", Student-Weighted Totals") -> Table 52b. College Enrollment Rates in the First Year after High School Graduation for Classes 2023 and 2024, Student-Weighted Totals | AA20: =CONCATENATE("Table 52c. College Enrollment Rates in the First Year after High School Graduation for Classes ",AA22," and ",AA23,", Student-Weighted Totals") -> Table 52c. College Enrollment Rates in the First Year after High School Graduation for Classes 2023 and 2024, Student-Weighted Totals
B21: N of total HS Graduates | C21: Total | D21: Public | E21: Private | F21: Two-year | G21: Four-year | H21: In-state | I21: Out-of-state | O21: N of total HS Graduates | P21: Total | Q21: Public | R21: Private | S21: Two-year | T21: Four-year | U21: In-state | V21: Out-of-state | AB21: N of total HS Graduates | AC21: Total | AD21: Public | AE21: Private | AF21: Two-year | AG21: Four-year | AH21: In-state | AI21: Out-of-state
A22: 2023 | B22: 665914 | C22: 0.6348057 | D22: 0.53177137 | E22: 0.10303433 | F22: 0.20721144 | G22: 0.42759425 | H22: 0.52456924 | I22: 0.11023646 | N22: 2023 | O22: 984175 | P22: 0.66808952 | Q22: 0.53628572 | R22: 0.1318038 | S22: 0.18820738 | T22: 0.47988213 | U22: 0.51273198 | V22: 0.15535753 | AA22: 2023 | AB22: 694284 | AC22: 0.57376808 | AD22: 0.48191086 | AE22: 0.091857223 | AF22: 0.20400873 | AG22: 0.36975935 | AH22: 0.47036659 | AI22: 0.10340149
A23: 2024 | B23: 697940 | C23: 0.62893085 | D23: 0.53017022 | E23: 0.098760638 | F23: 0.2115583 | G23: 0.41737255 | H23: 0.51921655 | I23: 0.1097143 | N23: 2024 | O23: 978514 | P23: 0.66554081 | Q23: 0.53834794 | R23: 0.12719287 | S23: 0.19405752 | T23: 0.47148329 | U23: 0.51501971 | V23: 0.1505211 | AA23: 2024 | AB23: 684440 | AC23: 0.56417509 | AD23: 0.47422711 | AE23: 0.089947987 | AF23: 0.20534452 | AG23: 0.35883058 | AH23: 0.46402753 | AI23: 0.10014757
A26: =CONCATENATE("Table 53a. College Enrollment Rates in the First Two Years after High School Graduation for Classes ",A28," and ",A29,", School Percentile Distribution") -> Table 53a. College Enrollment Rates in the First Two Years after High School Graduation for Classes 2022 and 2023, School Percentile Distribution | N26: =CONCATENATE("Table 53b. College Enrollment Rates in the First Two Years after High School Graduation for Classes ",N28," and ",N29,", School Percentile Distribution") -> Table 53b. College Enrollment Rates in the First Two Years after High School Graduation for Classes 2022 and 2023, School Percentile Distribution | AA26: =CONCATENATE("Table 53c. College Enrollment Rates in the First Two Years after High School Graduation for Classes ",AA28," and ",AA29,", School Percentile Distribution") -> Table 53c. College Enrollment Rates in the First Two Years after High School Graduation for Classes 2022 and 2023, School Percentile Distribution
B27: N of schools | C27: 25th percentile | D27: 50th percentile | E27: 75th percentile | O27: N of schools | P27: 25th percentile | Q27: 50th percentile | R27: 75th percentile | AB27: N of schools | AC27: 25th percentile | AD27: 50th percentile | AE27: 75th percentile
A28: 2022 | B28: 2637 | C28: 0.45501285 | D28: 0.60714286 | E28: 0.75555556 | N28: 2022 | O28: 3179 | P28: 0.56382979 | Q28: 0.69308943 | R28: 0.80778032 | AA28: 2022 | AB28: 6936 | AC28: 0.46956522 | AD28: 0.57142857 | AE28: 0.67114275
A29: 2023 | B29: 2709 | C29: 0.51243781 | D29: 0.6501182 | E29: 0.78899083 | N29: 2023 | O29: 3188 | P29: 0.5696167 | Q29: 0.69841295 | R29: 0.81233108 | AA29: 2023 | AB29: 6934 | AC29: 0.47619048 | AD29: 0.57538073 | AE29: 0.67567568
A31: =CONCATENATE("Table 54a. College Enrollment Rates in the First Two Years after High School Graduation for Classes ",A33," and ",A34,", Student-Weighted Totals") -> Table 54a. College Enrollment Rates in the First Two Years after High School Graduation for Classes 2022 and 2023, Student-Weighted Totals | N31: =CONCATENATE("Table 54b. College Enrollment Rates in the First Two Years after High School Graduation for Classes ",N33," and ",N34,", Student-Weighted Totals") -> Table 54b. College Enrollment Rates in the First Two Years after High School Graduation for Classes 2022 and 2023, Student-Weighted Totals | AA31: =CONCATENATE("Table 54c. College Enrollment Rates in the First Two Years after High School Graduation for Classes ",AA33," and ",AA34,", Student-Weighted Totals") -> Table 54c. College Enrollment Rates in the First Two Years after High School Graduation for Classes 2022 and 2023, Student-Weighted Totals
B32: N of total HS Graduates | C32: Total | D32: Public | E32: Private | F32: Two-year | G32: Four-year | H32: In-state | I32: Out-of-state | O32: N of total HS Graduates | P32: Total | Q32: Public | R32: Private | S32: Two-year | T32: Four-year | U32: In-state | V32: Out-of-state | AB32: N of total HS Graduates | AC32: Total | AD32: Public | AE32: Private | AF32: Two-year | AG32: Four-year | AH32: In-state | AI32: Out-of-state
A33: 2022 | B33: 629003 | C33: 0.6518236 | D33: 0.55083998 | E33: 0.10098362 | F33: 0.23242337 | G33: 0.41940023 | H33: 0.53115327 | I33: 0.12067033 | N33: 2022 | O33: 992931 | P33: 0.7015845 | Q33: 0.56260808 | R33: 0.13897642 | S33: 0.20865196 | T33: 0.49293254 | U33: 0.53415796 | V33: 0.16742654 | AA33: 2022 | AB33: 693779 | AC33: 0.60457437 | AD33: 0.50648405 | AE33: 0.098090314 | AF33: 0.22479349 | AG33: 0.37978088 | AH33: 0.49070958 | AI33: 0.11386479
A34: 2023 | B34: 665914 | C34: 0.6714786 | D34: 0.56370192 | E34: 0.10777668 | F34: 0.23028199 | G34: 0.44119661 | H34: 0.55429079 | I34: 0.11718781 | N34: 2023 | O34: 984175 | P34: 0.7036208 | Q34: 0.56697539 | R34: 0.13664541 | S34: 0.21005309 | T34: 0.49356771 | U34: 0.54136713 | V34: 0.16225366 | AA34: 2023 | AB34: 694284 | AC34: 0.60917002 | AD34: 0.51266197 | AE34: 0.096508057 | AF34: 0.22583698 | AG34: 0.38333305 | AH34: 0.49862448 | AI34: 0.11054554
A37: =CONCATENATE("Table 55a. Persistence Rates from First to Second Year of College for Class of ",A39," and ",A40,", School Percentile Distribution") -> Table 55a. Persistence Rates from First to Second Year of College for Class of 2022 and 2023, School Percentile Distribution | N37: =CONCATENATE("Table 55b. Persistence Rates from First to Second Year of College for Class of ",N39," and ",N40,", School Percentile Distribution") -> Table 55b. Persistence Rates from First to Second Year of College for Class of 2022 and 2023, School Percentile Distribution | AA37: =CONCATENATE("Table 55c. Persistence Rates from First to Second Year of College for Class of ",AA39," and ",AA40,", School Percentile Distribution") -> Table 55c. Persistence Rates from First to Second Year of College for Class of 2022 and 2023, School Percentile Distribution
B38: N of schools | C38: 25th percentile | D38: 50th percentile | E38: 75th percentile | O38: N of schools | P38: 25th percentile | Q38: 50th percentile | R38: 75th percentile | AB38: N of schools | AC38: 25th percentile | AD38: 50th percentile | AE38: 75th percentile
A39: 2022 | B39: 2637 | C39: 0.69924812 | D39: 0.8 | E39: 0.88115942 | N39: 2022 | O39: 3179 | P39: 0.78378378 | Q39: 0.859375 | R39: 0.91304348 | AA39: 2022 | AB39: 6936 | AC39: 0.71052632 | AD39: 0.79545455 | AE39: 0.86446886
A40: 2023 | B40: 2709 | C40: 0.7037037 | D40: 0.79850746 | E40: 0.87671233 | N40: 2023 | O40: 3188 | P40: 0.78947368 | Q40: 0.86343612 | R40: 0.91538462 | AA40: 2023 | AB40: 6934 | AC40: 0.7173913 | AD40: 0.8 | AE40: 0.86956522
A42: =CONCATENATE("Table 56a. Persistence Rates from First to Second Year of College for Class of ",A44," and ",A45,", Student-Weighted Totals") -> Table 56a. Persistence Rates from First to Second Year of College for Class of 2022 and 2023, Student-Weighted Totals | N42: =CONCATENATE("Table 56b. Persistence Rates from First to Second Year of College for Class of ",N44," and ",N45,", Student-Weighted Totals") -> Table 56b. Persistence Rates from First to Second Year of College for Class of 2022 and 2023, Student-Weighted Totals | AA42: =CONCATENATE("Table 56c. Persistence Rates from First to Second Year of College for Class of ",AA44," and ",AA45,", Student-Weighted Totals") -> Table 56c. Persistence Rates from First to Second Year of College for Class of 2022 and 2023, Student-Weighted Totals
B43: Students enrolled in first year | C43: Total | D43: Public | E43: Private | F43: Two-year | G43: Four-year | H43: In-state | I43: Out-of-state | O43: Students enrolled in first year | P43: Total | Q43: Public | R43: Private | S43: Two-year | T43: Four-year | U43: In-state | V43: Out-of-state | AB43: Students enrolled in first year | AC43: Total | AD43: Public | AE43: Private | AF43: Two-year | AG43: Four-year | AH43: In-state | AI43: Out-of-state
A44: 2022 | B44: 384968 | C44: 0.82674144 | D44: 0.81701381 | E44: 0.87924817 | F44: 0.70004521 | G44: 0.89171038 | H44: 0.81090113 | I44: 0.89669921 | N44: 2022 | O44: 659594 | P44: 0.86536718 | Q44: 0.85159234 | R44: 0.91999819 | S44: 0.73036182 | T44: 0.91793154 | U44: 0.84501306 | V44: 0.92959566 | AA44: 2022 | AB44: 394492 | AC44: 0.80894163 | AD44: 0.79527196 | AE44: 0.87854595 | AF44: 0.68033602 | AG44: 0.88024256 | AH44: 0.79369679 | AI44: 0.87543492
A45: 2023 | B45: 422726 | C45: 0.83421649 | D45: 0.82334502 | E45: 0.89032531 | F45: 0.70415625 | G45: 0.89724346 | H45: 0.81904454 | I45: 0.90641347 | N45: 2023 | O45: 657517 | P45: 0.86812812 | Q45: 0.85503762 | R45: 0.92139102 | S45: 0.73391855 | T45: 0.92076445 | U45: 0.84814256 | V45: 0.93408721 | AA45: 2023 | AB45: 398358 | AC45: 0.81704146 | AD45: 0.80392907 | AE45: 0.88583301 | AF45: 0.69302457 | AG45: 0.88546576 | AH45: 0.80279146 | AI45: 0.88186377
A48: =CONCATENATE("Table 57a. Six-Year Completion Rates for Class of ",,A50," and ",A51,", School Percentile Distribution") -> Table 57a. Six-Year Completion Rates for Class of 2018 and 2019, School Percentile Distribution | N48: =CONCATENATE("Table 57b. Six-Year Completion Rates for Class of ",N50," and ",N51,", School Percentile Distribution") -> Table 57b. Six-Year Completion Rates for Class of 2018 and 2019, School Percentile Distribution | AA48: =CONCATENATE("Table 57c. Six-Year Completion Rates for Class of ",AA50," and ",AA51,", School Percentile Distribution") -> Table 57c. Six-Year Completion Rates for Class of 2018 and 2019, School Percentile Distribution
B49: N of schools | C49: 25th percentile | D49: 50th percentile | E49: 75th percentile | O49: N of schools | P49: 25th percentile | Q49: 50th percentile | R49: 75th percentile | AB49: N of schools | AC49: 25th percentile | AD49: 50th percentile | AE49: 75th percentile
A50: 2018 | B50: 2349 | C50: 0.18571429 | D50: 0.31330472 | E50: 0.45617978 | N50: 2018 | O50: 3084 | P50: 0.29215795 | Q50: 0.43434361 | R50: 0.58801188 | AA50: 2018 | AB50: 6769 | AC50: 0.25688073 | AD50: 0.34920635 | AE50: 0.45454545
A51: 2019 | B51: 2334 | C51: 0.17953668 | D51: 0.30788038 | E51: 0.45356371 | N51: 2019 | O51: 3108 | P51: 0.28743423 | Q51: 0.42482877 | R51: 0.57935044 | AA51: 2019 | AB51: 6771 | AC51: 0.25 | AD51: 0.34 | AE51: 0.44594595
A53: =CONCATENATE("Table 58a. Six-Year Completion Rates for Class of ",A55," and ",A56, ", Student-Weighted Totals") -> Table 58a. Six-Year Completion Rates for Class of 2018 and 2019, Student-Weighted Totals | N53: =CONCATENATE("Table 58b. Six-Year Completion Rates for Class of ",,N55," and ",N56, ", Student-Weighted Totals") -> Table 58b. Six-Year Completion Rates for Class of 2018 and 2019, Student-Weighted Totals | AA53: =CONCATENATE("Table 58c. Six-Year Completion Rates for Class of ",,AA55," and ",AA56, ", Student-Weighted Totals") -> Table 58c. Six-Year Completion Rates for Class of 2017 and 2018, Student-Weighted Totals
B54: N of total HS Graduates | C54: Total | D54: Public | E54: Private | F54: Two-year | G54: Four-year | H54: In-state | I54: Out-of-state | O54: N of total HS Graduates | P54: Total | Q54: Public | R54: Private | S54: Two-year | T54: Four-year | U54: In-state | V54: Out-of-state | AB54: N of total HS Graduates | AC54: Total | AD54: Public | AE54: Private | AF54: Two-year | AG54: Four-year | AH54: In-state | AI54: Out-of-state
A55: 2018 | B55: 627958 | C55: 0.37143567 | D55: 0.29713452 | E55: 0.074301148 | F55: 0.081597814 | G55: 0.28971524 | H55: 0.29355466 | I55: 0.077881005 | N55: 2018 | O55: 988801 | P55: 0.46134561 | Q55: 0.34657125 | R55: 0.11477436 | S55: 0.084242431 | T55: 0.37701317 | U55: 0.33901361 | V55: 0.122332 | AA55: 2017 | AB55: 692347 | AC55: 0.3821263 | AD55: 0.30756254 | AE55: 0.074563766 | AF55: 0.10868394 | AG55: 0.27341348 | AH55: 0.30645182 | AI55: 0.075674481
A56: 2019 | B56: 637541 | C56: 0.3663733 | D56: 0.29473085 | E56: 0.071642451 | F56: 0.083094264 | G56: 0.28316297 | H56: 0.2886732 | I56: 0.077700101 | N56: 2019 | O56: 998277 | P56: 0.45538663 | Q56: 0.34474299 | R56: 0.11064364 | S56: 0.084369368 | T56: 0.3709201 | U56: 0.33416677 | V56: 0.12121986 | AA56: 2018 | AB56: 693160 | AC56: 0.37374344 | AD56: 0.30245109 | AE56: 0.071292342 | AF56: 0.10840499 | AG56: 0.26533412 | AH56: 0.29836546 | AI56: 0.075377979

Sheet 7 Public Charter Schools
A1: Postsecondary Enrollment, Persistence, and Completion for Public Charter High School Graduates
A4: =CONCATENATE("Table 59. College Enrollment Rates in the First Fall after High School Graduation for Classes ",A6," and ",A7,", School Percentile Distribution") -> Table 59. College Enrollment Rates in the First Fall after High School Graduation for Classes 2024 and 2025, School Percentile Distribution
B5: N of schools | C5: 25th percentile | D5: 50th percentile | E5: 75th percentile
A6: 2024 | B6: 1622 | C6: 0.29824561 | D6: 0.52515823 | E6: 0.70689655
A7: 2025 | B7: 1555 | C7: 0.28947368 | D7: 0.53191489 | E7: 0.71428571
A9: =CONCATENATE("Table 60. College Enrollment Rates in the First Fall after High School Graduation for Classes ",A11," and ",A12,", Student-Weighted Totals") -> Table 60. College Enrollment Rates in the First Fall after High School Graduation for Classes 2024 and 2025, Student-Weighted Totals
B10: N of total HS Graduates | C10: Total | D10: Public | E10: Private | F10: Two-year | G10: Four-year | H10: In-state | I10: Out-of-state
A11: 2024 | B11: 119358 | C11: 0.53165268 | D11: 0.43062049 | E11: 0.10103219 | F11: 0.15546507 | G11: 0.3761876 | H11: 0.44590224 | I11: 0.085750431
A12: 2025 | B12: 126658 | C12: 0.51380884 | D12: 0.41669693 | E12: 0.097111908 | F12: 0.15081558 | G12: 0.36299326 | H12: 0.43049788 | I12: 0.083310963
A15: =CONCATENATE("Table 61. College Enrollment Rates in the First Year after High School Graduation for Classes ",A17," and ",A18,", School Percentile Distribution") -> Table 61. College Enrollment Rates in the First Year after High School Graduation for Classes 2023 and 2024, School Percentile Distribution
B16: N of schools | C16: 25th percentile | D16: 50th percentile | E16: 75th percentile
A17: 2023 | B17: 1570 | C17: 0.33333333 | D17: 0.56898526 | E17: 0.75409836
A18: 2024 | B18: 1622 | C18: 0.33333333 | D18: 0.56736587 | E18: 0.74193548
A20: =CONCATENATE("Table 62. College Enrollment Rates in the First Year after High School Graduation for Classes ",A22," and ",A23,", Student-Weighted Totals") -> Table 62. College Enrollment Rates in the First Year after High School Graduation for Classes 2023 and 2024, Student-Weighted Totals
B21: N of total HS Graduates | C21: Total | D21: Public | E21: Private | F21: Two-year | G21: Four-year | H21: In-state | I21: Out-of-state
A22: 2023 | B22: 112769 | C22: 0.56840089 | D22: 0.45851253 | E22: 0.10988836 | F22: 0.17029503 | G22: 0.39810586 | H22: 0.47300233 | I22: 0.095398558
A23: 2024 | B23: 119358 | C23: 0.56896061 | D23: 0.4621056 | E23: 0.10685501 | F23: 0.17557265 | G23: 0.39338796 | H23: 0.47696007 | I23: 0.092000536
A26: =CONCATENATE("Table 63. College Enrollment Rates in the First Two Years after High School Graduation for Classes ",A28," and ",A29,", School Percentile Distribution") -> Table 63. College Enrollment Rates in the First Two Years after High School Graduation for Classes 2022 and 2023, School Percentile Distribution
B27: N of schools | C27: 25th percentile | D27: 50th percentile | E27: 75th percentile
A28: 2022 | B28: 1528 | C28: 0.35165158 | D28: 0.57746479 | E28: 0.76028169
A29: 2023 | B29: 1570 | C29: 0.38586156 | D29: 0.62359266 | E29: 0.78947368
A31: =CONCATENATE("Table 64. College Enrollment Rates in the First Two Years after High School Graduation for Classes ",A33," and ",A34,", Student-Weighted Totals") -> Table 64. College Enrollment Rates in the First Two Years after High School Graduation for Classes 2022 and 2023, Student-Weighted Totals
B32: N of total HS Graduates | C32: Total | D32: Public | E32: Private | F32: Two-year | G32: Four-year | H32: In-state | I32: Out-of-state
A33: 2022 | B33: 107849 | C33: 0.59811403 | D33: 0.48444585 | E33: 0.11366818 | F33: 0.19954752 | G33: 0.39856651 | H33: 0.48980519 | I33: 0.10830884
A34: 2023 | B34: 112769 | C34: 0.60855377 | D34: 0.49273293 | E34: 0.11582084 | F34: 0.19476097 | G34: 0.4137928 | H34: 0.50482845 | I34: 0.10372531
A37: =CONCATENATE("Table 65. Persistence Rates from First to Second Year of College for Class of ",A39," and ",A40,", School Percentile Distribution") -> Table 65. Persistence Rates from First to Second Year of College for Class of 2022 and 2023, School Percentile Distribution
B38: N of schools | C38: 25th percentile | D38: 50th percentile | E38: 75th percentile
A39: 2022 | B39: 1528 | C39: 0.63348416 | D39: 0.76190476 | E39: 0.87234043
A40: 2023 | B40: 1570 | C40: 0.66666667 | D40: 0.77315609 | E40: 0.87719298
A42: =CONCATENATE("Table 66. Persistence Rates from First to Second Year of College for Class of ",A44," and ",A45,", Student-Weighted Totals") -> Table 66. Persistence Rates from First to Second Year of College for Class of 2022 and 2023, Student-Weighted Totals
B43: Students enrolled in first year | C43: Total | D43: Public | E43: Private | F43: Two-year | G43: Four-year | H43: In-state | I43: Out-of-state
A44: 2022 | B44: 60015 | C44: 0.78470382 | D44: 0.7720696 | E44: 0.83762753 | F44: 0.65965961 | G44: 0.8414906 | H44: 0.76973684 | I44: 0.85316244
A45: 2023 | B45: 64098 | C45: 0.79648351 | D45: 0.78453178 | E45: 0.84635249 | F45: 0.66647573 | G45: 0.85209605 | H45: 0.78295838 | I45: 0.86354341
A48: =CONCATENATE("Table 67. Six-Year Completion Rates for Class of ",,A50," and ",A51,", School Percentile Distribution") -> Table 67. Six-Year Completion Rates for Class of 2018 and 2019, School Percentile Distribution
B49: N of schools | C49: 25th percentile | D49: 50th percentile | E49: 75th percentile
A50: 2018 | B50: 1403 | C50: 0.090909091 | D50: 0.23958333 | E50: 0.4137931
A51: 2019 | B51: 1400 | C51: 0.08452381 | D51: 0.23223304 | E51: 0.4
A53: =CONCATENATE("Table 68. Six-Year Completion Rates for Class of ",A55," and ",A56, ", Student-Weighted Totals") -> Table 68. Six-Year Completion Rates for Class of 2018 and 2019, Student-Weighted Totals
B54: N of total HS Graduates | C54: Total | D54: Public | E54: Private | F54: Two-year | G54: Four-year | H54: In-state | I54: Out-of-state
A55: 2018 | B55: 89890 | C55: 0.31363889 | D55: 0.24161753 | E55: 0.072021359 | F55: 0.074936033 | G55: 0.23860274 | H55: 0.24841473 | I55: 0.065224163
A56: 2019 | B56: 92574 | C56: 0.29945773 | D56: 0.2280986 | E56: 0.071359129 | F56: 0.072482554 | G56: 0.22686715 | H56: 0.23560611 | I56: 0.063851621

Sheet 8 Private Schools
A1: Postsecondary Enrollment, Persistence, and Completion for Private High School Graduates
A3: * Data are suppressed (*) when grade 12 coverage is under 10%, there are fewer than 3 schools, or fewer than 30 students.
A4: =CONCATENATE("Table 69. College Enrollment Rates in the First Fall after High School Graduation for Classes ",A6," and ",A7,", School Percentile Distribution") -> Table 69. College Enrollment Rates in the First Fall after High School Graduation for Classes 2024 and 2025, School Percentile Distribution
B5: N of schools | C5: 25th percentile | D5: 50th percentile | E5: 75th percentile
A6: 2024 | B6: 245 | C6: 0.71724138 | D6: 0.85714286 | E6: 0.91176471
A7: 2025 | B7: 221 | C7: 0.7 | D7: 0.8375 | E7: 0.89265537
A9: =CONCATENATE("Table 70. College Enrollment Rates in the First Fall after High School Graduation for Classes ",A11," and ",A12,", Student-Weighted Totals") -> Table 70. College Enrollment Rates in the First Fall after High School Graduation for Classes 2024 and 2025, Student-Weighted Totals
B10: N of total HS Graduates | C10: Total | D10: Public | E10: Private | F10: Two-year | G10: Four-year | H10: In-state | I10: Out-of-state
A11: 2024 | B11: 22861 | C11: 0.85110013 | D11: 0.52666113 | E11: 0.324439 | F11: 0.090897161 | G11: 0.76020297 | H11: 0.52985434 | I11: 0.32124579
A12: 2025 | B12: 20671 | C12: 0.82889072 | D12: 0.51163466 | E12: 0.31725606 | F12: 0.087223647 | G12: 0.74166707 | H12: 0.52701853 | I12: 0.30187219
A15: =CONCATENATE("Table 71. College Enrollment Rates in the First Year after High School Graduation for Classes ",A17," and ",A18,", School Percentile Distribution") -> Table 71. College Enrollment Rates in the First Year after High School Graduation for Classes 2023 and 2024, School Percentile Distribution
B16: N of schools | C16: 25th percentile | D16: 50th percentile | E16: 75th percentile
A17: 2023 | B17: 249 | C17: 0.73214286 | D17: 0.86084906 | E17: 0.92465753
A18: 2024 | B18: 245 | C18: 0.72764228 | D18: 0.86842105 | E18: 0.92198582
A20: =CONCATENATE("Table 72. College Enrollment Rates in the First Year after High School Graduation for Classes ",A22," and ",A23,", Student-Weighted Totals") -> Table 72. College Enrollment Rates in the First Year after High School Graduation for Classes 2023 and 2024, Student-Weighted Totals
B21: N of total HS Graduates | C21: Total | D21: Public | E21: Private | F21: Two-year | G21: Four-year | H21: In-state | I21: Out-of-state
A22: 2023 | B22: 24134 | C22: 0.86214469 | D22: 0.51052457 | E22: 0.35162012 | F22: 0.086185464 | G22: 0.77595923 | H22: 0.51939173 | I22: 0.34275296
A23: 2024 | B23: 22861 | C23: 0.8666725 | D23: 0.53606579 | E23: 0.33060671 | F23: 0.094440313 | G23: 0.77223219 | H23: 0.54048379 | I23: 0.32618871
A26: =CONCATENATE("Table 73. College Enrollment Rates in the First Two Years after High School Graduation for Classes ",A28," and ",A29,", School Percentile Distribution") -> Table 73. College Enrollment Rates in the First Two Years after High School Graduation for Classes 2022 and 2023, School Percentile Distribution
B27: N of schools | C27: 25th percentile | D27: 50th percentile | E27: 75th percentile
A28: 2022 | B28: 238 | C28: 0.77586207 | D28: 0.87609649 | E28: 0.93023256
A29: 2023 | B29: 249 | C29: 0.78125 | D29: 0.88392857 | E29: 0.94009217
A31: =CONCATENATE("Table 74. College Enrollment Rates in the First Two Years after High School Graduation for Classes ",A33," and ",A34,", Student-Weighted Totals") -> Table 74. College Enrollment Rates in the First Two Years after High School Graduation for Classes 2022 and 2023, Student-Weighted Totals
B32: N of total HS Graduates | C32: Total | D32: Public | E32: Private | F32: Two-year | G32: Four-year | H32: In-state | I32: Out-of-state
A33: 2022 | B33: 23325 | C33: 0.88038585 | D33: 0.52385852 | E33: 0.35652733 | F33: 0.087245445 | G33: 0.79314041 | H33: 0.51879957 | I33: 0.36158628
A34: 2023 | B34: 24134 | C34: 0.88485125 | D34: 0.52539985 | E34: 0.3594514 | F34: 0.094348222 | G34: 0.79050302 | H34: 0.53418414 | I34: 0.35066711
A37: =CONCATENATE("Table 75. Persistence Rates from First to Second Year of College for Class of ",A39," and ",A40,", School Percentile Distribution") -> Table 75. Persistence Rates from First to Second Year of College for Class of 2022 and 2023, School Percentile Distribution
B38: N of schools | C38: 25th percentile | D38: 50th percentile | E38: 75th percentile
A39: 2022 | B39: 238 | C39: 0.84707692 | D39: 0.92580582 | E39: 0.97549627
A40: 2023 | B40: 249 | C40: 0.85714286 | D40: 0.93103448 | E40: 0.97159091
A42: =CONCATENATE("Table 76. Persistence Rates from First to Second Year of College for Class of ",A44," and ",A45,", Student-Weighted Totals") -> Table 76. Persistence Rates from First to Second Year of College for Class of 2022 and 2023, Student-Weighted Totals
B43: Students enrolled in first year | C43: Total | D43: Public | E43: Private | F43: Two-year | G43: Four-year | H43: In-state | I43: Out-of-state
A44: 2022 | B44: 19988 | C44: 0.92335401 | D44: 0.90415011 | E44: 0.95120755 | F44: 0.74108612 | G44: 0.94164602 | H44: 0.90005104 | I44: 0.95663265
A45: 2023 | B45: 20807 | C45: 0.92992743 | D45: 0.91437383 | E45: 0.95251002 | F45: 0.76009615 | G45: 0.94879052 | H45: 0.90793777 | I45: 0.96324952
A48: =CONCATENATE("Table 77. Six-Year Completion Rates for Class of ",,A50," and ",A51,", School Percentile Distribution") -> Table 77. Six-Year Completion Rates for Class of 2018 and 2019, School Percentile Distribution
B49: N of schools | C49: 25th percentile | D49: 50th percentile | E49: 75th percentile
A50: 2018 | B50: 318 | C50: 0.46808511 | D50: 0.66666667 | E50: 0.78733032
A51: 2019 | B51: 315 | C51: 0.47524752 | D51: 0.67320261 | E51: 0.78947368
A53: =CONCATENATE("Table 78. Six-Year Completion Rates for Class of ",A55," and ",A56, ", Student-Weighted Totals") -> Table 78. Six-Year Completion Rates for Class of 2018 and 2019, Student-Weighted Totals
B54: N of total HS Graduates | C54: Total | D54: Public | E54: Private | F54: Two-year | G54: Four-year | H54: In-state | I54: Out-of-state
A55: 2018 | B55: 34108 | C55: 0.69423596 | D55: 0.38093702 | E55: 0.31329893 | F55: 0.048170517 | G55: 0.64594816 | H55: 0.40107893 | I55: 0.29315703
A56: 2019 | B56: 33564 | C56: 0.68770111 | D56: 0.38145036 | E56: 0.30625074 | F56: 0.045495173 | G56: 0.64205697 | H56: 0.40075676 | I56: 0.28694435

Sheet 9 Income Trend Adjustment
A1: Income Level Designation Changes, First Fall and First Year Enrollment
A3: Low-Income Schools | M3: Higher-Income Schools
A5: =CONCATENATE("Table 79a. Low-Income High School and Student Counts ",A7," to ",A11) -> Table 79a. Low-Income High School and Student Counts Class of 2019 to Class of 2025 | M5: =CONCATENATE("Table 79b. Higher-Income High School and Student Counts ",M7," to ",M11) -> Table 79b. Higher-Income High School and Student Counts Class of 2019 to Class of 2025
A6: High School Graduating Class | B6: N Schools in NSC | C6: N Schools in NCES | D6: N of Students in NSC | E6: N of Students in NCES | M6: High School Graduating Class | N6: N Schools in NSC | O6: N Schools in NCES | P6: N of Students in NSC | Q6: N of Students in NCES
A7: Class of 2019 | B7: 4716 | C7: 7056 | D7: 893657 | E7: 1209282 | M7: Class of 2019 | N7: 7497 | O7: 10077 | P7: 1545736 | Q7: 2017906
A8: Class of 2022 | B8: 4008 | C8: 5919 | D8: 770429 | E8: 1034721 | M8: Class of 2022 | N8: 8744 | O8: 11463 | P8: 1714836 | Q8: 2174830
A9: Class of 2023 | B9: 5451 | C9: 7713 | D9: 992812 | E9: 1316376 | M9: Class of 2023 | N9: 7380 | O9: 9731 | P9: 1476389 | Q9: 1883954
A10: Class of 2024 | B10: 5701 | C10: 8212 | D10: 1026662 | E10: 1385947 | M10: Class of 2024 | N10: 7115 | O10: 9248 | P10: 1436695 | Q10: 1841232
A11: Class of 2025 | B11: 5179 | C11: 7827 | D11: 1001434 | E11: 1383553 | M11: Class of 2025 | N11: 6844 | O11: 9638 | P11: 1392647 | Q11: 1924337
A29: Table 80a. College Enrollment Rates in the First Fall after High School Graduation for Class of 2025 and Class of 2025 Adjusted to 2024 High School Income Designations | L29: Table 80b. College Enrollment Rates in the First Fall after High School Graduation for Class of 2025 and Class of 2025 Adjusted to 2024 High School Income Designations
B30: N of total HS Graduates | C30: Total | D30: Public | E30: Private | F30: Two-year | G30: Four-year | H30: In-state | I30: Out-of-state | M30: N of total HS Graduates | N30: Total | O30: Public | P30: Private | Q30: Two-year | R30: Four-year | S30: In-state | T30: Out-of-state
A31: 2025 | B31: 507633 | C31: 0.52580863 | D31: 0.45666867 | E31: 0.069139961 | F31: 0.21443228 | G31: 0.31137635 | H31: 0.46513533 | I31: 0.060673294 | L31: 2025 | M31: 847998 | N31: 0.63224408 | O31: 0.50709226 | P31: 0.12515182 | Q31: 0.16369867 | R31: 0.46854541 | S31: 0.47472322 | T31: 0.15752085
A32: 2025 Adjusted | B32: 505941 | C32: 0.52022107 | D32: 0.45193769 | E32: 0.068283379 | F32: 0.20950388 | G32: 0.31071719 | H32: 0.46161431 | I32: 0.058606755 | L32: 2025 Adjusted | M32: 849690 | N32: 0.63688505 | O32: 0.51081001 | P32: 0.12607504 | Q32: 0.1670207 | R32: 0.46986435 | S32: 0.47734111 | T32: 0.15954394
A35: Table 81a. College Enrollment Rates in the First Year after High School Graduation for Class of 2024 and Class of 2024 Adjusted to 2023 High School Income Designations | L35: Table 81b. College Enrollment Rates in the First Year after High School Graduation for Class 2024 of and Class of 2024 Adjusted to 2023 High School Income Designations
B36: N of total HS Graduates | C36: Total | D36: Public | E36: Private | F36: Two-year | G36: Four-year | H36: In-state | I36: Out-of-state | M36: N of total HS Graduates | N36: Total | O36: Public | P36: Private | Q36: Two-year | R36: Four-year | S36: In-state | T36: Out-of-state
A37: 2024 | B37: 558708 | C37: 0.56378773 | D37: 0.48913612 | E37: 0.074651611 | F37: 0.23525767 | G37: 0.32853006 | H37: 0.49823308 | I37: 0.065554647 | L37: 2024 | M37: 917633 | N37: 0.66985205 | O37: 0.53774498 | P37: 0.13210707 | Q37: 0.17880888 | R37: 0.49104317 | S37: 0.50382436 | T37: 0.16602769
A38: 2024 Adjusted | B38: 534442 | C38: 0.56158745 | D38: 0.48742044 | E38: 0.074167011 | F38: 0.23834593 | G38: 0.32324153 | H38: 0.498314 | I38: 0.063273449 | L38: 2024 Adjusted | M38: 941899 | N38: 0.668378 | O38: 0.53754707 | P38: 0.13083093 | Q38: 0.17829866 | R38: 0.49007934 | S38: 0.50361367 | T38: 0.16476433
A41: Table 82a. College Enrollment Rates in the First Fall after High School Graduation for Class of 2025 and Class of 2025 Adjusted to 2024 High School Income Designations by Minority Levels | L41: Table 82b. College Enrollment Rates in the First Fall after High School Graduation for Class of 2025 and Class of 2025 Adjusted to 2024 High School Income Designations by Minority Levels
B42: 2025 | E42: 2025 Adjusted | M42: 2025 | P42: 2025 Adjusted
B43: Low Income, High Minority | C43: Low Income, Low Minority | E43: Low Income, High Minority | F43: Low Income, Low Minority | M43: Higher Income, High Minority | N43: Higher Income, Low Minority | P43: Higher Income, High Minority | Q43: Higher Income, Low Minority
A44: Overall | B44: 0.52760125 | C44: 0.51977442 | E44: 0.52458925 | F44: 0.50639752 | L44: Overall | M44: 0.58250305 | N44: 0.64714831 | P44: 0.58865647 | Q44: 0.65176229
B45: 392701 | C45: 114932 | E45: 387683 | F45: 118258 | M45: 180128 | N45: 667870 | P45: 185146 | Q45: 664544
A46: Public | B46: 0.46215576 | C46: 0.43819844 | E46: 0.45951271 | F46: 0.42796581 | L46: Public | M46: 0.48719242 | N46: 0.51305498 | P46: 0.49298144 | Q46: 0.51630965
B47: 343989 | C47: 96894 | E47: 339590 | F47: 99942 | M47: 150655 | N47: 529483 | P47: 155054 | Q47: 526435
A48: Private | B48: 0.065445497 | C48: 0.081575984 | E48: 0.065076547 | F48: 0.078431708 | L48: Private | M48: 0.095310625 | N48: 0.13409333 | P48: 0.095675038 | Q48: 0.13545264
B49: 48712 | C49: 18038 | E49: 48093 | F49: 18316 | M49: 29473 | N49: 138387 | P49: 30092 | Q49: 138109
A50: Two-Year | B50: 0.21880013 | C50: 0.19972956 | E50: 0.2143265 | F50: 0.19424223 | L50: Two-Year | M50: 0.18059962 | N50: 0.15863452 | P50: 0.19175386 | Q50: 0.15939118
B51: 162856 | C51: 44164 | E51: 158392 | F51: 45361 | M51: 55847 | N51: 163714 | P51: 60311 | Q51: 162517
A52: Four-Year | B52: 0.30880112 | C52: 0.32004486 | E52: 0.31026275 | F52: 0.31215529 | L52: Four-Year | M52: 0.40190343 | N52: 0.48851379 | P52: 0.39690261 | Q52: 0.49237111
B53: 229845 | C53: 70768 | E53: 229291 | F53: 72897 | M53: 124281 | N53: 504156 | P53: 124835 | Q53: 502027
A54: In-State | B54: 0.470014 | C54: 0.44871314 | E54: 0.4683433 | F54: 0.44031979 | L54: In-State | M54: 0.48187924 | N54: 0.47257902 | P54: 0.48560519 | Q54: 0.47479186
B55: 349838 | C55: 99219 | E55: 346116 | F55: 102827 | M55: 149012 | N55: 487711 | P55: 152734 | Q55: 484103
A56: Out-of-State | B56: 0.057587255 | C56: 0.071061284 | E56: 0.056245957 | F56: 0.066077729 | L56: Out-of-State | M56: 0.10062381 | N56: 0.17456929 | P56: 0.10305129 | Q56: 0.17697043
B57: 42863 | C57: 15713 | E57: 41567 | F57: 15431 | M57: 31116 | N57: 180159 | P57: 32412 | Q57: 180441
A60: Table 83a. College Enrollment Rates in the First Year after High School Graduation for Class of 2024 and Class of 2024 Adjusted to 2023 High School Income Designations by Minority Levels | L60: Table 83b. College Enrollment Rates in the First Year after High School Graduation for Class of 2024 and Class of 2024 Adjusted to 2023 High School Income Designations by Minority Levels
B61: 2024 | E61: 2024 Adjusted | M61: 2024 | P61: 2024 Adjusted
B62: Low Income, High Minority | C62: Low Income, Low Minority | E62: Low Income, High Minority | F62: Low Income, Low Minority | M62: Higher Income, High Minority | N62: Higher Income, Low Minority | P62: Higher Income, High Minority | Q62: Higher Income, Low Minority
A63: Overall | B63: 0.57123093 | C63: 0.54112865 | E63: 0.5670437 | F63: 0.54296618 | L63: Overall | M63: 0.63495745 | N63: 0.67933504 | P63: 0.64304452 | Q63: 0.67530765
B64: 426112 | C64: 132596 | E64: 417347 | F64: 117095 | M64: 185873 | N64: 731760 | P64: 194638 | Q64: 747261
A65: Public | B65: 0.49899189 | C65: 0.45913254 | E65: 0.49523033 | F65: 0.46076658 | L65: Public | M65: 0.5336672 | N65: 0.53885316 | P65: 0.5416741 | Q65: 0.53641818
B66: 372225 | C66: 112504 | E66: 364492 | F66: 99368 | M66: 156222 | N66: 580437 | P66: 163955 | Q66: 593573
A67: Private | B67: 0.072239039 | C67: 0.081996115 | E67: 0.071813371 | F67: 0.082199594 | L67: Private | M67: 0.10129025 | N67: 0.14048187 | P67: 0.10137042 | Q67: 0.13888947
B68: 53887 | C68: 20092 | E68: 52855 | F68: 17727 | M68: 29651 | N68: 151323 | P68: 30683 | Q68: 153688
A69: Two-Year | B69: 0.24230717 | C69: 0.21379716 | E69: 0.24365052 | F69: 0.22024224 | L69: Two-Year | M69: 0.21149648 | N69: 0.16992567 | P69: 0.2092427 | Q69: 0.16983432
B70: 180750 | C70: 52388 | E70: 179328 | F70: 47497 | M70: 61912 | N70: 183039 | P70: 63334 | Q70: 187930
A71: Four-Year | B71: 0.32892377 | C71: 0.32733149 | E71: 0.32339318 | F71: 0.32272394 | L71: Four-Year | M71: 0.42346097 | N71: 0.50940937 | P71: 0.43380181 | Q71: 0.50547332
B72: 245362 | C72: 80208 | E72: 238019 | F72: 69598 | M72: 123961 | N72: 548721 | P72: 131304 | Q72: 559331
A73: In-State | B73: 0.50776187 | C73: 0.46922493 | E73: 0.5061202 | F73: 0.47167274 | L73: In-State | M73: 0.52425931 | N73: 0.49827093 | P73: 0.52770895 | Q73: 0.49702273
B74: 378767 | C74: 114977 | E74: 372507 | F74: 101720 | M74: 153468 | N74: 536723 | P74: 159728 | Q74: 549980
A75: Out-of-State | B75: 0.063469061 | C75: 0.07190372 | E75: 0.060923499 | F75: 0.071293437 | L75: Out-of-State | M75: 0.11069814 | N75: 0.1810641 | P75: 0.11533557 | Q75: 0.17828492
B76: 47345 | C76: 17619 | E76: 44840 | F76: 15375 | M76: 32405 | N76: 195037 | P76: 34910 | Q76: 197281
A79: Table 84a. College Enrollment Rates in the First Two Years after High School Graduation for Class of 2023 and Class of 2023 Adjusted to 2022 High School Income Designations | L79: Table 84b. College Enrollment Rates in the First Two Years after High School Graduation for Class 2023 of and Class of 2023 Adjusted to 2022 High School Income Designations
B80: N of total HS Graduates | C80: Total | D80: Public | E80: Private | F80: Two-year | G80: Four-year | H80: In-state | I80: Out-of-state | M80: N of total HS Graduates | N80: Total | O80: Public | P80: Private | Q80: Two-year | R80: Four-year | S80: In-state | T80: Out-of-state
A81: 2023 | B81: 564766 | C81: 0.6044726 | D81: 0.52377364 | E81: 0.34691837 | F81: 0.080698953 | G81: 0.25755422 | H81: 0.53367933 | I81: 0.070793268 | L81: 2023 | M81: 997804 | N81: 0.7076318 | O81: 0.56731234 | P81: 0.51172822 | Q81: 0.14031946 | R81: 0.19590358 | S81: 0.53151885 | T81: 0.17611295
A82: 2023 Adjusted | B82: 436598 | C82: 0.61028686 | D82: 0.53162715 | E82: 0.34473258 | F82: 0.078659711 | G82: 0.26555428 | H82: 0.54404401 | I82: 0.066242847 | L82: 2023 Adjusted | M82: 1125972 | N82: 0.69121503 | O82: 0.55801225 | P82: 0.49053976 | Q82: 0.13320278 | R82: 0.20067527 | S82: 0.52725732 | T82: 0.1639577
A85: Table 85a. Persistence Rates from First to Second Year of College for Class of 2023 and Class of 2023 Adjusted to 2022 High School Income Designations | L85: Table 85b. Persistence Rates from First to Second Year of College for Class of 2023 and Class of 2023 Adjusted to 2022 High School Income Designations
B86: N of total HS Graduates | C86: Total | D86: Public | E86: Private | F86: Two-year | G86: Four-year | H86: In-state | I86: Out-of-state | M86: N of total HS Graduates | N86: Total | O86: Public | P86: Private | Q86: Two-year | R86: Four-year | S86: In-state | T86: Out-of-state
A87: 2023 | B87: 416701 | C87: 0.78784562 | D87: 0.77864757 | E87: 0.84734323 | F87: 0.68395435 | G87: 0.86009886 | H87: 0.78096625 | I87: 0.84175005 | L87: 2023 | M87: 832228 | N87: 0.87631635 | O87: 0.86383361 | P87: 0.92580743 | Q87: 0.73771471 | R87: 0.92527547 | S87: 0.85732719 | T87: 0.9330244
A88: 2023 Adjusted | B88: 322399 | C88: 0.78705121 | D88: 0.77830238 | E88: 0.84597953 | F88: 0.68582084 | G88: 0.86043153 | H88: 0.7807457 | I88: 0.84112106 | L88: 2023 Adjusted | M88: 926530 | N88: 0.86674861 | O88: 0.8539289 | P88: 0.91945054 | Q88: 0.72838709 | R88: 0.91892073 | S88: 0.84783496 | T88: 0.92702377

Sheet 10 Poverty Trend Adjustment
A1: Poverty Level Designation Changes, First Fall and First Year Enrollment
A3: High-Poverty Schools | M3: Low-Poverty Schools
A5: =CONCATENATE("Table 86a. High-Poverty High School and Student Counts ",A7," to ",A11) -> Table 86a. High-Poverty High School and Student Counts Class of 2019 to Class of 2025 | M5: =CONCATENATE("Table 86b. Low-Poverty High School and Student Counts ",M7," to ",M11) -> Table 86b. Low-Poverty High School and Student Counts Class of 2019 to Class of 2025
A6: High School Graduating Class | B6: N Schools in NSC | C6: N Schools in NCES | D6: N of Students in NSC | E6: N of Students in NCES | M6: High School Graduating Class | N6: N Schools in NSC | O6: N Schools in NCES | P6: N of Students in NSC | Q6: N of Students in NCES
A7: Class of 2019 | B7: 1886 | C7: 2850 | D7: 340751 | E7: 451565 | M7: Class of 2019 | N7: 2309 | O7: 2863 | P7: 613568 | Q7: 758647
A8: Class of 2022 | B8: 1958 | C8: 2640 | D8: 348715 | E8: 444819 | M8: Class of 2022 | N8: 2566 | O8: 3091 | P8: 637222 | Q8: 774817
A9: Class of 2023 | B9: 2478 | C9: 3340 | D9: 408487 | E9: 531729 | M9: Class of 2023 | N9: 1998 | O9: 2411 | P9: 507003 | Q9: 610249
A10: Class of 2024 | B10: 2542 | C10: 3530 | D10: 425539 | E10: 562866 | M10: Class of 2024 | N10: 1652 | O10: 1984 | P10: 435690 | Q10: 530145
A11: Class of 2025 | B11: 2483 | C11: 3601 | D11: 464108 | E11: 611790 | M11: Class of 2025 | N11: 1542 | O11: 2007 | P11: 406531 | Q11: 539015
A29: Table 87a. College Enrollment Rates in the First Fall after High School Graduation for Class of 2025 and Class of 2025 Adjusted to 2024 High School Income Designations | L29: Table 87b. College Enrollment Rates in the First Fall after High School Graduation for Class of 2025 and Class of 2025 Adjusted to 2024 High School Income Designations
B30: N of total HS Graduates | C30: Total | D30: Public | E30: Private | F30: Two-year | G30: Four-year | H30: In-state | I30: Out-of-state | M30: N of total HS Graduates | N30: Total | O30: Public | P30: Private | Q30: Two-year | R30: Four-year | S30: In-state | T30: Out-of-state
A31: 2025 | B31: 230048 | C31: 0.51164301 | D31: 0.45368595 | E31: 0.057957058 | F31: 0.22254274 | G31: 0.28910027 | H31: 0.46478629 | I31: 0.046856721 | L31: 2025 | M31: 290842 | N31: 0.7393411 | O31: 0.57825004 | P31: 0.16109106 | Q31: 0.13830139 | R31: 0.60103971 | S31: 0.49853831 | T31: 0.24080279
A32: 2025 Adjusted | B32: 203452 | C32: 0.50652034 | D32: 0.45044141 | E32: 0.056078931 | F32: 0.22039456 | G32: 0.28612579 | H32: 0.46212276 | I32: 0.044397584 | L32: 2025 Adjusted | M32: 289162 | N32: 0.73647079 | O32: 0.57795085 | P32: 0.15851994 | Q32: 0.14363832 | R32: 0.59283247 | S32: 0.49635282 | T32: 0.24011797
A35: Table 88a. College Enrollment Rates in the First Year after High School Graduation for Class of 2024 and Class of 2024 Adjusted to 2023 High School Income Designations | L35: Table 88b. College Enrollment Rates in the First Year after High School Graduation for Class of 2024 and Class of 2024 Adjusted to 2023 High School Income Designations
B36: N of total HS Graduates | C36: Total | D36: Public | E36: Private | F36: Two-year | G36: Four-year | H36: In-state | I36: Out-of-state | M36: N of total HS Graduates | N36: Total | O36: Public | P36: Private | Q36: Two-year | R36: Four-year | S36: In-state | T36: Out-of-state
A37: 2024 | B37: 227500 | C37: 0.54643759 | D37: 0.48424458 | E37: 0.062193004 | F37: 0.24751581 | G37: 0.29892178 | H37: 0.49643915 | I37: 0.049998439 | L37: 2024 | M37: 315852 | N37: 0.75591976 | O37: 0.5948334 | P37: 0.16108635 | Q37: 0.15034056 | R37: 0.6055792 | S37: 0.51672179 | T37: 0.23919797
A38: 2024 Adjusted | B38: 219269 | C38: 0.54628509 | D38: 0.48333259 | E38: 0.062952499 | F38: 0.24849894 | G38: 0.29778615 | H38: 0.49474815 | I38: 0.05153694 | L38: 2024 Adjusted | M38: 359963 | N38: 0.7412335 | O38: 0.58617416 | P38: 0.15505934 | Q38: 0.15266861 | R38: 0.58856489 | S38: 0.51511963 | T38: 0.22611387
A41: Table 89a. College Enrollment Rates in the First Two Years after High School Graduation for Class of 2023 and Class of 2023 Adjusted to 2022 High School Income Designations | L41: Table 89b. College Enrollment Rates in the First Two Years after High School Graduation for Class of 2023 and Class of 2023 Adjusted to 2022 High School Income Designations
B42: N of total HS Graduates | C42: Total | D42: Public | E42: Private | F42: Two-year | G42: Four-year | H42: In-state | I42: Out-of-state | M42: N of total HS Graduates | N42: Total | O42: Public | P42: Private | Q42: Two-year | R42: Four-year | S42: In-state | T42: Out-of-state
A43: 2023 | B43: 230955 | C43: 0.58700708 | D43: 0.5163873 | E43: 0.31917803 | F43: 0.070619782 | G43: 0.26782905 | H43: 0.5278476 | I43: 0.059159476 | L43: 2023 | M43: 380174 | N43: 0.77862226 | O43: 0.61244201 | P43: 0.61023624 | Q43: 0.16618025 | R43: 0.16838602 | S43: 0.53965572 | T43: 0.23896654
A44: 2023 Adjusted | B44: 196137 | C44: 0.59191871 | D44: 0.52308983 | E44: 0.32087048 | F44: 0.06882888 | G44: 0.27104823 | H44: 0.53853536 | I44: 0.05338335 | L44: 2023 Adjusted | M44: 460106 | N44: 0.75976862 | O44: 0.60101356 | P44: 0.56599134 | Q44: 0.15875506 | R44: 0.19377728 | S44: 0.53155038 | T44: 0.22821824
A47: Table 90a. Persistence Rates from First to Second Year of College for Class of 2023 and Class of 2023 Adjusted to 2022 High School Income Designations | L47: Table 90b. Persistence Rates from First to Second Year of College for Class of 2023 and Class of 2023 Adjusted to 2022 High School Income Designations
B48: N of total HS Graduates | C48: Total | D48: Public | E48: Private | F48: Two-year | G48: Four-year | H48: In-state | I48: Out-of-state | M48: N of total HS Graduates | N48: Total | O48: Public | P48: Private | Q48: Two-year | R48: Four-year | S48: In-state | T48: Out-of-state
A49: 2023 | B49: 164397 | C49: 0.76006269 | D49: 0.75364875 | E49: 0.80738245 | F49: 0.66578341 | G49: 0.83457215 | H49: 0.75501542 | I49: 0.80763484 | L49: 2023 | M49: 330414 | N49: 0.90576496 | O49: 0.89714232 | P49: 0.93699401 | Q49: 0.76673749 | R49: 0.94107921 | S49: 0.88545152 | T49: 0.95092599
A50: 2023 Adjusted | B50: 139809 | C50: 0.75969114 | D50: 0.753728 | E50: 0.805301 | F50: 0.66536156 | G50: 0.83505044 | H50: 0.755545 | I50: 0.80419536 | L50: 2023 Adjusted | M50: 394905 | N50: 0.89734413 | O50: 0.88821224 | P50: 0.93129845 | Q50: 0.76103126 | R50: 0.94034812 | S50: 0.87571302 | T50: 0.946852
